| Back to Multiple platform build/check report for BioC 3.15 |
|
This page was generated on 2022-03-18 11:07:28 -0400 (Fri, 18 Mar 2022).
| Hostname | OS | Arch (*) | R version | Installed pkgs |
|---|---|---|---|---|
| nebbiolo1 | Linux (Ubuntu 20.04.4 LTS) | x86_64 | R Under development (unstable) (2022-02-17 r81757) -- "Unsuffered Consequences" | 4334 |
| riesling1 | Windows Server 2019 Standard | x64 | R Under development (unstable) (2021-11-21 r81221) -- "Unsuffered Consequences" | 4097 |
| palomino3 | Windows Server 2022 Datacenter | x64 | R Under development (unstable) (2022-02-17 r81757 ucrt) -- "Unsuffered Consequences" | 4083 |
| merida1 | macOS 10.14.6 Mojave | x86_64 | R Under development (unstable) (2022-03-02 r81842) -- "Unsuffered Consequences" | 4134 |
| Click on any hostname to see more info about the system (e.g. compilers) (*) as reported by 'uname -p', except on Windows and Mac OS X | ||||
|
To the developers/maintainers of the esATAC package: - Please allow up to 24 hours (and sometimes 48 hours) for your latest push to git@git.bioconductor.org:packages/esATAC.git to reflect on this report. See How and When does the builder pull? When will my changes propagate? here for more information. - Make sure to use the following settings in order to reproduce any error or warning you see on this page. |
| Package 607/2090 | Hostname | OS / Arch | INSTALL | BUILD | CHECK | BUILD BIN | ||||||||
| esATAC 1.17.0 (landing page) Zheng Wei
| nebbiolo1 | Linux (Ubuntu 20.04.4 LTS) / x86_64 | OK | OK | WARNINGS | |||||||||
| riesling1 | Windows Server 2019 Standard / x64 | OK | OK | WARNINGS | OK | |||||||||
| palomino3 | Windows Server 2022 Datacenter / x64 | OK | OK | WARNINGS | OK | |||||||||
| merida1 | macOS 10.14.6 Mojave / x86_64 | OK | OK | WARNINGS | OK | |||||||||
| Package: esATAC |
| Version: 1.17.0 |
| Command: rm -rf esATAC.buildbin-libdir && mkdir esATAC.buildbin-libdir && D:\biocbuild\bbs-3.15-bioc\R\bin\R.exe CMD INSTALL --build --library=esATAC.buildbin-libdir esATAC_1.17.0.tar.gz |
| StartedAt: 2022-03-17 21:07:16 -0400 (Thu, 17 Mar 2022) |
| EndedAt: 2022-03-17 21:09:25 -0400 (Thu, 17 Mar 2022) |
| EllapsedTime: 129.4 seconds |
| RetCode: 0 |
| Status: OK |
| PackageFile: esATAC_1.17.0.zip |
| PackageFileSize: 8.568 MiB |
##############################################################################
##############################################################################
###
### Running command:
###
### rm -rf esATAC.buildbin-libdir && mkdir esATAC.buildbin-libdir && D:\biocbuild\bbs-3.15-bioc\R\bin\R.exe CMD INSTALL --build --library=esATAC.buildbin-libdir esATAC_1.17.0.tar.gz
###
##############################################################################
##############################################################################
* installing *source* package 'esATAC' ...
** using staged installation
** libs
"C:/rtools40/mingw64/bin/"g++ -std=gnu++11 -I"D:/biocbuild/bbs-3.15-bioc/R/include" -DNDEBUG -DNDEBUG -DPLF_SYS_WIN -DR_EVN_FLAG -I'D:/biocbuild/bbs-3.15-bioc/R/library/Rcpp/include' -I"C:/extsoft/include" -O2 -Wall -mfpmath=sse -msse2 -mstackrealign -fno-reorder-blocks-and-partition -c BedLine.cpp -o BedLine.o
"C:/rtools40/mingw64/bin/"g++ -std=gnu++11 -I"D:/biocbuild/bbs-3.15-bioc/R/include" -DNDEBUG -DNDEBUG -DPLF_SYS_WIN -DR_EVN_FLAG -I'D:/biocbuild/bbs-3.15-bioc/R/library/Rcpp/include' -I"C:/extsoft/include" -O2 -Wall -mfpmath=sse -msse2 -mstackrealign -fno-reorder-blocks-and-partition -c BedUtils.cpp -o BedUtils.o
"C:/rtools40/mingw64/bin/"g++ -std=gnu++11 -I"D:/biocbuild/bbs-3.15-bioc/R/include" -DNDEBUG -DNDEBUG -DPLF_SYS_WIN -DR_EVN_FLAG -I'D:/biocbuild/bbs-3.15-bioc/R/library/Rcpp/include' -I"C:/extsoft/include" -O2 -Wall -mfpmath=sse -msse2 -mstackrealign -fno-reorder-blocks-and-partition -c ChrDivi.cpp -o ChrDivi.o
"C:/rtools40/mingw64/bin/"g++ -std=gnu++11 -I"D:/biocbuild/bbs-3.15-bioc/R/include" -DNDEBUG -DNDEBUG -DPLF_SYS_WIN -DR_EVN_FLAG -I'D:/biocbuild/bbs-3.15-bioc/R/library/Rcpp/include' -I"C:/extsoft/include" -O2 -Wall -mfpmath=sse -msse2 -mstackrealign -fno-reorder-blocks-and-partition -c CutCountPre.cpp -o CutCountPre.o
"C:/rtools40/mingw64/bin/"g++ -std=gnu++11 -I"D:/biocbuild/bbs-3.15-bioc/R/include" -DNDEBUG -DNDEBUG -DPLF_SYS_WIN -DR_EVN_FLAG -I'D:/biocbuild/bbs-3.15-bioc/R/library/Rcpp/include' -I"C:/extsoft/include" -O2 -Wall -mfpmath=sse -msse2 -mstackrealign -fno-reorder-blocks-and-partition -c CutSiteCount.cpp -o CutSiteCount.o
"C:/rtools40/mingw64/bin/"g++ -std=gnu++11 -I"D:/biocbuild/bbs-3.15-bioc/R/include" -DNDEBUG -DNDEBUG -DPLF_SYS_WIN -DR_EVN_FLAG -I'D:/biocbuild/bbs-3.15-bioc/R/library/Rcpp/include' -I"C:/extsoft/include" -O2 -Wall -mfpmath=sse -msse2 -mstackrealign -fno-reorder-blocks-and-partition -c LibComplexQC.cpp -o LibComplexQC.o
"C:/rtools40/mingw64/bin/"g++ -std=gnu++11 -I"D:/biocbuild/bbs-3.15-bioc/R/include" -DNDEBUG -DNDEBUG -DPLF_SYS_WIN -DR_EVN_FLAG -I'D:/biocbuild/bbs-3.15-bioc/R/library/Rcpp/include' -I"C:/extsoft/include" -O2 -Wall -mfpmath=sse -msse2 -mstackrealign -fno-reorder-blocks-and-partition -c RcppExports.cpp -o RcppExports.o
"C:/rtools40/mingw64/bin/"g++ -std=gnu++11 -I"D:/biocbuild/bbs-3.15-bioc/R/include" -DNDEBUG -DNDEBUG -DPLF_SYS_WIN -DR_EVN_FLAG -I'D:/biocbuild/bbs-3.15-bioc/R/library/Rcpp/include' -I"C:/extsoft/include" -O2 -Wall -mfpmath=sse -msse2 -mstackrealign -fno-reorder-blocks-and-partition -c SortBed.cpp -o SortBed.o
"C:/rtools40/mingw64/bin/"g++ -std=gnu++11 -I"D:/biocbuild/bbs-3.15-bioc/R/include" -DNDEBUG -DNDEBUG -DPLF_SYS_WIN -DR_EVN_FLAG -I'D:/biocbuild/bbs-3.15-bioc/R/library/Rcpp/include' -I"C:/extsoft/include" -O2 -Wall -mfpmath=sse -msse2 -mstackrealign -fno-reorder-blocks-and-partition -c rcpp_wrapper.cpp -o rcpp_wrapper.o
rcpp_wrapper.cpp: In function 'int CutSiteCount_wrapper(Rcpp::List)':
rcpp_wrapper.cpp:334:7: warning: variable 'tmp_k' set but not used [-Wunused-but-set-variable]
int tmp_k;
^~~~~
"C:/rtools40/mingw64/bin/"g++ -std=gnu++11 -I"D:/biocbuild/bbs-3.15-bioc/R/include" -DNDEBUG -DNDEBUG -DPLF_SYS_WIN -DR_EVN_FLAG -I'D:/biocbuild/bbs-3.15-bioc/R/library/Rcpp/include' -I"C:/extsoft/include" -O2 -Wall -mfpmath=sse -msse2 -mstackrealign -fno-reorder-blocks-and-partition -c renamer.cpp -o renamer.o
"C:/rtools40/mingw64/bin/"g++ -std=gnu++11 -I"D:/biocbuild/bbs-3.15-bioc/R/include" -DNDEBUG -DNDEBUG -DPLF_SYS_WIN -DR_EVN_FLAG -I'D:/biocbuild/bbs-3.15-bioc/R/library/Rcpp/include' -I"C:/extsoft/include" -O2 -Wall -mfpmath=sse -msse2 -mstackrealign -fno-reorder-blocks-and-partition -c sam2bed.cc -o sam2bed.o
C:/rtools40/mingw64/bin/g++ -shared -s -static-libgcc -o esATAC.dll tmp.def BedLine.o BedUtils.o ChrDivi.o CutCountPre.o CutSiteCount.o LibComplexQC.o RcppExports.o SortBed.o rcpp_wrapper.o renamer.o sam2bed.o -LC:/extsoft/lib/x64 -LC:/extsoft/lib -LD:/biocbuild/bbs-3.15-bioc/R/bin/x64 -lR
installing to D:/biocbuild/bbs-3.15-bioc/meat/esATAC.buildbin-libdir/00LOCK-esATAC/00new/esATAC/libs/x64
** R
** inst
** byte-compile and prepare package for lazy loading
** help
*** installing help indices
converting help for package 'esATAC'
finding HTML links ... done
ATACProc-class html
BamToBed html
BedToBigWig html
REDIRECT:topic Previous alias or file overwritten by alias: D:/biocbuild/bbs-3.15-bioc/meat/esATAC.buildbin-libdir/00LOCK-esATAC/00new/esATAC/help/bedToBigWig.html
BedUtils html
REDIRECT:topic Previous alias or file overwritten by alias: D:/biocbuild/bbs-3.15-bioc/meat/esATAC.buildbin-libdir/00LOCK-esATAC/00new/esATAC/help/bedUtils.html
Bowtie2Mapping html
REDIRECT:topic Previous alias or file overwritten by alias: D:/biocbuild/bbs-3.15-bioc/meat/esATAC.buildbin-libdir/00LOCK-esATAC/00new/esATAC/help/bowtie2Mapping.html
finding level-2 HTML links ... done
CutSiteCountR html
CutSitePre html
FRiPQC html
REDIRECT:topic Previous alias or file overwritten by alias: D:/biocbuild/bbs-3.15-bioc/meat/esATAC.buildbin-libdir/00LOCK-esATAC/00new/esATAC/help/fripQC.html
FastQC html
FindAdapter html
REDIRECT:topic Previous alias or file overwritten by alias: D:/biocbuild/bbs-3.15-bioc/meat/esATAC.buildbin-libdir/00LOCK-esATAC/00new/esATAC/help/findAdapter.html
FragLenDistr html
REDIRECT:topic Previous alias or file overwritten by alias: D:/biocbuild/bbs-3.15-bioc/meat/esATAC.buildbin-libdir/00LOCK-esATAC/00new/esATAC/help/fragLenDistr.html
LibComplexQC html
REDIRECT:topic Previous alias or file overwritten by alias: D:/biocbuild/bbs-3.15-bioc/meat/esATAC.buildbin-libdir/00LOCK-esATAC/00new/esATAC/help/libComplexQC.html
PeakCallingFseq html
PeakCallingMACS2 html
REDIRECT:topic Previous alias or file overwritten by alias: D:/biocbuild/bbs-3.15-bioc/meat/esATAC.buildbin-libdir/00LOCK-esATAC/00new/esATAC/help/peakCallingMACS2.html
PeakQC html
REDIRECT:topic Previous alias or file overwritten by alias: D:/biocbuild/bbs-3.15-bioc/meat/esATAC.buildbin-libdir/00LOCK-esATAC/00new/esATAC/help/peakQC.html
RGo html
RMotifScan html
RMotifScanPair html
RPeakAnno html
RPeakComp html
RSNPs html
RemoveAdapter html
REDIRECT:topic Previous alias or file overwritten by alias: D:/biocbuild/bbs-3.15-bioc/meat/esATAC.buildbin-libdir/00LOCK-esATAC/00new/esATAC/help/removeAdapter.html
Renamer html
REDIRECT:topic Previous alias or file overwritten by alias: D:/biocbuild/bbs-3.15-bioc/meat/esATAC.buildbin-libdir/00LOCK-esATAC/00new/esATAC/help/renamer.html
Rsortbam html
SamToBam html
SamToBed html
REDIRECT:topic Previous alias or file overwritten by alias: D:/biocbuild/bbs-3.15-bioc/meat/esATAC.buildbin-libdir/00LOCK-esATAC/00new/esATAC/help/samToBed.html
SingleRepReport html
TSSQC html
REDIRECT:topic Previous alias or file overwritten by alias: D:/biocbuild/bbs-3.15-bioc/meat/esATAC.buildbin-libdir/00LOCK-esATAC/00new/esATAC/help/tssQC.html
UnzipAndMerge html
REDIRECT:topic Previous alias or file overwritten by alias: D:/biocbuild/bbs-3.15-bioc/meat/esATAC.buildbin-libdir/00LOCK-esATAC/00new/esATAC/help/unzipAndMerge.html
atacPipe2 html
atacRepsPipe html
atacRepsPipe2 html
esATAC-package html
getMotifInfo html
** building package indices
** installing vignettes
** testing if installed package can be loaded from temporary location
** testing if installed package can be loaded from final location
** testing if installed package keeps a record of temporary installation path
* MD5 sums
packaged installation of 'esATAC' as esATAC_1.17.0.zip
* DONE (esATAC)