| Back to Multiple platform build/check report for BioC 3.15 |
|
This page was generated on 2022-10-19 13:21:24 -0400 (Wed, 19 Oct 2022).
| Hostname | OS | Arch (*) | R version | Installed pkgs |
|---|---|---|---|---|
| nebbiolo1 | Linux (Ubuntu 20.04.5 LTS) | x86_64 | 4.2.1 (2022-06-23) -- "Funny-Looking Kid" | 4386 |
| palomino3 | Windows Server 2022 Datacenter | x64 | 4.2.1 (2022-06-23 ucrt) -- "Funny-Looking Kid" | 4138 |
| merida1 | macOS 10.14.6 Mojave | x86_64 | 4.2.1 (2022-06-23) -- "Funny-Looking Kid" | 4205 |
| Click on any hostname to see more info about the system (e.g. compilers) (*) as reported by 'uname -p', except on Windows and Mac OS X | ||||
|
To the developers/maintainers of the distinct package: - Please allow up to 24 hours (and sometimes 48 hours) for your latest push to git@git.bioconductor.org:packages/distinct.git to reflect on this report. See How and When does the builder pull? When will my changes propagate? for more information. - Make sure to use the following settings in order to reproduce any error or warning you see on this page. |
| Package 540/2140 | Hostname | OS / Arch | INSTALL | BUILD | CHECK | BUILD BIN | ||||||||
| distinct 1.8.0 (landing page) Simone Tiberi
| nebbiolo1 | Linux (Ubuntu 20.04.5 LTS) / x86_64 | OK | OK | OK | |||||||||
| palomino3 | Windows Server 2022 Datacenter / x64 | OK | OK | OK | OK | |||||||||
| merida1 | macOS 10.14.6 Mojave / x86_64 | OK | OK | OK | OK | |||||||||
| Package: distinct |
| Version: 1.8.0 |
| Command: F:\biocbuild\bbs-3.15-bioc\R\bin\R.exe CMD check --no-multiarch --install=check:distinct.install-out.txt --library=F:\biocbuild\bbs-3.15-bioc\R\library --no-vignettes --timings distinct_1.8.0.tar.gz |
| StartedAt: 2022-10-18 23:44:57 -0400 (Tue, 18 Oct 2022) |
| EndedAt: 2022-10-18 23:52:01 -0400 (Tue, 18 Oct 2022) |
| EllapsedTime: 423.2 seconds |
| RetCode: 0 |
| Status: OK |
| CheckDir: distinct.Rcheck |
| Warnings: 0 |
##############################################################################
##############################################################################
###
### Running command:
###
### F:\biocbuild\bbs-3.15-bioc\R\bin\R.exe CMD check --no-multiarch --install=check:distinct.install-out.txt --library=F:\biocbuild\bbs-3.15-bioc\R\library --no-vignettes --timings distinct_1.8.0.tar.gz
###
##############################################################################
##############################################################################
* using log directory 'F:/biocbuild/bbs-3.15-bioc/meat/distinct.Rcheck'
* using R version 4.2.1 (2022-06-23 ucrt)
* using platform: x86_64-w64-mingw32 (64-bit)
* using session charset: UTF-8
* using option '--no-vignettes'
* checking for file 'distinct/DESCRIPTION' ... OK
* checking extension type ... Package
* this is package 'distinct' version '1.8.0'
* checking package namespace information ... OK
* checking package dependencies ... OK
* checking if this is a source package ... OK
* checking if there is a namespace ... OK
* checking for hidden files and directories ... OK
* checking for portable file names ... OK
* checking whether package 'distinct' can be installed ... OK
* checking installed package size ... OK
* checking package directory ... OK
* checking 'build' directory ... OK
* checking DESCRIPTION meta-information ... OK
* checking top-level files ... OK
* checking for left-over files ... OK
* checking index information ... OK
* checking package subdirectories ... OK
* checking R files for non-ASCII characters ... OK
* checking R files for syntax errors ... OK
* checking whether the package can be loaded ... OK
* checking whether the package can be loaded with stated dependencies ... OK
* checking whether the package can be unloaded cleanly ... OK
* checking whether the namespace can be loaded with stated dependencies ... OK
* checking whether the namespace can be unloaded cleanly ... OK
* checking dependencies in R code ... NOTE
Namespace in Imports field not imported from: 'Rfast'
All declared Imports should be used.
* checking S3 generic/method consistency ... OK
* checking replacement functions ... OK
* checking foreign function calls ... OK
* checking R code for possible problems ... NOTE
perm_test_parallel_R: no visible binding for global variable 'cl_id'
perm_test_parallel_covariates_R: no visible binding for global variable
'cl_id'
plot_cdfs: no visible binding for global variable 'group'
plot_densities: no visible binding for global variable 'group'
Undefined global functions or variables:
cl_id group
* checking Rd files ... OK
* checking Rd metadata ... OK
* checking Rd cross-references ... OK
* checking for missing documentation entries ... OK
* checking for code/documentation mismatches ... OK
* checking Rd \usage sections ... OK
* checking Rd contents ... OK
* checking for unstated dependencies in examples ... OK
* checking contents of 'data' directory ... OK
* checking data for non-ASCII characters ... OK
* checking data for ASCII and uncompressed saves ... OK
* checking line endings in C/C++/Fortran sources/headers ... OK
* checking line endings in Makefiles ... OK
* checking compilation flags in Makevars ... OK
* checking for GNU extensions in Makefiles ... OK
* checking for portable use of $(BLAS_LIBS) and $(LAPACK_LIBS) ... OK
* checking use of PKG_*FLAGS in Makefiles ... OK
* checking compiled code ... NOTE
Note: information on .o files for x64 is not available
File 'F:/biocbuild/bbs-3.15-bioc/R/library/distinct/libs/x64/distinct.dll':
Found 'abort', possibly from 'abort' (C), 'runtime' (Fortran)
Found 'exit', possibly from 'exit' (C), 'stop' (Fortran)
Compiled code should not call entry points which might terminate R nor
write to stdout/stderr instead of to the console, nor use Fortran I/O
nor system RNGs. The detected symbols are linked into the code but
might come from libraries and not actually be called.
See 'Writing portable packages' in the 'Writing R Extensions' manual.
* checking files in 'vignettes' ... OK
* checking examples ... OK
Examples with CPU (user + system) or elapsed time > 5s
user system elapsed
distinct_test 2.33 0.1 72.25
* checking for unstated dependencies in 'tests' ... OK
* checking tests ...
Running 'testthat.R'
OK
* checking for unstated dependencies in vignettes ... OK
* checking package vignettes in 'inst/doc' ... OK
* checking running R code from vignettes ... SKIPPED
* checking re-building of vignette outputs ... SKIPPED
* checking PDF version of manual ... OK
* DONE
Status: 3 NOTEs
See
'F:/biocbuild/bbs-3.15-bioc/meat/distinct.Rcheck/00check.log'
for details.
distinct.Rcheck/00install.out
##############################################################################
##############################################################################
###
### Running command:
###
### F:\biocbuild\bbs-3.15-bioc\R\bin\R.exe CMD INSTALL distinct
###
##############################################################################
##############################################################################
* installing to library 'F:/biocbuild/bbs-3.15-bioc/R/library'
* installing *source* package 'distinct' ...
** using staged installation
** libs
g++ -std=gnu++11 -I"F:/biocbuild/bbs-3.15-bioc/R/include" -DNDEBUG -I'F:/biocbuild/bbs-3.15-bioc/R/library/Rcpp/include' -I'F:/biocbuild/bbs-3.15-bioc/R/library/RcppArmadillo/include' -I'F:/biocbuild/bbs-3.15-bioc/R/library/Rfast/include' -I"C:/rtools42/x86_64-w64-mingw32.static.posix/include" -O2 -Wall -mfpmath=sse -msse2 -mstackrealign -c Perm.cpp -o Perm.o
g++ -std=gnu++11 -I"F:/biocbuild/bbs-3.15-bioc/R/include" -DNDEBUG -I'F:/biocbuild/bbs-3.15-bioc/R/library/Rcpp/include' -I'F:/biocbuild/bbs-3.15-bioc/R/library/RcppArmadillo/include' -I'F:/biocbuild/bbs-3.15-bioc/R/library/Rfast/include' -I"C:/rtools42/x86_64-w64-mingw32.static.posix/include" -O2 -Wall -mfpmath=sse -msse2 -mstackrealign -c Perm_covariates.cpp -o Perm_covariates.o
In file included from F:/biocbuild/bbs-3.15-bioc/R/library/Rfast/include/Rfast.h:5,
from Perm_covariates.cpp:2:
F:/biocbuild/bbs-3.15-bioc/R/library/Rfast/include/Rfast/matrix.hpp:553: warning: ignoring '#pragma omp parallel' [-Wunknown-pragmas]
553 | #pragma omp parallel for
|
F:/biocbuild/bbs-3.15-bioc/R/library/Rfast/include/Rfast/matrix.hpp:604: warning: ignoring '#pragma omp parallel' [-Wunknown-pragmas]
604 | #pragma omp parallel for
|
F:/biocbuild/bbs-3.15-bioc/R/library/Rfast/include/Rfast/matrix.hpp:621: warning: ignoring '#pragma omp parallel' [-Wunknown-pragmas]
621 | #pragma omp parallel for
|
F:/biocbuild/bbs-3.15-bioc/R/library/Rfast/include/Rfast/matrix.hpp:639: warning: ignoring '#pragma omp parallel' [-Wunknown-pragmas]
639 | #pragma omp parallel for
|
F:/biocbuild/bbs-3.15-bioc/R/library/Rfast/include/Rfast/matrix.hpp:654: warning: ignoring '#pragma omp parallel' [-Wunknown-pragmas]
654 | #pragma omp parallel for
|
F:/biocbuild/bbs-3.15-bioc/R/library/Rfast/include/Rfast/matrix.hpp:669: warning: ignoring '#pragma omp parallel' [-Wunknown-pragmas]
669 | #pragma omp parallel for
|
Perm_covariates.cpp: In function 'arma::vec my_rint_reg(const mat&, const vec&, Rcpp::IntegerVector, const unsigned int&, const unsigned int&, const double&, const unsigned int&)':
Perm_covariates.cpp:189:16: warning: comparison of integer expressions of different signedness: 'int' and 'const unsigned int' [-Wsign-compare]
189 | for(int i=0;i<p;i++)
| ~^~
Perm_covariates.cpp:210:12: warning: comparison of integer expressions of different signedness: 'int' and 'const unsigned int' [-Wsign-compare]
210 | while(i++<maxiters && sum(abs(b2-b1.col(0))) > tol) {
| ~~~^~~~~~~~~
g++ -std=gnu++11 -I"F:/biocbuild/bbs-3.15-bioc/R/include" -DNDEBUG -I'F:/biocbuild/bbs-3.15-bioc/R/library/Rcpp/include' -I'F:/biocbuild/bbs-3.15-bioc/R/library/RcppArmadillo/include' -I'F:/biocbuild/bbs-3.15-bioc/R/library/Rfast/include' -I"C:/rtools42/x86_64-w64-mingw32.static.posix/include" -O2 -Wall -mfpmath=sse -msse2 -mstackrealign -c Perm_covariates_parallel.cpp -o Perm_covariates_parallel.o
In file included from F:/biocbuild/bbs-3.15-bioc/R/library/Rfast/include/Rfast.h:5,
from Perm_covariates_parallel.cpp:2:
F:/biocbuild/bbs-3.15-bioc/R/library/Rfast/include/Rfast/matrix.hpp:553: warning: ignoring '#pragma omp parallel' [-Wunknown-pragmas]
553 | #pragma omp parallel for
|
F:/biocbuild/bbs-3.15-bioc/R/library/Rfast/include/Rfast/matrix.hpp:604: warning: ignoring '#pragma omp parallel' [-Wunknown-pragmas]
604 | #pragma omp parallel for
|
F:/biocbuild/bbs-3.15-bioc/R/library/Rfast/include/Rfast/matrix.hpp:621: warning: ignoring '#pragma omp parallel' [-Wunknown-pragmas]
621 | #pragma omp parallel for
|
F:/biocbuild/bbs-3.15-bioc/R/library/Rfast/include/Rfast/matrix.hpp:639: warning: ignoring '#pragma omp parallel' [-Wunknown-pragmas]
639 | #pragma omp parallel for
|
F:/biocbuild/bbs-3.15-bioc/R/library/Rfast/include/Rfast/matrix.hpp:654: warning: ignoring '#pragma omp parallel' [-Wunknown-pragmas]
654 | #pragma omp parallel for
|
F:/biocbuild/bbs-3.15-bioc/R/library/Rfast/include/Rfast/matrix.hpp:669: warning: ignoring '#pragma omp parallel' [-Wunknown-pragmas]
669 | #pragma omp parallel for
|
Perm_covariates_parallel.cpp: In function 'arma::vec my_rint_reg_parallel(const mat&, const vec&, Rcpp::IntegerVector, const unsigned int&, const unsigned int&, const double&, const unsigned int&)':
Perm_covariates_parallel.cpp:189:16: warning: comparison of integer expressions of different signedness: 'int' and 'const unsigned int' [-Wsign-compare]
189 | for(int i=0;i<p;i++)
| ~^~
Perm_covariates_parallel.cpp:210:12: warning: comparison of integer expressions of different signedness: 'int' and 'const unsigned int' [-Wsign-compare]
210 | while(i++<maxiters && sum(abs(b2-b1.col(0))) > tol) {
| ~~~^~~~~~~~~
g++ -std=gnu++11 -I"F:/biocbuild/bbs-3.15-bioc/R/include" -DNDEBUG -I'F:/biocbuild/bbs-3.15-bioc/R/library/Rcpp/include' -I'F:/biocbuild/bbs-3.15-bioc/R/library/RcppArmadillo/include' -I'F:/biocbuild/bbs-3.15-bioc/R/library/Rfast/include' -I"C:/rtools42/x86_64-w64-mingw32.static.posix/include" -O2 -Wall -mfpmath=sse -msse2 -mstackrealign -c Perm_parallel.cpp -o Perm_parallel.o
g++ -std=gnu++11 -I"F:/biocbuild/bbs-3.15-bioc/R/include" -DNDEBUG -I'F:/biocbuild/bbs-3.15-bioc/R/library/Rcpp/include' -I'F:/biocbuild/bbs-3.15-bioc/R/library/RcppArmadillo/include' -I'F:/biocbuild/bbs-3.15-bioc/R/library/Rfast/include' -I"C:/rtools42/x86_64-w64-mingw32.static.posix/include" -O2 -Wall -mfpmath=sse -msse2 -mstackrealign -c RcppExports.cpp -o RcppExports.o
g++ -shared -s -static-libgcc -o distinct.dll tmp.def Perm.o Perm_covariates.o Perm_covariates_parallel.o Perm_parallel.o RcppExports.o -LF:/biocbuild/bbs-3.15-bioc/R/bin/x64 -lRlapack -LF:/biocbuild/bbs-3.15-bioc/R/bin/x64 -lRblas -lgfortran -lm -lquadmath -LC:/rtools42/x86_64-w64-mingw32.static.posix/lib/x64 -LC:/rtools42/x86_64-w64-mingw32.static.posix/lib -LF:/biocbuild/bbs-3.15-bioc/R/bin/x64 -lR
installing to F:/biocbuild/bbs-3.15-bioc/R/library/00LOCK-distinct/00new/distinct/libs/x64
** R
** data
** inst
** byte-compile and prepare package for lazy loading
** help
*** installing help indices
** building package indices
** installing vignettes
** testing if installed package can be loaded from temporary location
** testing if installed package can be loaded from final location
** testing if installed package keeps a record of temporary installation path
* DONE (distinct)
distinct.Rcheck/tests/testthat.Rout
R version 4.2.1 (2022-06-23 ucrt) -- "Funny-Looking Kid"
Copyright (C) 2022 The R Foundation for Statistical Computing
Platform: x86_64-w64-mingw32/x64 (64-bit)
R is free software and comes with ABSOLUTELY NO WARRANTY.
You are welcome to redistribute it under certain conditions.
Type 'license()' or 'licence()' for distribution details.
R is a collaborative project with many contributors.
Type 'contributors()' for more information and
'citation()' on how to cite R or R packages in publications.
Type 'demo()' for some demos, 'help()' for on-line help, or
'help.start()' for an HTML browser interface to help.
Type 'q()' to quit R.
> library(testthat)
> library(distinct)
> test_check("distinct")
[ FAIL 0 | WARN 0 | SKIP 0 | PASS 8 ]
>
> proc.time()
user system elapsed
10.18 0.62 77.84
distinct.Rcheck/distinct-Ex.timings
| name | user | system | elapsed | |
| Kang_subset | 0 | 0 | 0 | |
| distinct_test | 2.33 | 0.10 | 72.25 | |
| log2_FC | 0.19 | 0.03 | 0.22 | |
| plot_cdfs | 0.5 | 0.0 | 0.5 | |
| plot_densities | 0.56 | 0.04 | 0.60 | |
| res | 0 | 0 | 0 | |
| top_results | 0.17 | 0.01 | 0.18 | |