| Back to Multiple platform build/check report for BioC 3.15 |
|
This page was generated on 2022-10-19 13:22:50 -0400 (Wed, 19 Oct 2022).
| Hostname | OS | Arch (*) | R version | Installed pkgs |
|---|---|---|---|---|
| nebbiolo1 | Linux (Ubuntu 20.04.5 LTS) | x86_64 | 4.2.1 (2022-06-23) -- "Funny-Looking Kid" | 4386 |
| palomino3 | Windows Server 2022 Datacenter | x64 | 4.2.1 (2022-06-23 ucrt) -- "Funny-Looking Kid" | 4138 |
| merida1 | macOS 10.14.6 Mojave | x86_64 | 4.2.1 (2022-06-23) -- "Funny-Looking Kid" | 4205 |
| Click on any hostname to see more info about the system (e.g. compilers) (*) as reported by 'uname -p', except on Windows and Mac OS X | ||||
|
To the developers/maintainers of the destiny package: - Please allow up to 24 hours (and sometimes 48 hours) for your latest push to git@git.bioconductor.org:packages/destiny.git to reflect on this report. See How and When does the builder pull? When will my changes propagate? for more information. - Make sure to use the following settings in order to reproduce any error or warning you see on this page. |
| Package 516/2140 | Hostname | OS / Arch | INSTALL | BUILD | CHECK | BUILD BIN | ||||||||
| destiny 3.10.0 (landing page) Philipp Angerer
| nebbiolo1 | Linux (Ubuntu 20.04.5 LTS) / x86_64 | OK | OK | OK | |||||||||
| palomino3 | Windows Server 2022 Datacenter / x64 | OK | OK | OK | OK | |||||||||
| merida1 | macOS 10.14.6 Mojave / x86_64 | OK | OK | OK | OK | |||||||||
| Package: destiny |
| Version: 3.10.0 |
| Command: /Library/Frameworks/R.framework/Resources/bin/R CMD check --install=check:destiny.install-out.txt --library=/Library/Frameworks/R.framework/Resources/library --no-vignettes --timings destiny_3.10.0.tar.gz |
| StartedAt: 2022-10-19 01:36:35 -0400 (Wed, 19 Oct 2022) |
| EndedAt: 2022-10-19 01:43:31 -0400 (Wed, 19 Oct 2022) |
| EllapsedTime: 415.7 seconds |
| RetCode: 0 |
| Status: OK |
| CheckDir: destiny.Rcheck |
| Warnings: 0 |
##############################################################################
##############################################################################
###
### Running command:
###
### /Library/Frameworks/R.framework/Resources/bin/R CMD check --install=check:destiny.install-out.txt --library=/Library/Frameworks/R.framework/Resources/library --no-vignettes --timings destiny_3.10.0.tar.gz
###
##############################################################################
##############################################################################
* using log directory ‘/Users/biocbuild/bbs-3.15-bioc/meat/destiny.Rcheck’
* using R version 4.2.1 (2022-06-23)
* using platform: x86_64-apple-darwin17.0 (64-bit)
* using session charset: UTF-8
* using option ‘--no-vignettes’
* checking for file ‘destiny/DESCRIPTION’ ... OK
* checking extension type ... Package
* this is package ‘destiny’ version ‘3.10.0’
* package encoding: UTF-8
* checking package namespace information ... OK
* checking package dependencies ... OK
* checking if this is a source package ... OK
* checking if there is a namespace ... OK
* checking for hidden files and directories ... OK
* checking for portable file names ... OK
* checking for sufficient/correct file permissions ... OK
* checking whether package ‘destiny’ can be installed ... OK
* checking installed package size ... OK
* checking package directory ... OK
* checking DESCRIPTION meta-information ... NOTE
Packages listed in more than one of Depends, Imports, Suggests, Enhances:
‘rgl’ ‘SingleCellExperiment’
A package should be listed in only one of these fields.
'LinkingTo' for ‘grDevices’ is unused as it has no 'include' directory
* checking top-level files ... OK
* checking for left-over files ... OK
* checking index information ... OK
* checking package subdirectories ... OK
* checking R files for non-ASCII characters ... OK
* checking R files for syntax errors ... OK
* checking whether the package can be loaded ... OK
* checking whether the package can be loaded with stated dependencies ... OK
* checking whether the package can be unloaded cleanly ... OK
* checking whether the namespace can be loaded with stated dependencies ... OK
* checking whether the namespace can be unloaded cleanly ... OK
* checking dependencies in R code ... OK
* checking S3 generic/method consistency ... NOTE
Found the following apparent S3 methods exported but not registered:
plot.DPT plot.DiffusionMap
See section ‘Registering S3 methods’ in the ‘Writing R Extensions’
manual.
* checking replacement functions ... OK
* checking foreign function calls ... OK
* checking R code for possible problems ... OK
* checking Rd files ... OK
* checking Rd metadata ... OK
* checking Rd cross-references ... OK
* checking for missing documentation entries ... OK
* checking for code/documentation mismatches ... OK
* checking Rd \usage sections ... NOTE
S3 methods shown with full name in documentation object 'plot.DPT':
‘plot.DPT’
S3 methods shown with full name in documentation object 'plot.DiffusionMap':
‘plot.DiffusionMap’
The \usage entries for S3 methods should use the \method markup and not
their full name.
See chapter ‘Writing R documentation files’ in the ‘Writing R
Extensions’ manual.
* checking Rd contents ... OK
* checking for unstated dependencies in examples ... OK
* checking contents of ‘data’ directory ... OK
* checking data for non-ASCII characters ... OK
* checking data for ASCII and uncompressed saves ... OK
* checking line endings in C/C++/Fortran sources/headers ... OK
* checking line endings in Makefiles ... OK
* checking compilation flags in Makevars ... OK
* checking for GNU extensions in Makefiles ... OK
* checking for portable use of $(BLAS_LIBS) and $(LAPACK_LIBS) ... OK
* checking use of PKG_*FLAGS in Makefiles ... OK
* checking compiled code ... NOTE
Note: information on .o files is not available
* checking files in ‘vignettes’ ... OK
* checking examples ... OK
Examples with CPU (user + system) or elapsed time > 5s
user system elapsed
Gene-Relevance-plotting 12.177 0.246 12.913
destiny 8.690 0.058 8.760
Gene-Relevance 5.782 0.097 6.122
* checking for unstated dependencies in ‘tests’ ... OK
* checking tests ...
Running ‘testthat.R’
OK
* checking for unstated dependencies in vignettes ... OK
* checking package vignettes in ‘inst/doc’ ... OK
* checking running R code from vignettes ... SKIPPED
* checking re-building of vignette outputs ... SKIPPED
* checking PDF version of manual ... OK
* DONE
Status: 4 NOTEs
See
‘/Users/biocbuild/bbs-3.15-bioc/meat/destiny.Rcheck/00check.log’
for details.
destiny.Rcheck/00install.out
##############################################################################
##############################################################################
###
### Running command:
###
### /Library/Frameworks/R.framework/Resources/bin/R CMD INSTALL destiny
###
##############################################################################
##############################################################################
* installing to library ‘/Library/Frameworks/R.framework/Versions/4.2/Resources/library’
* installing *source* package ‘destiny’ ...
** using staged installation
** libs
clang++ -mmacosx-version-min=10.13 -std=gnu++11 -I"/Library/Frameworks/R.framework/Resources/include" -DNDEBUG -I'/Library/Frameworks/R.framework/Versions/4.2/Resources/library/Rcpp/include' -I'/Library/Frameworks/R.framework/Versions/4.2/Resources/library/RcppEigen/include' -I'/Library/Frameworks/R.framework/Versions/4.2/Resources/library/grDevices/include' -I/usr/local/include -ggdb -fPIC -Wall -g -O2 -c RcppExports.cpp -o RcppExports.o
In file included from RcppExports.cpp:4:
In file included from /Library/Frameworks/R.framework/Versions/4.2/Resources/library/RcppEigen/include/RcppEigen.h:25:
In file included from /Library/Frameworks/R.framework/Versions/4.2/Resources/library/RcppEigen/include/RcppEigenForward.h:30:
In file included from /Library/Frameworks/R.framework/Versions/4.2/Resources/library/RcppEigen/include/Eigen/Dense:1:
In file included from /Library/Frameworks/R.framework/Versions/4.2/Resources/library/RcppEigen/include/Eigen/Core:540:
/Library/Frameworks/R.framework/Versions/4.2/Resources/library/RcppEigen/include/Eigen/src/Core/util/ReenableStupidWarnings.h:14:30: warning: pragma diagnostic pop could not pop, no matching push [-Wunknown-pragmas]
#pragma clang diagnostic pop
^
In file included from RcppExports.cpp:4:
In file included from /Library/Frameworks/R.framework/Versions/4.2/Resources/library/RcppEigen/include/RcppEigen.h:25:
In file included from /Library/Frameworks/R.framework/Versions/4.2/Resources/library/RcppEigen/include/RcppEigenForward.h:30:
In file included from /Library/Frameworks/R.framework/Versions/4.2/Resources/library/RcppEigen/include/Eigen/Dense:2:
In file included from /Library/Frameworks/R.framework/Versions/4.2/Resources/library/RcppEigen/include/Eigen/LU:47:
/Library/Frameworks/R.framework/Versions/4.2/Resources/library/RcppEigen/include/Eigen/src/Core/util/ReenableStupidWarnings.h:14:30: warning: pragma diagnostic pop could not pop, no matching push [-Wunknown-pragmas]
#pragma clang diagnostic pop
^
In file included from RcppExports.cpp:4:
In file included from /Library/Frameworks/R.framework/Versions/4.2/Resources/library/RcppEigen/include/RcppEigen.h:25:
In file included from /Library/Frameworks/R.framework/Versions/4.2/Resources/library/RcppEigen/include/RcppEigenForward.h:30:
In file included from /Library/Frameworks/R.framework/Versions/4.2/Resources/library/RcppEigen/include/Eigen/Dense:3:
In file included from /Library/Frameworks/R.framework/Versions/4.2/Resources/library/RcppEigen/include/Eigen/Cholesky:12:
In file included from /Library/Frameworks/R.framework/Versions/4.2/Resources/library/RcppEigen/include/Eigen/Jacobi:29:
/Library/Frameworks/R.framework/Versions/4.2/Resources/library/RcppEigen/include/Eigen/src/Core/util/ReenableStupidWarnings.h:14:30: warning: pragma diagnostic pop could not pop, no matching push [-Wunknown-pragmas]
#pragma clang diagnostic pop
^
In file included from RcppExports.cpp:4:
In file included from /Library/Frameworks/R.framework/Versions/4.2/Resources/library/RcppEigen/include/RcppEigen.h:25:
In file included from /Library/Frameworks/R.framework/Versions/4.2/Resources/library/RcppEigen/include/RcppEigenForward.h:30:
In file included from /Library/Frameworks/R.framework/Versions/4.2/Resources/library/RcppEigen/include/Eigen/Dense:3:
In file included from /Library/Frameworks/R.framework/Versions/4.2/Resources/library/RcppEigen/include/Eigen/Cholesky:43:
/Library/Frameworks/R.framework/Versions/4.2/Resources/library/RcppEigen/include/Eigen/src/Core/util/ReenableStupidWarnings.h:14:30: warning: pragma diagnostic pop could not pop, no matching push [-Wunknown-pragmas]
#pragma clang diagnostic pop
^
In file included from RcppExports.cpp:4:
In file included from /Library/Frameworks/R.framework/Versions/4.2/Resources/library/RcppEigen/include/RcppEigen.h:25:
In file included from /Library/Frameworks/R.framework/Versions/4.2/Resources/library/RcppEigen/include/RcppEigenForward.h:30:
In file included from /Library/Frameworks/R.framework/Versions/4.2/Resources/library/RcppEigen/include/Eigen/Dense:4:
In file included from /Library/Frameworks/R.framework/Versions/4.2/Resources/library/RcppEigen/include/Eigen/QR:15:
In file included from /Library/Frameworks/R.framework/Versions/4.2/Resources/library/RcppEigen/include/Eigen/Householder:27:
/Library/Frameworks/R.framework/Versions/4.2/Resources/library/RcppEigen/include/Eigen/src/Core/util/ReenableStupidWarnings.h:14:30: warning: pragma diagnostic pop could not pop, no matching push [-Wunknown-pragmas]
#pragma clang diagnostic pop
^
In file included from RcppExports.cpp:4:
In file included from /Library/Frameworks/R.framework/Versions/4.2/Resources/library/RcppEigen/include/RcppEigen.h:25:
In file included from /Library/Frameworks/R.framework/Versions/4.2/Resources/library/RcppEigen/include/RcppEigenForward.h:30:
In file included from /Library/Frameworks/R.framework/Versions/4.2/Resources/library/RcppEigen/include/Eigen/Dense:4:
In file included from /Library/Frameworks/R.framework/Versions/4.2/Resources/library/RcppEigen/include/Eigen/QR:48:
/Library/Frameworks/R.framework/Versions/4.2/Resources/library/RcppEigen/include/Eigen/src/Core/util/ReenableStupidWarnings.h:14:30: warning: pragma diagnostic pop could not pop, no matching push [-Wunknown-pragmas]
#pragma clang diagnostic pop
^
In file included from RcppExports.cpp:4:
In file included from /Library/Frameworks/R.framework/Versions/4.2/Resources/library/RcppEigen/include/RcppEigen.h:25:
In file included from /Library/Frameworks/R.framework/Versions/4.2/Resources/library/RcppEigen/include/RcppEigenForward.h:30:
In file included from /Library/Frameworks/R.framework/Versions/4.2/Resources/library/RcppEigen/include/Eigen/Dense:5:
In file included from /Library/Frameworks/R.framework/Versions/4.2/Resources/library/RcppEigen/include/Eigen/SVD:48:
/Library/Frameworks/R.framework/Versions/4.2/Resources/library/RcppEigen/include/Eigen/src/Core/util/ReenableStupidWarnings.h:14:30: warning: pragma diagnostic pop could not pop, no matching push [-Wunknown-pragmas]
#pragma clang diagnostic pop
^
In file included from RcppExports.cpp:4:
In file included from /Library/Frameworks/R.framework/Versions/4.2/Resources/library/RcppEigen/include/RcppEigen.h:25:
In file included from /Library/Frameworks/R.framework/Versions/4.2/Resources/library/RcppEigen/include/RcppEigenForward.h:30:
In file included from /Library/Frameworks/R.framework/Versions/4.2/Resources/library/RcppEigen/include/Eigen/Dense:6:
In file included from /Library/Frameworks/R.framework/Versions/4.2/Resources/library/RcppEigen/include/Eigen/Geometry:58:
/Library/Frameworks/R.framework/Versions/4.2/Resources/library/RcppEigen/include/Eigen/src/Core/util/ReenableStupidWarnings.h:14:30: warning: pragma diagnostic pop could not pop, no matching push [-Wunknown-pragmas]
#pragma clang diagnostic pop
^
In file included from RcppExports.cpp:4:
In file included from /Library/Frameworks/R.framework/Versions/4.2/Resources/library/RcppEigen/include/RcppEigen.h:25:
In file included from /Library/Frameworks/R.framework/Versions/4.2/Resources/library/RcppEigen/include/RcppEigenForward.h:30:
In file included from /Library/Frameworks/R.framework/Versions/4.2/Resources/library/RcppEigen/include/Eigen/Dense:7:
In file included from /Library/Frameworks/R.framework/Versions/4.2/Resources/library/RcppEigen/include/Eigen/Eigenvalues:58:
/Library/Frameworks/R.framework/Versions/4.2/Resources/library/RcppEigen/include/Eigen/src/Core/util/ReenableStupidWarnings.h:14:30: warning: pragma diagnostic pop could not pop, no matching push [-Wunknown-pragmas]
#pragma clang diagnostic pop
^
In file included from RcppExports.cpp:4:
In file included from /Library/Frameworks/R.framework/Versions/4.2/Resources/library/RcppEigen/include/RcppEigen.h:25:
In file included from /Library/Frameworks/R.framework/Versions/4.2/Resources/library/RcppEigen/include/RcppEigenForward.h:31:
In file included from /Library/Frameworks/R.framework/Versions/4.2/Resources/library/RcppEigen/include/Eigen/Sparse:26:
In file included from /Library/Frameworks/R.framework/Versions/4.2/Resources/library/RcppEigen/include/Eigen/SparseCore:66:
/Library/Frameworks/R.framework/Versions/4.2/Resources/library/RcppEigen/include/Eigen/src/Core/util/ReenableStupidWarnings.h:14:30: warning: pragma diagnostic pop could not pop, no matching push [-Wunknown-pragmas]
#pragma clang diagnostic pop
^
In file included from RcppExports.cpp:4:
In file included from /Library/Frameworks/R.framework/Versions/4.2/Resources/library/RcppEigen/include/RcppEigen.h:25:
In file included from /Library/Frameworks/R.framework/Versions/4.2/Resources/library/RcppEigen/include/RcppEigenForward.h:31:
In file included from /Library/Frameworks/R.framework/Versions/4.2/Resources/library/RcppEigen/include/Eigen/Sparse:27:
In file included from /Library/Frameworks/R.framework/Versions/4.2/Resources/library/RcppEigen/include/Eigen/OrderingMethods:71:
/Library/Frameworks/R.framework/Versions/4.2/Resources/library/RcppEigen/include/Eigen/src/Core/util/ReenableStupidWarnings.h:14:30: warning: pragma diagnostic pop could not pop, no matching push [-Wunknown-pragmas]
#pragma clang diagnostic pop
^
In file included from RcppExports.cpp:4:
In file included from /Library/Frameworks/R.framework/Versions/4.2/Resources/library/RcppEigen/include/RcppEigen.h:25:
In file included from /Library/Frameworks/R.framework/Versions/4.2/Resources/library/RcppEigen/include/RcppEigenForward.h:31:
In file included from /Library/Frameworks/R.framework/Versions/4.2/Resources/library/RcppEigen/include/Eigen/Sparse:29:
In file included from /Library/Frameworks/R.framework/Versions/4.2/Resources/library/RcppEigen/include/Eigen/SparseCholesky:43:
/Library/Frameworks/R.framework/Versions/4.2/Resources/library/RcppEigen/include/Eigen/src/Core/util/ReenableStupidWarnings.h:14:30: warning: pragma diagnostic pop could not pop, no matching push [-Wunknown-pragmas]
#pragma clang diagnostic pop
^
In file included from RcppExports.cpp:4:
In file included from /Library/Frameworks/R.framework/Versions/4.2/Resources/library/RcppEigen/include/RcppEigen.h:25:
In file included from /Library/Frameworks/R.framework/Versions/4.2/Resources/library/RcppEigen/include/RcppEigenForward.h:31:
In file included from /Library/Frameworks/R.framework/Versions/4.2/Resources/library/RcppEigen/include/Eigen/Sparse:32:
In file included from /Library/Frameworks/R.framework/Versions/4.2/Resources/library/RcppEigen/include/Eigen/SparseQR:34:
/Library/Frameworks/R.framework/Versions/4.2/Resources/library/RcppEigen/include/Eigen/src/Core/util/ReenableStupidWarnings.h:14:30: warning: pragma diagnostic pop could not pop, no matching push [-Wunknown-pragmas]
#pragma clang diagnostic pop
^
In file included from RcppExports.cpp:4:
In file included from /Library/Frameworks/R.framework/Versions/4.2/Resources/library/RcppEigen/include/RcppEigen.h:25:
In file included from /Library/Frameworks/R.framework/Versions/4.2/Resources/library/RcppEigen/include/RcppEigenForward.h:31:
In file included from /Library/Frameworks/R.framework/Versions/4.2/Resources/library/RcppEigen/include/Eigen/Sparse:33:
In file included from /Library/Frameworks/R.framework/Versions/4.2/Resources/library/RcppEigen/include/Eigen/IterativeLinearSolvers:46:
/Library/Frameworks/R.framework/Versions/4.2/Resources/library/RcppEigen/include/Eigen/src/Core/util/ReenableStupidWarnings.h:14:30: warning: pragma diagnostic pop could not pop, no matching push [-Wunknown-pragmas]
#pragma clang diagnostic pop
^
In file included from RcppExports.cpp:4:
In file included from /Library/Frameworks/R.framework/Versions/4.2/Resources/library/RcppEigen/include/RcppEigen.h:25:
In file included from /Library/Frameworks/R.framework/Versions/4.2/Resources/library/RcppEigen/include/RcppEigenForward.h:32:
In file included from /Library/Frameworks/R.framework/Versions/4.2/Resources/library/RcppEigen/include/Eigen/CholmodSupport:45:
/Library/Frameworks/R.framework/Versions/4.2/Resources/library/RcppEigen/include/Eigen/src/Core/util/ReenableStupidWarnings.h:14:30: warning: pragma diagnostic pop could not pop, no matching push [-Wunknown-pragmas]
#pragma clang diagnostic pop
^
In file included from RcppExports.cpp:4:
In file included from /Library/Frameworks/R.framework/Versions/4.2/Resources/library/RcppEigen/include/RcppEigen.h:25:
In file included from /Library/Frameworks/R.framework/Versions/4.2/Resources/library/RcppEigen/include/RcppEigenForward.h:35:
In file included from /Library/Frameworks/R.framework/Versions/4.2/Resources/library/RcppEigen/include/unsupported/Eigen/KroneckerProduct:34:
/Library/Frameworks/R.framework/Versions/4.2/Resources/library/RcppEigen/include/unsupported/Eigen/../../Eigen/src/Core/util/ReenableStupidWarnings.h:14:30: warning: pragma diagnostic pop could not pop, no matching push [-Wunknown-pragmas]
#pragma clang diagnostic pop
^
In file included from RcppExports.cpp:4:
In file included from /Library/Frameworks/R.framework/Versions/4.2/Resources/library/RcppEigen/include/RcppEigen.h:25:
In file included from /Library/Frameworks/R.framework/Versions/4.2/Resources/library/RcppEigen/include/RcppEigenForward.h:39:
In file included from /Library/Frameworks/R.framework/Versions/4.2/Resources/library/RcppEigen/include/unsupported/Eigen/Polynomials:135:
/Library/Frameworks/R.framework/Versions/4.2/Resources/library/RcppEigen/include/unsupported/Eigen/../../Eigen/src/Core/util/ReenableStupidWarnings.h:14:30: warning: pragma diagnostic pop could not pop, no matching push [-Wunknown-pragmas]
#pragma clang diagnostic pop
^
In file included from RcppExports.cpp:4:
In file included from /Library/Frameworks/R.framework/Versions/4.2/Resources/library/RcppEigen/include/RcppEigen.h:25:
In file included from /Library/Frameworks/R.framework/Versions/4.2/Resources/library/RcppEigen/include/RcppEigenForward.h:40:
In file included from /Library/Frameworks/R.framework/Versions/4.2/Resources/library/RcppEigen/include/unsupported/Eigen/SparseExtra:51:
/Library/Frameworks/R.framework/Versions/4.2/Resources/library/RcppEigen/include/unsupported/Eigen/../../Eigen/src/Core/util/ReenableStupidWarnings.h:14:30: warning: pragma diagnostic pop could not pop, no matching push [-Wunknown-pragmas]
#pragma clang diagnostic pop
^
18 warnings generated.
clang++ -mmacosx-version-min=10.13 -std=gnu++11 -I"/Library/Frameworks/R.framework/Resources/include" -DNDEBUG -I'/Library/Frameworks/R.framework/Versions/4.2/Resources/library/Rcpp/include' -I'/Library/Frameworks/R.framework/Versions/4.2/Resources/library/RcppEigen/include' -I'/Library/Frameworks/R.framework/Versions/4.2/Resources/library/grDevices/include' -I/usr/local/include -ggdb -fPIC -Wall -g -O2 -c censoring.cpp -o censoring.o
In file included from censoring.cpp:7:
In file included from /Library/Frameworks/R.framework/Versions/4.2/Resources/library/RcppEigen/include/RcppEigen.h:25:
In file included from /Library/Frameworks/R.framework/Versions/4.2/Resources/library/RcppEigen/include/RcppEigenForward.h:30:
In file included from /Library/Frameworks/R.framework/Versions/4.2/Resources/library/RcppEigen/include/Eigen/Dense:1:
In file included from /Library/Frameworks/R.framework/Versions/4.2/Resources/library/RcppEigen/include/Eigen/Core:540:
/Library/Frameworks/R.framework/Versions/4.2/Resources/library/RcppEigen/include/Eigen/src/Core/util/ReenableStupidWarnings.h:14:30: warning: pragma diagnostic pop could not pop, no matching push [-Wunknown-pragmas]
#pragma clang diagnostic pop
^
In file included from censoring.cpp:7:
In file included from /Library/Frameworks/R.framework/Versions/4.2/Resources/library/RcppEigen/include/RcppEigen.h:25:
In file included from /Library/Frameworks/R.framework/Versions/4.2/Resources/library/RcppEigen/include/RcppEigenForward.h:30:
In file included from /Library/Frameworks/R.framework/Versions/4.2/Resources/library/RcppEigen/include/Eigen/Dense:2:
In file included from /Library/Frameworks/R.framework/Versions/4.2/Resources/library/RcppEigen/include/Eigen/LU:47:
/Library/Frameworks/R.framework/Versions/4.2/Resources/library/RcppEigen/include/Eigen/src/Core/util/ReenableStupidWarnings.h:14:30: warning: pragma diagnostic pop could not pop, no matching push [-Wunknown-pragmas]
#pragma clang diagnostic pop
^
In file included from censoring.cpp:7:
In file included from /Library/Frameworks/R.framework/Versions/4.2/Resources/library/RcppEigen/include/RcppEigen.h:25:
In file included from /Library/Frameworks/R.framework/Versions/4.2/Resources/library/RcppEigen/include/RcppEigenForward.h:30:
In file included from /Library/Frameworks/R.framework/Versions/4.2/Resources/library/RcppEigen/include/Eigen/Dense:3:
In file included from /Library/Frameworks/R.framework/Versions/4.2/Resources/library/RcppEigen/include/Eigen/Cholesky:12:
In file included from /Library/Frameworks/R.framework/Versions/4.2/Resources/library/RcppEigen/include/Eigen/Jacobi:29:
/Library/Frameworks/R.framework/Versions/4.2/Resources/library/RcppEigen/include/Eigen/src/Core/util/ReenableStupidWarnings.h:14:30: warning: pragma diagnostic pop could not pop, no matching push [-Wunknown-pragmas]
#pragma clang diagnostic pop
^
In file included from censoring.cpp:7:
In file included from /Library/Frameworks/R.framework/Versions/4.2/Resources/library/RcppEigen/include/RcppEigen.h:25:
In file included from /Library/Frameworks/R.framework/Versions/4.2/Resources/library/RcppEigen/include/RcppEigenForward.h:30:
In file included from /Library/Frameworks/R.framework/Versions/4.2/Resources/library/RcppEigen/include/Eigen/Dense:3:
In file included from /Library/Frameworks/R.framework/Versions/4.2/Resources/library/RcppEigen/include/Eigen/Cholesky:43:
/Library/Frameworks/R.framework/Versions/4.2/Resources/library/RcppEigen/include/Eigen/src/Core/util/ReenableStupidWarnings.h:14:30: warning: pragma diagnostic pop could not pop, no matching push [-Wunknown-pragmas]
#pragma clang diagnostic pop
^
In file included from censoring.cpp:7:
In file included from /Library/Frameworks/R.framework/Versions/4.2/Resources/library/RcppEigen/include/RcppEigen.h:25:
In file included from /Library/Frameworks/R.framework/Versions/4.2/Resources/library/RcppEigen/include/RcppEigenForward.h:30:
In file included from /Library/Frameworks/R.framework/Versions/4.2/Resources/library/RcppEigen/include/Eigen/Dense:4:
In file included from /Library/Frameworks/R.framework/Versions/4.2/Resources/library/RcppEigen/include/Eigen/QR:15:
In file included from /Library/Frameworks/R.framework/Versions/4.2/Resources/library/RcppEigen/include/Eigen/Householder:27:
/Library/Frameworks/R.framework/Versions/4.2/Resources/library/RcppEigen/include/Eigen/src/Core/util/ReenableStupidWarnings.h:14:30: warning: pragma diagnostic pop could not pop, no matching push [-Wunknown-pragmas]
#pragma clang diagnostic pop
^
In file included from censoring.cpp:7:
In file included from /Library/Frameworks/R.framework/Versions/4.2/Resources/library/RcppEigen/include/RcppEigen.h:25:
In file included from /Library/Frameworks/R.framework/Versions/4.2/Resources/library/RcppEigen/include/RcppEigenForward.h:30:
In file included from /Library/Frameworks/R.framework/Versions/4.2/Resources/library/RcppEigen/include/Eigen/Dense:4:
In file included from /Library/Frameworks/R.framework/Versions/4.2/Resources/library/RcppEigen/include/Eigen/QR:48:
/Library/Frameworks/R.framework/Versions/4.2/Resources/library/RcppEigen/include/Eigen/src/Core/util/ReenableStupidWarnings.h:14:30: warning: pragma diagnostic pop could not pop, no matching push [-Wunknown-pragmas]
#pragma clang diagnostic pop
^
In file included from censoring.cpp:7:
In file included from /Library/Frameworks/R.framework/Versions/4.2/Resources/library/RcppEigen/include/RcppEigen.h:25:
In file included from /Library/Frameworks/R.framework/Versions/4.2/Resources/library/RcppEigen/include/RcppEigenForward.h:30:
In file included from /Library/Frameworks/R.framework/Versions/4.2/Resources/library/RcppEigen/include/Eigen/Dense:5:
In file included from /Library/Frameworks/R.framework/Versions/4.2/Resources/library/RcppEigen/include/Eigen/SVD:48:
/Library/Frameworks/R.framework/Versions/4.2/Resources/library/RcppEigen/include/Eigen/src/Core/util/ReenableStupidWarnings.h:14:30: warning: pragma diagnostic pop could not pop, no matching push [-Wunknown-pragmas]
#pragma clang diagnostic pop
^
In file included from censoring.cpp:7:
In file included from /Library/Frameworks/R.framework/Versions/4.2/Resources/library/RcppEigen/include/RcppEigen.h:25:
In file included from /Library/Frameworks/R.framework/Versions/4.2/Resources/library/RcppEigen/include/RcppEigenForward.h:30:
In file included from /Library/Frameworks/R.framework/Versions/4.2/Resources/library/RcppEigen/include/Eigen/Dense:6:
In file included from /Library/Frameworks/R.framework/Versions/4.2/Resources/library/RcppEigen/include/Eigen/Geometry:58:
/Library/Frameworks/R.framework/Versions/4.2/Resources/library/RcppEigen/include/Eigen/src/Core/util/ReenableStupidWarnings.h:14:30: warning: pragma diagnostic pop could not pop, no matching push [-Wunknown-pragmas]
#pragma clang diagnostic pop
^
In file included from censoring.cpp:7:
In file included from /Library/Frameworks/R.framework/Versions/4.2/Resources/library/RcppEigen/include/RcppEigen.h:25:
In file included from /Library/Frameworks/R.framework/Versions/4.2/Resources/library/RcppEigen/include/RcppEigenForward.h:30:
In file included from /Library/Frameworks/R.framework/Versions/4.2/Resources/library/RcppEigen/include/Eigen/Dense:7:
In file included from /Library/Frameworks/R.framework/Versions/4.2/Resources/library/RcppEigen/include/Eigen/Eigenvalues:58:
/Library/Frameworks/R.framework/Versions/4.2/Resources/library/RcppEigen/include/Eigen/src/Core/util/ReenableStupidWarnings.h:14:30: warning: pragma diagnostic pop could not pop, no matching push [-Wunknown-pragmas]
#pragma clang diagnostic pop
^
In file included from censoring.cpp:7:
In file included from /Library/Frameworks/R.framework/Versions/4.2/Resources/library/RcppEigen/include/RcppEigen.h:25:
In file included from /Library/Frameworks/R.framework/Versions/4.2/Resources/library/RcppEigen/include/RcppEigenForward.h:31:
In file included from /Library/Frameworks/R.framework/Versions/4.2/Resources/library/RcppEigen/include/Eigen/Sparse:26:
In file included from /Library/Frameworks/R.framework/Versions/4.2/Resources/library/RcppEigen/include/Eigen/SparseCore:66:
/Library/Frameworks/R.framework/Versions/4.2/Resources/library/RcppEigen/include/Eigen/src/Core/util/ReenableStupidWarnings.h:14:30: warning: pragma diagnostic pop could not pop, no matching push [-Wunknown-pragmas]
#pragma clang diagnostic pop
^
In file included from censoring.cpp:7:
In file included from /Library/Frameworks/R.framework/Versions/4.2/Resources/library/RcppEigen/include/RcppEigen.h:25:
In file included from /Library/Frameworks/R.framework/Versions/4.2/Resources/library/RcppEigen/include/RcppEigenForward.h:31:
In file included from /Library/Frameworks/R.framework/Versions/4.2/Resources/library/RcppEigen/include/Eigen/Sparse:27:
In file included from /Library/Frameworks/R.framework/Versions/4.2/Resources/library/RcppEigen/include/Eigen/OrderingMethods:71:
/Library/Frameworks/R.framework/Versions/4.2/Resources/library/RcppEigen/include/Eigen/src/Core/util/ReenableStupidWarnings.h:14:30: warning: pragma diagnostic pop could not pop, no matching push [-Wunknown-pragmas]
#pragma clang diagnostic pop
^
In file included from censoring.cpp:7:
In file included from /Library/Frameworks/R.framework/Versions/4.2/Resources/library/RcppEigen/include/RcppEigen.h:25:
In file included from /Library/Frameworks/R.framework/Versions/4.2/Resources/library/RcppEigen/include/RcppEigenForward.h:31:
In file included from /Library/Frameworks/R.framework/Versions/4.2/Resources/library/RcppEigen/include/Eigen/Sparse:29:
In file included from /Library/Frameworks/R.framework/Versions/4.2/Resources/library/RcppEigen/include/Eigen/SparseCholesky:43:
/Library/Frameworks/R.framework/Versions/4.2/Resources/library/RcppEigen/include/Eigen/src/Core/util/ReenableStupidWarnings.h:14:30: warning: pragma diagnostic pop could not pop, no matching push [-Wunknown-pragmas]
#pragma clang diagnostic pop
^
In file included from censoring.cpp:7:
In file included from /Library/Frameworks/R.framework/Versions/4.2/Resources/library/RcppEigen/include/RcppEigen.h:25:
In file included from /Library/Frameworks/R.framework/Versions/4.2/Resources/library/RcppEigen/include/RcppEigenForward.h:31:
In file included from /Library/Frameworks/R.framework/Versions/4.2/Resources/library/RcppEigen/include/Eigen/Sparse:32:
In file included from /Library/Frameworks/R.framework/Versions/4.2/Resources/library/RcppEigen/include/Eigen/SparseQR:34:
/Library/Frameworks/R.framework/Versions/4.2/Resources/library/RcppEigen/include/Eigen/src/Core/util/ReenableStupidWarnings.h:14:30: warning: pragma diagnostic pop could not pop, no matching push [-Wunknown-pragmas]
#pragma clang diagnostic pop
^
In file included from censoring.cpp:7:
In file included from /Library/Frameworks/R.framework/Versions/4.2/Resources/library/RcppEigen/include/RcppEigen.h:25:
In file included from /Library/Frameworks/R.framework/Versions/4.2/Resources/library/RcppEigen/include/RcppEigenForward.h:31:
In file included from /Library/Frameworks/R.framework/Versions/4.2/Resources/library/RcppEigen/include/Eigen/Sparse:33:
In file included from /Library/Frameworks/R.framework/Versions/4.2/Resources/library/RcppEigen/include/Eigen/IterativeLinearSolvers:46:
/Library/Frameworks/R.framework/Versions/4.2/Resources/library/RcppEigen/include/Eigen/src/Core/util/ReenableStupidWarnings.h:14:30: warning: pragma diagnostic pop could not pop, no matching push [-Wunknown-pragmas]
#pragma clang diagnostic pop
^
In file included from censoring.cpp:7:
In file included from /Library/Frameworks/R.framework/Versions/4.2/Resources/library/RcppEigen/include/RcppEigen.h:25:
In file included from /Library/Frameworks/R.framework/Versions/4.2/Resources/library/RcppEigen/include/RcppEigenForward.h:32:
In file included from /Library/Frameworks/R.framework/Versions/4.2/Resources/library/RcppEigen/include/Eigen/CholmodSupport:45:
/Library/Frameworks/R.framework/Versions/4.2/Resources/library/RcppEigen/include/Eigen/src/Core/util/ReenableStupidWarnings.h:14:30: warning: pragma diagnostic pop could not pop, no matching push [-Wunknown-pragmas]
#pragma clang diagnostic pop
^
In file included from censoring.cpp:7:
In file included from /Library/Frameworks/R.framework/Versions/4.2/Resources/library/RcppEigen/include/RcppEigen.h:25:
In file included from /Library/Frameworks/R.framework/Versions/4.2/Resources/library/RcppEigen/include/RcppEigenForward.h:35:
In file included from /Library/Frameworks/R.framework/Versions/4.2/Resources/library/RcppEigen/include/unsupported/Eigen/KroneckerProduct:34:
/Library/Frameworks/R.framework/Versions/4.2/Resources/library/RcppEigen/include/unsupported/Eigen/../../Eigen/src/Core/util/ReenableStupidWarnings.h:14:30: warning: pragma diagnostic pop could not pop, no matching push [-Wunknown-pragmas]
#pragma clang diagnostic pop
^
In file included from censoring.cpp:7:
In file included from /Library/Frameworks/R.framework/Versions/4.2/Resources/library/RcppEigen/include/RcppEigen.h:25:
In file included from /Library/Frameworks/R.framework/Versions/4.2/Resources/library/RcppEigen/include/RcppEigenForward.h:39:
In file included from /Library/Frameworks/R.framework/Versions/4.2/Resources/library/RcppEigen/include/unsupported/Eigen/Polynomials:135:
/Library/Frameworks/R.framework/Versions/4.2/Resources/library/RcppEigen/include/unsupported/Eigen/../../Eigen/src/Core/util/ReenableStupidWarnings.h:14:30: warning: pragma diagnostic pop could not pop, no matching push [-Wunknown-pragmas]
#pragma clang diagnostic pop
^
In file included from censoring.cpp:7:
In file included from /Library/Frameworks/R.framework/Versions/4.2/Resources/library/RcppEigen/include/RcppEigen.h:25:
In file included from /Library/Frameworks/R.framework/Versions/4.2/Resources/library/RcppEigen/include/RcppEigenForward.h:40:
In file included from /Library/Frameworks/R.framework/Versions/4.2/Resources/library/RcppEigen/include/unsupported/Eigen/SparseExtra:51:
/Library/Frameworks/R.framework/Versions/4.2/Resources/library/RcppEigen/include/unsupported/Eigen/../../Eigen/src/Core/util/ReenableStupidWarnings.h:14:30: warning: pragma diagnostic pop could not pop, no matching push [-Wunknown-pragmas]
#pragma clang diagnostic pop
^
censoring.cpp:60:15: warning: variable 'm0' is used uninitialized whenever 'if' condition is false [-Wsometimes-uninitialized]
} else if (!one_uncertain && one_missing) {
^~~~~~~~~~~~~~~~~~~~~~~~~~~~~
censoring.cpp:71:20: note: uninitialized use occurs here
* ( std::erfc((m0-v) / sigma) - std::erfc((m1-v) / sigma) )
^~
censoring.cpp:60:11: note: remove the 'if' if its condition is always true
} else if (!one_uncertain && one_missing) {
^~~~~~~~~~~~~~~~~~~~~~~~~~~~~~~~~~~
censoring.cpp:60:15: warning: variable 'm0' is used uninitialized whenever '&&' condition is false [-Wsometimes-uninitialized]
} else if (!one_uncertain && one_missing) {
^~~~~~~~~~~~~~
censoring.cpp:71:20: note: uninitialized use occurs here
* ( std::erfc((m0-v) / sigma) - std::erfc((m1-v) / sigma) )
^~
censoring.cpp:60:15: note: remove the '&&' if its condition is always true
} else if (!one_uncertain && one_missing) {
^~~~~~~~~~~~~~~~~
censoring.cpp:55:13: note: initialize the variable 'm0' to silence this warning
double m0, m1;
^
= 0.0
censoring.cpp:60:15: warning: variable 'm1' is used uninitialized whenever 'if' condition is false [-Wsometimes-uninitialized]
} else if (!one_uncertain && one_missing) {
^~~~~~~~~~~~~~~~~~~~~~~~~~~~~
censoring.cpp:71:48: note: uninitialized use occurs here
* ( std::erfc((m0-v) / sigma) - std::erfc((m1-v) / sigma) )
^~
censoring.cpp:60:11: note: remove the 'if' if its condition is always true
} else if (!one_uncertain && one_missing) {
^~~~~~~~~~~~~~~~~~~~~~~~~~~~~~~~~~~
censoring.cpp:60:15: warning: variable 'm1' is used uninitialized whenever '&&' condition is false [-Wsometimes-uninitialized]
} else if (!one_uncertain && one_missing) {
^~~~~~~~~~~~~~
censoring.cpp:71:48: note: uninitialized use occurs here
* ( std::erfc((m0-v) / sigma) - std::erfc((m1-v) / sigma) )
^~
censoring.cpp:60:15: note: remove the '&&' if its condition is always true
} else if (!one_uncertain && one_missing) {
^~~~~~~~~~~~~~~~~
censoring.cpp:55:17: note: initialize the variable 'm1' to silence this warning
double m0, m1;
^
= 0.0
censoring.cpp:60:15: warning: variable 'use_d' is used uninitialized whenever 'if' condition is false [-Wsometimes-uninitialized]
} else if (!one_uncertain && one_missing) {
^~~~~~~~~~~~~~~~~~~~~~~~~~~~~
censoring.cpp:66:21: note: uninitialized use occurs here
const double v = use_d ? d : c;
^~~~~
censoring.cpp:60:11: note: remove the 'if' if its condition is always true
} else if (!one_uncertain && one_missing) {
^~~~~~~~~~~~~~~~~~~~~~~~~~~~~~~~~~~
censoring.cpp:60:15: warning: variable 'use_d' is used uninitialized whenever '&&' condition is false [-Wsometimes-uninitialized]
} else if (!one_uncertain && one_missing) {
^~~~~~~~~~~~~~
censoring.cpp:66:21: note: uninitialized use occurs here
const double v = use_d ? d : c;
^~~~~
censoring.cpp:60:15: note: remove the '&&' if its condition is always true
} else if (!one_uncertain && one_missing) {
^~~~~~~~~~~~~~~~~
censoring.cpp:18:12: note: initialize the variable 'use_d' to silence this warning
bool use_d;
^
= false
24 warnings generated.
clang++ -mmacosx-version-min=10.13 -std=gnu++11 -I"/Library/Frameworks/R.framework/Resources/include" -DNDEBUG -I'/Library/Frameworks/R.framework/Versions/4.2/Resources/library/Rcpp/include' -I'/Library/Frameworks/R.framework/Versions/4.2/Resources/library/RcppEigen/include' -I'/Library/Frameworks/R.framework/Versions/4.2/Resources/library/grDevices/include' -I/usr/local/include -ggdb -fPIC -Wall -g -O2 -c utils.cpp -o utils.o
clang++ -mmacosx-version-min=10.13 -std=gnu++11 -dynamiclib -Wl,-headerpad_max_install_names -undefined dynamic_lookup -single_module -multiply_defined suppress -L/Library/Frameworks/R.framework/Resources/lib -L/usr/local/lib -o destiny.so RcppExports.o censoring.o utils.o -F/Library/Frameworks/R.framework/.. -framework R -Wl,-framework -Wl,CoreFoundation
installing to /Library/Frameworks/R.framework/Versions/4.2/Resources/library/00LOCK-destiny/00new/destiny/libs
** R
** data
** demo
** inst
** byte-compile and prepare package for lazy loading
** help
*** installing help indices
** building package indices
** installing vignettes
** testing if installed package can be loaded from temporary location
** checking absolute paths in shared objects and dynamic libraries
** testing if installed package can be loaded from final location
** testing if installed package keeps a record of temporary installation path
* DONE (destiny)
destiny.Rcheck/tests/testthat.Rout
R version 4.2.1 (2022-06-23) -- "Funny-Looking Kid"
Copyright (C) 2022 The R Foundation for Statistical Computing
Platform: x86_64-apple-darwin17.0 (64-bit)
R is free software and comes with ABSOLUTELY NO WARRANTY.
You are welcome to redistribute it under certain conditions.
Type 'license()' or 'licence()' for distribution details.
R is a collaborative project with many contributors.
Type 'contributors()' for more information and
'citation()' on how to cite R or R packages in publications.
Type 'demo()' for some demos, 'help()' for on-line help, or
'help.start()' for an HTML browser interface to help.
Type 'q()' to quit R.
> library(testthat)
> library(destiny)
>
> test_check('destiny')
[ FAIL 0 | WARN 1 | SKIP 1 | PASS 67 ]
══ Skipped tests ═══════════════════════════════════════════════════════════════
• Not yet stable (1)
[ FAIL 0 | WARN 1 | SKIP 1 | PASS 67 ]
>
> proc.time()
user system elapsed
24.992 1.550 26.558
destiny.Rcheck/destiny-Ex.timings
| name | user | system | elapsed | |
| DPT-matrix-methods | 2.401 | 0.091 | 2.495 | |
| DPT-methods | 2.152 | 0.080 | 2.233 | |
| DPT | 2.130 | 0.084 | 2.218 | |
| DiffusionMap-accessors | 0.663 | 0.079 | 0.745 | |
| DiffusionMap-class | 3.332 | 0.076 | 3.415 | |
| DiffusionMap-methods | 0.561 | 0.026 | 0.587 | |
| ExpressionSet-helpers | 0.171 | 0.003 | 0.173 | |
| Gene-Relevance-methods | 3.311 | 0.116 | 3.433 | |
| Gene-Relevance-plotting | 12.177 | 0.246 | 12.913 | |
| Gene-Relevance | 5.782 | 0.097 | 6.122 | |
| Sigmas-class | 0.127 | 0.006 | 0.140 | |
| coercions | 0.669 | 0.028 | 0.741 | |
| colorlegend | 0.018 | 0.001 | 0.021 | |
| cube_helix | 0.012 | 0.001 | 0.019 | |
| destiny-generics | 0.763 | 0.059 | 0.879 | |
| destiny | 8.690 | 0.058 | 8.760 | |
| dm_predict | 1.432 | 0.027 | 1.462 | |
| eig_decomp | 0.002 | 0.000 | 0.003 | |
| extractions | 1.367 | 0.054 | 1.422 | |
| find_dm_k | 0.015 | 0.005 | 0.021 | |
| find_sigmas | 0.700 | 0.055 | 0.757 | |
| find_tips | 0.640 | 0.022 | 0.662 | |
| l_which | 0.000 | 0.001 | 0.000 | |
| plot.DPT | 3.506 | 0.059 | 3.570 | |
| plot.DiffusionMap | 0.816 | 0.036 | 0.854 | |
| plot.Sigmas | 0.165 | 0.021 | 0.186 | |
| projection_dist | 0.349 | 0.012 | 0.362 | |
| random_root | 0.635 | 0.022 | 0.658 | |