| Back to Multiple platform build/check report for BioC 3.15 |
|
This page was generated on 2022-10-19 13:21:22 -0400 (Wed, 19 Oct 2022).
| Hostname | OS | Arch (*) | R version | Installed pkgs |
|---|---|---|---|---|
| nebbiolo1 | Linux (Ubuntu 20.04.5 LTS) | x86_64 | 4.2.1 (2022-06-23) -- "Funny-Looking Kid" | 4386 |
| palomino3 | Windows Server 2022 Datacenter | x64 | 4.2.1 (2022-06-23 ucrt) -- "Funny-Looking Kid" | 4138 |
| merida1 | macOS 10.14.6 Mojave | x86_64 | 4.2.1 (2022-06-23) -- "Funny-Looking Kid" | 4205 |
| Click on any hostname to see more info about the system (e.g. compilers) (*) as reported by 'uname -p', except on Windows and Mac OS X | ||||
|
To the developers/maintainers of the decoupleR package: - Please allow up to 24 hours (and sometimes 48 hours) for your latest push to git@git.bioconductor.org:packages/decoupleR.git to reflect on this report. See How and When does the builder pull? When will my changes propagate? for more information. - Make sure to use the following settings in order to reproduce any error or warning you see on this page. |
| Package 487/2140 | Hostname | OS / Arch | INSTALL | BUILD | CHECK | BUILD BIN | ||||||||
| decoupleR 2.2.2 (landing page) Pau Badia-i-Mompel
| nebbiolo1 | Linux (Ubuntu 20.04.5 LTS) / x86_64 | OK | OK | OK | |||||||||
| palomino3 | Windows Server 2022 Datacenter / x64 | OK | OK | OK | OK | |||||||||
| merida1 | macOS 10.14.6 Mojave / x86_64 | OK | OK | OK | OK | |||||||||
| Package: decoupleR |
| Version: 2.2.2 |
| Command: F:\biocbuild\bbs-3.15-bioc\R\bin\R.exe CMD check --no-multiarch --install=check:decoupleR.install-out.txt --library=F:\biocbuild\bbs-3.15-bioc\R\library --no-vignettes --timings decoupleR_2.2.2.tar.gz |
| StartedAt: 2022-10-18 23:29:36 -0400 (Tue, 18 Oct 2022) |
| EndedAt: 2022-10-18 23:36:34 -0400 (Tue, 18 Oct 2022) |
| EllapsedTime: 417.3 seconds |
| RetCode: 0 |
| Status: OK |
| CheckDir: decoupleR.Rcheck |
| Warnings: 0 |
##############################################################################
##############################################################################
###
### Running command:
###
### F:\biocbuild\bbs-3.15-bioc\R\bin\R.exe CMD check --no-multiarch --install=check:decoupleR.install-out.txt --library=F:\biocbuild\bbs-3.15-bioc\R\library --no-vignettes --timings decoupleR_2.2.2.tar.gz
###
##############################################################################
##############################################################################
* using log directory 'F:/biocbuild/bbs-3.15-bioc/meat/decoupleR.Rcheck'
* using R version 4.2.1 (2022-06-23 ucrt)
* using platform: x86_64-w64-mingw32 (64-bit)
* using session charset: UTF-8
* using option '--no-vignettes'
* checking for file 'decoupleR/DESCRIPTION' ... OK
* checking extension type ... Package
* this is package 'decoupleR' version '2.2.2'
* package encoding: UTF-8
* checking package namespace information ... OK
* checking package dependencies ... OK
* checking if this is a source package ... OK
* checking if there is a namespace ... OK
* checking for hidden files and directories ... OK
* checking for portable file names ... OK
* checking whether package 'decoupleR' can be installed ... OK
* checking installed package size ... OK
* checking package directory ... OK
* checking 'build' directory ... OK
* checking DESCRIPTION meta-information ... OK
* checking top-level files ... OK
* checking for left-over files ... OK
* checking index information ... OK
* checking package subdirectories ... OK
* checking R files for non-ASCII characters ... OK
* checking R files for syntax errors ... OK
* checking whether the package can be loaded ... OK
* checking whether the package can be loaded with stated dependencies ... OK
* checking whether the package can be unloaded cleanly ... OK
* checking whether the namespace can be loaded with stated dependencies ... OK
* checking whether the namespace can be unloaded cleanly ... OK
* checking dependencies in R code ... NOTE
[2022-10-18 23:30:10] [INFO] [OmnipathR] Initialized cache: `C:\Users\biocbuild\AppData\Local\Cache\OmnipathR`.
[2022-10-18 23:30:10] [TRACE] [OmnipathR] Running on a build server, wiping cache.
[2022-10-18 23:30:10] [SUCCESS] [OmnipathR] Removing all cache contents from `C:\Users\biocbuild\AppData\Local\Cache\OmnipathR`.
[2022-10-18 23:30:10] [TRACE] [OmnipathR] Pandoc version: `2.7.3`.
[2022-10-18 23:30:10] [TRACE] [OmnipathR] Cache locked: FALSE
* checking S3 generic/method consistency ... OK
* checking replacement functions ... OK
* checking foreign function calls ... OK
* checking R code for possible problems ... OK
* checking Rd files ... OK
* checking Rd metadata ... OK
* checking Rd cross-references ... OK
* checking for missing documentation entries ... OK
* checking for code/documentation mismatches ... OK
* checking Rd \usage sections ... OK
* checking Rd contents ... OK
* checking for unstated dependencies in examples ... OK
* checking files in 'vignettes' ... OK
* checking examples ... OK
Examples with CPU (user + system) or elapsed time > 5s
user system elapsed
get_dorothea 14.20 0.64 15.70
get_progeny 13.58 0.50 16.03
run_consensus 8.61 0.17 8.78
run_aucell 7.31 0.41 7.72
* checking for unstated dependencies in 'tests' ... OK
* checking tests ...
Running 'testthat.R'
OK
* checking for unstated dependencies in vignettes ... OK
* checking package vignettes in 'inst/doc' ... OK
* checking running R code from vignettes ... SKIPPED
* checking re-building of vignette outputs ... SKIPPED
* checking PDF version of manual ... OK
* DONE
Status: 1 NOTE
See
'F:/biocbuild/bbs-3.15-bioc/meat/decoupleR.Rcheck/00check.log'
for details.
decoupleR.Rcheck/00install.out
############################################################################## ############################################################################## ### ### Running command: ### ### F:\biocbuild\bbs-3.15-bioc\R\bin\R.exe CMD INSTALL decoupleR ### ############################################################################## ############################################################################## * installing to library 'F:/biocbuild/bbs-3.15-bioc/R/library' * installing *source* package 'decoupleR' ... ** using staged installation ** R ** inst ** byte-compile and prepare package for lazy loading ** help *** installing help indices *** copying figures ** building package indices ** installing vignettes ** testing if installed package can be loaded from temporary location ** testing if installed package can be loaded from final location ** testing if installed package keeps a record of temporary installation path * DONE (decoupleR)
decoupleR.Rcheck/tests/testthat.Rout
R version 4.2.1 (2022-06-23 ucrt) -- "Funny-Looking Kid"
Copyright (C) 2022 The R Foundation for Statistical Computing
Platform: x86_64-w64-mingw32/x64 (64-bit)
R is free software and comes with ABSOLUTELY NO WARRANTY.
You are welcome to redistribute it under certain conditions.
Type 'license()' or 'licence()' for distribution details.
R is a collaborative project with many contributors.
Type 'contributors()' for more information and
'citation()' on how to cite R or R packages in publications.
Type 'demo()' for some demos, 'help()' for on-line help, or
'help.start()' for an HTML browser interface to help.
Type 'q()' to quit R.
> library(testthat)
> library(decoupleR)
>
> test_check("decoupleR")
[2022-10-18 23:35:00] [INFO] [OmnipathR] Initialized cache: `C:\Users\biocbuild\AppData\Local\Cache\OmnipathR`.
[2022-10-18 23:35:00] [TRACE] [OmnipathR] Running on a build server, wiping cache.
[2022-10-18 23:35:00] [SUCCESS] [OmnipathR] Removing all cache contents from `C:\Users\biocbuild\AppData\Local\Cache\OmnipathR`.
[2022-10-18 23:35:01] [TRACE] [OmnipathR] Pandoc version: `2.7.3`.
[2022-10-18 23:35:01] [TRACE] [OmnipathR] Cache locked: FALSE
[2022-10-18 23:35:02] [INFO] [OmnipathR] Cache record does not exist: `https://omnipathdb.org/annotations?resources=TFcensus&license=academic`
[2022-10-18 23:35:02] [INFO] [OmnipathR] Retrieving URL: `https://omnipathdb.org/annotations?resources=TFcensus&license=academic`
[2022-10-18 23:35:02] [TRACE] [OmnipathR] Attempt 1/3: `https://omnipathdb.org/annotations?resources=TFcensus&license=academic`
[2022-10-18 23:35:03] [INFO] [OmnipathR] Cache item `6f000d9b5edd9832b1c28754d1c3d9449c1c7490` version 1: status changed from `unknown` to `started`.
[2022-10-18 23:35:03] [TRACE] [OmnipathR] Exporting object to RDS: `C:\Users\biocbuild\AppData\Local\Cache\OmnipathR/6f000d9b5edd9832b1c28754d1c3d9449c1c7490-1.rds`.
[2022-10-18 23:35:03] [TRACE] [OmnipathR] Exported RDS to `C:\Users\biocbuild\AppData\Local\Cache\OmnipathR/6f000d9b5edd9832b1c28754d1c3d9449c1c7490-1.rds`.
[2022-10-18 23:35:03] [INFO] [OmnipathR] Download ready [key=6f000d9b5edd9832b1c28754d1c3d9449c1c7490, version=1]
[2022-10-18 23:35:04] [INFO] [OmnipathR] Cache item `6f000d9b5edd9832b1c28754d1c3d9449c1c7490` version 1: status changed from `started` to `ready`.
[2022-10-18 23:35:04] [SUCCESS] [OmnipathR] Downloaded 3516 annotation records.
[2022-10-18 23:35:05] [INFO] [OmnipathR] Cache record does not exist: `https://omnipathdb.org/annotations?resources=PROGENy&license=academic`
[2022-10-18 23:35:05] [INFO] [OmnipathR] Retrieving URL: `https://omnipathdb.org/annotations?resources=PROGENy&license=academic`
[2022-10-18 23:35:05] [TRACE] [OmnipathR] Attempt 1/3: `https://omnipathdb.org/annotations?resources=PROGENy&license=academic`
[2022-10-18 23:35:16] [INFO] [OmnipathR] Cache item `3492392585ba05414edfae46801492076437d7e7` version 1: status changed from `unknown` to `started`.
[2022-10-18 23:35:17] [TRACE] [OmnipathR] Exporting object to RDS: `C:\Users\biocbuild\AppData\Local\Cache\OmnipathR/3492392585ba05414edfae46801492076437d7e7-1.rds`.
[2022-10-18 23:35:19] [TRACE] [OmnipathR] Exported RDS to `C:\Users\biocbuild\AppData\Local\Cache\OmnipathR/3492392585ba05414edfae46801492076437d7e7-1.rds`.
[2022-10-18 23:35:19] [INFO] [OmnipathR] Download ready [key=3492392585ba05414edfae46801492076437d7e7, version=1]
[2022-10-18 23:35:19] [INFO] [OmnipathR] Cache item `3492392585ba05414edfae46801492076437d7e7` version 1: status changed from `started` to `ready`.
[2022-10-18 23:35:19] [SUCCESS] [OmnipathR] Downloaded 700257 annotation records.
[2022-10-18 23:35:25] [TRACE] [OmnipathR] Loaded data from RDS `C:\Users\biocbuild\AppData\Local\Cache\OmnipathR/3492392585ba05414edfae46801492076437d7e7-1.rds`.
[2022-10-18 23:35:25] [INFO] [OmnipathR] Loaded from cache: `https://omnipathdb.org/annotations?resources=PROGENy&license=academic`
[2022-10-18 23:35:25] [SUCCESS] [OmnipathR] Loaded 700257 annotation records from cache.
[2022-10-18 23:35:28] [INFO] [OmnipathR] Cache record does not exist: `https://omnipathdb.org/interactions?genesymbols=yes&datasets=dorothea&organisms=9606&dorothea_levels=A,B,C,D&fields=sources,references,curation_effort,dorothea_level&license=academic`
[2022-10-18 23:35:28] [INFO] [OmnipathR] Retrieving URL: `https://omnipathdb.org/interactions?genesymbols=yes&datasets=dorothea&organisms=9606&dorothea_levels=A,B,C,D&fields=sources,references,curation_effort,dorothea_level&license=academic`
[2022-10-18 23:35:28] [TRACE] [OmnipathR] Attempt 1/3: `https://omnipathdb.org/interactions?genesymbols=yes&datasets=dorothea&organisms=9606&dorothea_levels=A,B,C,D&fields=sources,references,curation_effort,dorothea_level&license=academic`
[2022-10-18 23:35:31] [INFO] [OmnipathR] Cache item `46d37339bbc3f9a05bb89ccb79278cf1233f5cdf` version 1: status changed from `unknown` to `started`.
[2022-10-18 23:35:31] [TRACE] [OmnipathR] Exporting object to RDS: `C:\Users\biocbuild\AppData\Local\Cache\OmnipathR/46d37339bbc3f9a05bb89ccb79278cf1233f5cdf-1.rds`.
[2022-10-18 23:35:32] [TRACE] [OmnipathR] Exported RDS to `C:\Users\biocbuild\AppData\Local\Cache\OmnipathR/46d37339bbc3f9a05bb89ccb79278cf1233f5cdf-1.rds`.
[2022-10-18 23:35:32] [INFO] [OmnipathR] Download ready [key=46d37339bbc3f9a05bb89ccb79278cf1233f5cdf, version=1]
[2022-10-18 23:35:32] [INFO] [OmnipathR] Cache item `46d37339bbc3f9a05bb89ccb79278cf1233f5cdf` version 1: status changed from `started` to `ready`.
[2022-10-18 23:35:35] [SUCCESS] [OmnipathR] Downloaded 278482 interactions.
[2022-10-18 23:35:43] [INFO] [OmnipathR] Cache record does not exist: `https://omnipathdb.org/interactions?genesymbols=yes&datasets=dorothea&organisms=10090&dorothea_levels=A,B,C,D&fields=sources,references,curation_effort,dorothea_level&license=academic`
[2022-10-18 23:35:43] [INFO] [OmnipathR] Retrieving URL: `https://omnipathdb.org/interactions?genesymbols=yes&datasets=dorothea&organisms=10090&dorothea_levels=A,B,C,D&fields=sources,references,curation_effort,dorothea_level&license=academic`
[2022-10-18 23:35:43] [TRACE] [OmnipathR] Attempt 1/3: `https://omnipathdb.org/interactions?genesymbols=yes&datasets=dorothea&organisms=10090&dorothea_levels=A,B,C,D&fields=sources,references,curation_effort,dorothea_level&license=academic`
[2022-10-18 23:35:46] [INFO] [OmnipathR] Cache item `ff347dedf78ef5e38c9c6d8eed291fa901aa3791` version 1: status changed from `unknown` to `started`.
[2022-10-18 23:35:46] [TRACE] [OmnipathR] Exporting object to RDS: `C:\Users\biocbuild\AppData\Local\Cache\OmnipathR/ff347dedf78ef5e38c9c6d8eed291fa901aa3791-1.rds`.
[2022-10-18 23:35:47] [TRACE] [OmnipathR] Exported RDS to `C:\Users\biocbuild\AppData\Local\Cache\OmnipathR/ff347dedf78ef5e38c9c6d8eed291fa901aa3791-1.rds`.
[2022-10-18 23:35:47] [INFO] [OmnipathR] Download ready [key=ff347dedf78ef5e38c9c6d8eed291fa901aa3791, version=1]
[2022-10-18 23:35:47] [INFO] [OmnipathR] Cache item `ff347dedf78ef5e38c9c6d8eed291fa901aa3791` version 1: status changed from `started` to `ready`.
[2022-10-18 23:35:50] [SUCCESS] [OmnipathR] Downloaded 256977 interactions.
Attaching package: 'dplyr'
The following object is masked from 'package:testthat':
matches
The following objects are masked from 'package:stats':
filter, lag
The following objects are masked from 'package:base':
intersect, setdiff, setequal, union
[ FAIL 0 | WARN 336 | SKIP 0 | PASS 35 ]
[ FAIL 0 | WARN 336 | SKIP 0 | PASS 35 ]
>
> proc.time()
user system elapsed
149.50 3.93 271.48
decoupleR.Rcheck/decoupleR-Ex.timings
| name | user | system | elapsed | |
| check_corr | 0.14 | 0.01 | 0.15 | |
| convert_f_defaults | 0.04 | 0.02 | 0.07 | |
| decouple | 0 | 0 | 0 | |
| dot-fit_preprocessing | 0.14 | 0.00 | 0.14 | |
| extract_sets | 0.05 | 0.02 | 0.07 | |
| filt_minsize | 0.31 | 0.00 | 0.31 | |
| get_dorothea | 14.20 | 0.64 | 15.70 | |
| get_profile_of | 0.00 | 0.01 | 0.00 | |
| get_progeny | 13.58 | 0.50 | 16.03 | |
| get_resource | 0.35 | 0.02 | 2.23 | |
| get_toy_data | 0 | 0 | 0 | |
| intersect_regulons | 0.03 | 0.00 | 0.03 | |
| pipe | 0 | 0 | 0 | |
| pivot_wider_profile | 0 | 0 | 0 | |
| randomize_matrix | 0 | 0 | 0 | |
| rename_net | 0.06 | 0.00 | 0.06 | |
| run_aucell | 7.31 | 0.41 | 7.72 | |
| run_consensus | 8.61 | 0.17 | 8.78 | |
| run_fgsea | 2.75 | 0.09 | 2.85 | |
| run_gsva | 1.38 | 0.19 | 1.57 | |
| run_mdt | 0.26 | 0.02 | 0.28 | |
| run_mlm | 0.27 | 0.00 | 0.27 | |
| run_ora | 0.83 | 0.03 | 0.86 | |
| run_udt | 0.50 | 0.01 | 0.51 | |
| run_ulm | 0.39 | 0.00 | 0.39 | |
| run_viper | 0.92 | 0.08 | 1.00 | |
| run_wmean | 1.44 | 0.05 | 1.49 | |
| run_wsum | 1.53 | 0.06 | 1.60 | |
| show_methods | 0.08 | 0.00 | 0.08 | |
| show_resources | 0.03 | 0.00 | 0.50 | |
| tidyeval | 0 | 0 | 0 | |