| Back to Multiple platform build/check report for BioC 3.15 |
|
This page was generated on 2022-10-19 13:22:47 -0400 (Wed, 19 Oct 2022).
| Hostname | OS | Arch (*) | R version | Installed pkgs |
|---|---|---|---|---|
| nebbiolo1 | Linux (Ubuntu 20.04.5 LTS) | x86_64 | 4.2.1 (2022-06-23) -- "Funny-Looking Kid" | 4386 |
| palomino3 | Windows Server 2022 Datacenter | x64 | 4.2.1 (2022-06-23 ucrt) -- "Funny-Looking Kid" | 4138 |
| merida1 | macOS 10.14.6 Mojave | x86_64 | 4.2.1 (2022-06-23) -- "Funny-Looking Kid" | 4205 |
| Click on any hostname to see more info about the system (e.g. compilers) (*) as reported by 'uname -p', except on Windows and Mac OS X | ||||
|
To the developers/maintainers of the cyanoFilter package: - Please allow up to 24 hours (and sometimes 48 hours) for your latest push to git@git.bioconductor.org:packages/cyanoFilter.git to reflect on this report. See How and When does the builder pull? When will my changes propagate? for more information. - Make sure to use the following settings in order to reproduce any error or warning you see on this page. |
| Package 452/2140 | Hostname | OS / Arch | INSTALL | BUILD | CHECK | BUILD BIN | ||||||||
| cyanoFilter 1.4.0 (landing page) Oluwafemi Olusoji
| nebbiolo1 | Linux (Ubuntu 20.04.5 LTS) / x86_64 | OK | OK | OK | |||||||||
| palomino3 | Windows Server 2022 Datacenter / x64 | OK | OK | OK | OK | |||||||||
| merida1 | macOS 10.14.6 Mojave / x86_64 | OK | OK | OK | OK | |||||||||
| Package: cyanoFilter |
| Version: 1.4.0 |
| Command: /Library/Frameworks/R.framework/Resources/bin/R CMD check --install=check:cyanoFilter.install-out.txt --library=/Library/Frameworks/R.framework/Resources/library --no-vignettes --timings cyanoFilter_1.4.0.tar.gz |
| StartedAt: 2022-10-19 01:12:49 -0400 (Wed, 19 Oct 2022) |
| EndedAt: 2022-10-19 01:15:35 -0400 (Wed, 19 Oct 2022) |
| EllapsedTime: 166.1 seconds |
| RetCode: 0 |
| Status: OK |
| CheckDir: cyanoFilter.Rcheck |
| Warnings: 0 |
##############################################################################
##############################################################################
###
### Running command:
###
### /Library/Frameworks/R.framework/Resources/bin/R CMD check --install=check:cyanoFilter.install-out.txt --library=/Library/Frameworks/R.framework/Resources/library --no-vignettes --timings cyanoFilter_1.4.0.tar.gz
###
##############################################################################
##############################################################################
* using log directory ‘/Users/biocbuild/bbs-3.15-bioc/meat/cyanoFilter.Rcheck’
* using R version 4.2.1 (2022-06-23)
* using platform: x86_64-apple-darwin17.0 (64-bit)
* using session charset: UTF-8
* using option ‘--no-vignettes’
* checking for file ‘cyanoFilter/DESCRIPTION’ ... OK
* checking extension type ... Package
* this is package ‘cyanoFilter’ version ‘1.4.0’
* package encoding: UTF-8
* checking package namespace information ... OK
* checking package dependencies ... OK
* checking if this is a source package ... OK
* checking if there is a namespace ... OK
* checking for hidden files and directories ... OK
* checking for portable file names ... OK
* checking for sufficient/correct file permissions ... OK
* checking whether package ‘cyanoFilter’ can be installed ... OK
* checking installed package size ... OK
* checking package directory ... OK
* checking ‘build’ directory ... OK
* checking DESCRIPTION meta-information ... OK
* checking top-level files ... OK
* checking for left-over files ... OK
* checking index information ... OK
* checking package subdirectories ... OK
* checking R files for non-ASCII characters ... OK
* checking R files for syntax errors ... OK
* checking whether the package can be loaded ... OK
* checking whether the package can be loaded with stated dependencies ... OK
* checking whether the package can be unloaded cleanly ... OK
* checking whether the namespace can be loaded with stated dependencies ... OK
* checking whether the namespace can be unloaded cleanly ... OK
* checking dependencies in R code ... OK
* checking S3 generic/method consistency ... OK
* checking replacement functions ... OK
* checking foreign function calls ... OK
* checking R code for possible problems ... OK
* checking Rd files ... OK
* checking Rd metadata ... OK
* checking Rd cross-references ... OK
* checking for missing documentation entries ... OK
* checking for code/documentation mismatches ... OK
* checking Rd \usage sections ... OK
* checking Rd contents ... OK
* checking for unstated dependencies in examples ... OK
* checking files in ‘vignettes’ ... OK
* checking examples ... OK
Examples with CPU (user + system) or elapsed time > 5s
user system elapsed
gateFunc 17.866 0.525 14.417
* checking for unstated dependencies in vignettes ... OK
* checking package vignettes in ‘inst/doc’ ... OK
* checking running R code from vignettes ... SKIPPED
* checking re-building of vignette outputs ... SKIPPED
* checking PDF version of manual ... OK
* DONE
Status: OK
cyanoFilter.Rcheck/00install.out
############################################################################## ############################################################################## ### ### Running command: ### ### /Library/Frameworks/R.framework/Resources/bin/R CMD INSTALL cyanoFilter ### ############################################################################## ############################################################################## * installing to library ‘/Library/Frameworks/R.framework/Versions/4.2/Resources/library’ * installing *source* package ‘cyanoFilter’ ... ** using staged installation ** R ** inst ** byte-compile and prepare package for lazy loading ** help *** installing help indices ** building package indices ** installing vignettes ** testing if installed package can be loaded from temporary location ** testing if installed package can be loaded from final location ** testing if installed package keeps a record of temporary installation path * DONE (cyanoFilter)
cyanoFilter.Rcheck/cyanoFilter-Ex.timings
| name | user | system | elapsed | |
| MarginEvents | 4.540 | 0.198 | 4.747 | |
| PhytoFilter | 1.355 | 0.035 | 1.397 | |
| PhytopFilter | 1.478 | 0.043 | 1.529 | |
| accTest | 0.681 | 0.025 | 0.709 | |
| accuracy | 0.914 | 0.077 | 0.993 | |
| cellmargin | 0.620 | 0.020 | 0.642 | |
| clusterExtract | 1.618 | 0.035 | 1.660 | |
| clusterExtractp | 1.965 | 0.060 | 2.039 | |
| debrisNc | 0.612 | 0.032 | 0.647 | |
| fullFlowframe-MarginEvents-method | 0.560 | 0.015 | 0.577 | |
| fullFlowframe-PhytopFilter-method | 1.196 | 0.029 | 1.230 | |
| fullFlowframe | 0.604 | 0.014 | 0.623 | |
| gateFunc | 17.866 | 0.525 | 14.417 | |
| ggpairsDens | 4.512 | 0.144 | 4.668 | |
| ggplotDens | 0.965 | 0.027 | 0.997 | |
| ggplotDens2 | 1.911 | 0.083 | 2.007 | |
| goodfcs | 0.059 | 0.004 | 0.064 | |
| is.DebrisFilter | 0.000 | 0.000 | 0.001 | |
| is.MarginEvents | 0 | 0 | 0 | |
| is.PhytopFilter | 0 | 0 | 0 | |
| is.flowFrame | 0.001 | 0.000 | 0.001 | |
| is.flowSet | 0.001 | 0.000 | 0.000 | |
| lnTrans | 0.389 | 0.011 | 0.401 | |
| newFlowframe | 0.398 | 0.036 | 0.436 | |
| nona | 0.194 | 0.004 | 0.200 | |
| noneg | 0.326 | 0.007 | 0.334 | |
| oneDgate | 0.380 | 0.038 | 0.420 | |
| pairsPlot | 2.472 | 0.136 | 2.614 | |
| pigmentGate | 0.524 | 0.035 | 0.562 | |
| reducedFlowframe-MarginEvents-method | 0.565 | 0.014 | 0.583 | |
| reducedFlowframe | 0.564 | 0.014 | 0.582 | |
| retain | 0.029 | 0.002 | 0.030 | |
| rowNumbers | 0.426 | 0.041 | 0.469 | |
| summaries-DebrisFilter-method | 0.550 | 0.013 | 0.567 | |
| summaries-MarginEvents-method | 0.571 | 0.013 | 0.586 | |
| summaries-PhytopFilter-method | 1.194 | 0.024 | 1.221 | |
| summaries | 0.598 | 0.019 | 0.620 | |