| Back to Multiple platform build/check report for BioC 3.15 |
|
This page was generated on 2022-03-18 11:07:18 -0400 (Fri, 18 Mar 2022).
| Hostname | OS | Arch (*) | R version | Installed pkgs |
|---|---|---|---|---|
| nebbiolo1 | Linux (Ubuntu 20.04.4 LTS) | x86_64 | R Under development (unstable) (2022-02-17 r81757) -- "Unsuffered Consequences" | 4334 |
| riesling1 | Windows Server 2019 Standard | x64 | R Under development (unstable) (2021-11-21 r81221) -- "Unsuffered Consequences" | 4097 |
| palomino3 | Windows Server 2022 Datacenter | x64 | R Under development (unstable) (2022-02-17 r81757 ucrt) -- "Unsuffered Consequences" | 4083 |
| merida1 | macOS 10.14.6 Mojave | x86_64 | R Under development (unstable) (2022-03-02 r81842) -- "Unsuffered Consequences" | 4134 |
| Click on any hostname to see more info about the system (e.g. compilers) (*) as reported by 'uname -p', except on Windows and Mac OS X | ||||
|
To the developers/maintainers of the cummeRbund package: - Please allow up to 24 hours (and sometimes 48 hours) for your latest push to git@git.bioconductor.org:packages/cummeRbund.git to reflect on this report. See How and When does the builder pull? When will my changes propagate? here for more information. - Make sure to use the following settings in order to reproduce any error or warning you see on this page. |
| Package 437/2090 | Hostname | OS / Arch | INSTALL | BUILD | CHECK | BUILD BIN | ||||||||
| cummeRbund 2.37.0 (landing page) Loyal A. Goff
| nebbiolo1 | Linux (Ubuntu 20.04.4 LTS) / x86_64 | OK | OK | WARNINGS | |||||||||
| riesling1 | Windows Server 2019 Standard / x64 | OK | OK | WARNINGS | OK | |||||||||
| palomino3 | Windows Server 2022 Datacenter / x64 | OK | OK | WARNINGS | OK | |||||||||
| merida1 | macOS 10.14.6 Mojave / x86_64 | OK | OK | WARNINGS | OK | |||||||||
| Package: cummeRbund |
| Version: 2.37.0 |
| Command: D:\biocbuild\bbs-3.15-bioc\R\bin\R.exe CMD INSTALL cummeRbund |
| StartedAt: 2022-03-17 16:16:29 -0400 (Thu, 17 Mar 2022) |
| EndedAt: 2022-03-17 16:18:00 -0400 (Thu, 17 Mar 2022) |
| EllapsedTime: 91.1 seconds |
| RetCode: 0 |
| Status: OK |
##############################################################################
##############################################################################
###
### Running command:
###
### D:\biocbuild\bbs-3.15-bioc\R\bin\R.exe CMD INSTALL cummeRbund
###
##############################################################################
##############################################################################
* installing to library 'D:/biocbuild/bbs-3.15-bioc/R/library'
* installing *source* package 'cummeRbund' ...
** using staged installation
** R
** data
** inst
** byte-compile and prepare package for lazy loading
** help
*** installing help indices
converting help for package 'cummeRbund'
finding HTML links ... done
CuffData-class html
CuffDist-class html
CuffFeature-class html
CuffFeatureSet-class html
CuffGene-class html
CuffGeneSet-class html
CuffSet-class html
JSdist html
JSdistFromP html
JSdistVec html
MAplot html
PINK1 html
QCplots html
addFeatures html
count html
countMatrix html
csBoxplot html
csCluster html
csClusterPlot html
csDendro html
csDensity html
csDistHeat html
csHeatmap html
csScatter html
csSpecificity html
csVolcano html
cummeRbund-package html
diffData html
dimensionality html
dispersionPlot html
distValues html
exploratory html
expressionBarplot html
expressionPlot html
featureNames html
features html
findGene html
findSimilar html
fpkm html
fpkmMatrix html
getFeatures html
getGene html
getGeneId html
getGenes html
getLevels html
getRepLevels html
getSig html
getSigTable html
makeprobs html
makeprobsvec html
readCufflinks html
repFpkm html
replicates html
runInfo html
sampleGeneSet html
sampleIDs html
samples html
shannon.entropy html
sigMatrix html
** building package indices
** installing vignettes
** testing if installed package can be loaded from temporary location
** testing if installed package can be loaded from final location
** testing if installed package keeps a record of temporary installation path
* DONE (cummeRbund)
Making 'packages.html' ...Warning in packageDescription(i, lib.loc = lib, fields = "Title", encoding = "UTF-8") :
DESCRIPTION file of package 'methylGSA' is missing or broken
done