| Back to Multiple platform build/check report for BioC 3.15 |
|
This page was generated on 2022-03-18 11:07:15 -0400 (Fri, 18 Mar 2022).
| Hostname | OS | Arch (*) | R version | Installed pkgs |
|---|---|---|---|---|
| nebbiolo1 | Linux (Ubuntu 20.04.4 LTS) | x86_64 | R Under development (unstable) (2022-02-17 r81757) -- "Unsuffered Consequences" | 4334 |
| riesling1 | Windows Server 2019 Standard | x64 | R Under development (unstable) (2021-11-21 r81221) -- "Unsuffered Consequences" | 4097 |
| palomino3 | Windows Server 2022 Datacenter | x64 | R Under development (unstable) (2022-02-17 r81757 ucrt) -- "Unsuffered Consequences" | 4083 |
| merida1 | macOS 10.14.6 Mojave | x86_64 | R Under development (unstable) (2022-03-02 r81842) -- "Unsuffered Consequences" | 4134 |
| Click on any hostname to see more info about the system (e.g. compilers) (*) as reported by 'uname -p', except on Windows and Mac OS X | ||||
|
To the developers/maintainers of the convert package: - Please allow up to 24 hours (and sometimes 48 hours) for your latest push to git@git.bioconductor.org:packages/convert.git to reflect on this report. See How and When does the builder pull? When will my changes propagate? here for more information. - Make sure to use the following settings in order to reproduce any error or warning you see on this page. |
| Package 395/2090 | Hostname | OS / Arch | INSTALL | BUILD | CHECK | BUILD BIN | ||||||||
| convert 1.71.0 (landing page) Yee Hwa (Jean) Yang
| nebbiolo1 | Linux (Ubuntu 20.04.4 LTS) / x86_64 | OK | OK | OK | |||||||||
| riesling1 | Windows Server 2019 Standard / x64 | OK | OK | OK | OK | |||||||||
| palomino3 | Windows Server 2022 Datacenter / x64 | OK | OK | OK | OK | |||||||||
| merida1 | macOS 10.14.6 Mojave / x86_64 | OK | OK | OK | OK | |||||||||
| Package: convert |
| Version: 1.71.0 |
| Command: D:\biocbuild\bbs-3.15-bioc\R\bin\R.exe CMD check --no-multiarch --install=check:convert.install-out.txt --library=D:\biocbuild\bbs-3.15-bioc\R\library --no-vignettes --timings convert_1.71.0.tar.gz |
| StartedAt: 2022-03-17 18:48:17 -0400 (Thu, 17 Mar 2022) |
| EndedAt: 2022-03-17 18:48:56 -0400 (Thu, 17 Mar 2022) |
| EllapsedTime: 38.9 seconds |
| RetCode: 0 |
| Status: OK |
| CheckDir: convert.Rcheck |
| Warnings: 0 |
##############################################################################
##############################################################################
###
### Running command:
###
### D:\biocbuild\bbs-3.15-bioc\R\bin\R.exe CMD check --no-multiarch --install=check:convert.install-out.txt --library=D:\biocbuild\bbs-3.15-bioc\R\library --no-vignettes --timings convert_1.71.0.tar.gz
###
##############################################################################
##############################################################################
* using log directory 'D:/biocbuild/bbs-3.15-bioc/meat/convert.Rcheck'
* using R Under development (unstable) (2021-11-21 r81221)
* using platform: x86_64-w64-mingw32 (64-bit)
* using session charset: ISO8859-1
* using option '--no-vignettes'
* checking for file 'convert/DESCRIPTION' ... OK
* this is package 'convert' version '1.71.0'
* checking package namespace information ... OK
* checking package dependencies ... OK
* checking if this is a source package ... OK
* checking if there is a namespace ... OK
* checking for hidden files and directories ... OK
* checking for portable file names ... OK
* checking whether package 'convert' can be installed ... OK
* checking installed package size ... OK
* checking package directory ... OK
* checking 'build' directory ... OK
* checking DESCRIPTION meta-information ... OK
* checking top-level files ... OK
* checking for left-over files ... OK
* checking index information ... OK
* checking package subdirectories ... OK
* checking R files for non-ASCII characters ... OK
* checking R files for syntax errors ... OK
* checking whether the package can be loaded ... OK
* checking whether the package can be loaded with stated dependencies ... OK
* checking whether the package can be unloaded cleanly ... OK
* checking whether the namespace can be loaded with stated dependencies ... OK
* checking whether the namespace can be unloaded cleanly ... OK
* checking dependencies in R code ... NOTE
Packages in Depends field not imported from:
'Biobase' 'limma' 'marray' 'methods'
These packages need to be imported from (in the NAMESPACE file)
for when this namespace is loaded but not attached.
* checking S3 generic/method consistency ... OK
* checking replacement functions ... OK
* checking foreign function calls ... OK
* checking R code for possible problems ... NOTE
coerce,MAList-ExpressionSet: no visible global function definition for
'new'
coerce,MAList-ExpressionSet: no visible global function definition for
'notes<-'
coerce,MAList-marrayNorm: no visible global function definition for
'new'
coerce,RGList-NChannelSet: no visible global function definition for
'new'
coerce,RGList-NChannelSet: no visible binding for global variable 'df'
coerce,RGList-marrayRaw: no visible global function definition for
'new'
coerce,marrayNorm-ExpressionSet: no visible global function definition
for 'new'
coerce,marrayNorm-ExpressionSet: no visible global function definition
for 'notes<-'
coerce,marrayNorm-ExpressionSet: no visible global function definition
for 'maM'
coerce,marrayNorm-ExpressionSet: no visible global function definition
for 'maLabels'
coerce,marrayNorm-ExpressionSet: no visible global function definition
for 'maGnames'
coerce,marrayNorm-ExpressionSet: no visible global function definition
for 'maInfo'
coerce,marrayNorm-ExpressionSet: no visible global function definition
for 'maTargets'
coerce,marrayNorm-MAList: no visible global function definition for
'new'
coerce,marrayNorm-MAList: no visible global function definition for
'getClass'
coerce,marrayRaw-NChannelSet: no visible global function definition for
'maRf'
coerce,marrayRaw-NChannelSet: no visible global function definition for
'maGf'
coerce,marrayRaw-NChannelSet: no visible global function definition for
'maRb'
coerce,marrayRaw-NChannelSet: no visible global function definition for
'maGb'
coerce,marrayRaw-NChannelSet: no visible binding for global variable
'assayDataNew'
coerce,marrayRaw-NChannelSet: no visible global function definition for
'maInfo'
coerce,marrayRaw-NChannelSet: no visible global function definition for
'maTargets'
coerce,marrayRaw-NChannelSet: no visible global function definition for
'new'
coerce,marrayRaw-NChannelSet: no visible global function definition for
'maGnames'
coerce,marrayRaw-NChannelSet: no visible global function definition for
'phenoData<-'
coerce,marrayRaw-NChannelSet: no visible global function definition for
'sampleNames'
coerce,marrayRaw-NChannelSet: no visible global function definition for
'sampleNames<-'
coerce,marrayRaw-NChannelSet: no visible global function definition for
'maLabels'
coerce,marrayRaw-NChannelSet: no visible global function definition for
'featureData<-'
coerce,marrayRaw-NChannelSet: no visible global function definition for
'featureNames<-'
coerce,marrayRaw-RGList: no visible global function definition for
'new'
Undefined global functions or variables:
assayDataNew df featureData<- featureNames<- getClass maGb maGf
maGnames maInfo maLabels maM maRb maRf maTargets new notes<-
phenoData<- sampleNames sampleNames<-
Consider adding
importFrom("methods", "getClass", "new")
importFrom("stats", "df")
to your NAMESPACE file (and ensure that your DESCRIPTION Imports field
contains 'methods').
* checking Rd files ... OK
* checking Rd metadata ... OK
* checking Rd cross-references ... OK
* checking for missing documentation entries ... OK
* checking for code/documentation mismatches ... OK
* checking Rd \usage sections ... OK
* checking Rd contents ... OK
* checking for unstated dependencies in examples ... OK
* checking files in 'vignettes' ... OK
* checking examples ... OK
* checking for unstated dependencies in vignettes ... OK
* checking package vignettes in 'inst/doc' ... OK
* checking running R code from vignettes ... SKIPPED
* checking re-building of vignette outputs ... SKIPPED
* checking PDF version of manual ... OK
* DONE
Status: 2 NOTEs
See
'D:/biocbuild/bbs-3.15-bioc/meat/convert.Rcheck/00check.log'
for details.
convert.Rcheck/00install.out
##############################################################################
##############################################################################
###
### Running command:
###
### D:\biocbuild\bbs-3.15-bioc\R\bin\R.exe CMD INSTALL convert
###
##############################################################################
##############################################################################
* installing to library 'D:/biocbuild/bbs-3.15-bioc/R/library'
* installing *source* package 'convert' ...
** using staged installation
** R
** byte-compile and prepare package for lazy loading
** help
*** installing help indices
converting help for package 'convert'
finding HTML links ... done
coerce html
** building package indices
** installing vignettes
** testing if installed package can be loaded from temporary location
** testing if installed package can be loaded from final location
** testing if installed package keeps a record of temporary installation path
* DONE (convert)
Making 'packages.html' ...Warning in packageDescription(i, lib.loc = lib, fields = "Title", encoding = "UTF-8") :
DESCRIPTION file of package 'IRanges' is missing or broken
Warning in packageDescription(i, lib.loc = lib, fields = "Title", encoding = "UTF-8") :
DESCRIPTION file of package 'PLPE' is missing or broken
Warning in packageDescription(i, lib.loc = lib, fields = "Title", encoding = "UTF-8") :
DESCRIPTION file of package 'savR' is missing or broken
done
convert.Rcheck/convert-Ex.timings
| name | user | system | elapsed | |
| coerce | 0.14 | 0.00 | 0.14 | |