| Back to Multiple platform build/check report for BioC 3.15 |
|
This page was generated on 2022-10-19 13:21:17 -0400 (Wed, 19 Oct 2022).
| Hostname | OS | Arch (*) | R version | Installed pkgs |
|---|---|---|---|---|
| nebbiolo1 | Linux (Ubuntu 20.04.5 LTS) | x86_64 | 4.2.1 (2022-06-23) -- "Funny-Looking Kid" | 4386 |
| palomino3 | Windows Server 2022 Datacenter | x64 | 4.2.1 (2022-06-23 ucrt) -- "Funny-Looking Kid" | 4138 |
| merida1 | macOS 10.14.6 Mojave | x86_64 | 4.2.1 (2022-06-23) -- "Funny-Looking Kid" | 4205 |
| Click on any hostname to see more info about the system (e.g. compilers) (*) as reported by 'uname -p', except on Windows and Mac OS X | ||||
|
To the developers/maintainers of the cn.mops package: - Please allow up to 24 hours (and sometimes 48 hours) for your latest push to git@git.bioconductor.org:packages/cn.mops.git to reflect on this report. See How and When does the builder pull? When will my changes propagate? for more information. - Make sure to use the following settings in order to reproduce any error or warning you see on this page. |
| Package 356/2140 | Hostname | OS / Arch | INSTALL | BUILD | CHECK | BUILD BIN | ||||||||
| cn.mops 1.42.0 (landing page) Gundula Povysil
| nebbiolo1 | Linux (Ubuntu 20.04.5 LTS) / x86_64 | OK | OK | OK | |||||||||
| palomino3 | Windows Server 2022 Datacenter / x64 | OK | OK | OK | OK | |||||||||
| merida1 | macOS 10.14.6 Mojave / x86_64 | OK | OK | OK | OK | |||||||||
| Package: cn.mops |
| Version: 1.42.0 |
| Command: F:\biocbuild\bbs-3.15-bioc\R\bin\R.exe CMD check --no-multiarch --install=check:cn.mops.install-out.txt --library=F:\biocbuild\bbs-3.15-bioc\R\library --no-vignettes --timings cn.mops_1.42.0.tar.gz |
| StartedAt: 2022-10-18 23:02:16 -0400 (Tue, 18 Oct 2022) |
| EndedAt: 2022-10-18 23:06:27 -0400 (Tue, 18 Oct 2022) |
| EllapsedTime: 250.5 seconds |
| RetCode: 0 |
| Status: OK |
| CheckDir: cn.mops.Rcheck |
| Warnings: 0 |
##############################################################################
##############################################################################
###
### Running command:
###
### F:\biocbuild\bbs-3.15-bioc\R\bin\R.exe CMD check --no-multiarch --install=check:cn.mops.install-out.txt --library=F:\biocbuild\bbs-3.15-bioc\R\library --no-vignettes --timings cn.mops_1.42.0.tar.gz
###
##############################################################################
##############################################################################
* using log directory 'F:/biocbuild/bbs-3.15-bioc/meat/cn.mops.Rcheck'
* using R version 4.2.1 (2022-06-23 ucrt)
* using platform: x86_64-w64-mingw32 (64-bit)
* using session charset: UTF-8
* using option '--no-vignettes'
* checking for file 'cn.mops/DESCRIPTION' ... OK
* checking extension type ... Package
* this is package 'cn.mops' version '1.42.0'
* checking package namespace information ... OK
* checking package dependencies ... OK
* checking if this is a source package ... OK
* checking if there is a namespace ... OK
* checking for hidden files and directories ... OK
* checking for portable file names ... OK
* checking whether package 'cn.mops' can be installed ... OK
* checking installed package size ... OK
* checking package directory ... OK
* checking 'build' directory ... OK
* checking DESCRIPTION meta-information ... OK
* checking top-level files ... OK
* checking for left-over files ... OK
* checking index information ... OK
* checking package subdirectories ... OK
* checking R files for non-ASCII characters ... OK
* checking R files for syntax errors ... OK
* checking whether the package can be loaded ... OK
* checking whether the package can be loaded with stated dependencies ... OK
* checking whether the package can be unloaded cleanly ... OK
* checking whether the namespace can be loaded with stated dependencies ... OK
* checking whether the namespace can be unloaded cleanly ... OK
* checking dependencies in R code ... OK
* checking S3 generic/method consistency ... OK
* checking replacement functions ... OK
* checking foreign function calls ... OK
* checking R code for possible problems ... OK
* checking Rd files ... OK
* checking Rd metadata ... OK
* checking Rd cross-references ... OK
* checking for missing documentation entries ... OK
* checking for code/documentation mismatches ... OK
* checking Rd \usage sections ... OK
* checking Rd contents ... OK
* checking for unstated dependencies in examples ... OK
* checking contents of 'data' directory ... OK
* checking data for non-ASCII characters ... OK
* checking data for ASCII and uncompressed saves ... OK
* checking line endings in C/C++/Fortran sources/headers ... OK
* checking compiled code ... NOTE
Note: information on .o files for x64 is not available
File 'F:/biocbuild/bbs-3.15-bioc/R/library/cn.mops/libs/x64/cn.mops.dll':
Found 'abort', possibly from 'abort' (C), 'runtime' (Fortran)
Found 'exit', possibly from 'exit' (C), 'stop' (Fortran)
Compiled code should not call entry points which might terminate R nor
write to stdout/stderr instead of to the console, nor use Fortran I/O
nor system RNGs. The detected symbols are linked into the code but
might come from libraries and not actually be called.
See 'Writing portable packages' in the 'Writing R Extensions' manual.
* checking sizes of PDF files under 'inst/doc' ... OK
* checking files in 'vignettes' ... OK
* checking examples ... OK
Examples with CPU (user + system) or elapsed time > 5s
user system elapsed
referencecn.mops 15.67 0.05 28.77
calcFractionalCopyNumbers 10.83 0.11 10.94
calcFractionalCopyNumbers-CNVDetectionResult-method 10.53 0.05 10.58
cn.mops 8.67 0.11 24.61
haplocn.mops 1.32 0.06 13.14
getReadCountsFromBAM 0.45 0.02 5.78
getSegmentReadCountsFromBAM 0.22 0.00 5.52
* checking for unstated dependencies in vignettes ... OK
* checking package vignettes in 'inst/doc' ... OK
* checking running R code from vignettes ... SKIPPED
* checking re-building of vignette outputs ... SKIPPED
* checking PDF version of manual ... OK
* DONE
Status: 1 NOTE
See
'F:/biocbuild/bbs-3.15-bioc/meat/cn.mops.Rcheck/00check.log'
for details.
cn.mops.Rcheck/00install.out
##############################################################################
##############################################################################
###
### Running command:
###
### F:\biocbuild\bbs-3.15-bioc\R\bin\R.exe CMD INSTALL cn.mops
###
##############################################################################
##############################################################################
* installing to library 'F:/biocbuild/bbs-3.15-bioc/R/library'
* installing *source* package 'cn.mops' ...
** using staged installation
** libs
gcc -I"F:/biocbuild/bbs-3.15-bioc/R/include" -DNDEBUG -I"C:/rtools42/x86_64-w64-mingw32.static.posix/include" -O2 -Wall -std=gnu99 -mfpmath=sse -msse2 -mstackrealign -c R_init_cnmops.c -o R_init_cnmops.o
g++ -std=gnu++11 -I"F:/biocbuild/bbs-3.15-bioc/R/include" -DNDEBUG -I"C:/rtools42/x86_64-w64-mingw32.static.posix/include" -O2 -Wall -mfpmath=sse -msse2 -mstackrealign -c cnmops.cpp -o cnmops.o
g++ -std=gnu++11 -I"F:/biocbuild/bbs-3.15-bioc/R/include" -DNDEBUG -I"C:/rtools42/x86_64-w64-mingw32.static.posix/include" -O2 -Wall -mfpmath=sse -msse2 -mstackrealign -c segment.cpp -o segment.o
segment.cpp: In function 'SEXPREC* segment(SEXP, SEXP, SEXP, SEXP, SEXP, SEXP)':
segment.cpp:59:20: warning: variable 'globalSd' set but not used [-Wunused-but-set-variable]
59 | double globalMean,globalSd,diff,M2,globalVariance;
| ^~~~~~~~
segment.cpp:60:9: warning: variable 'oldStatistic' set but not used [-Wunused-but-set-variable]
60 | double oldStatistic, meanLeft,meanRight,varLeft,varRight;
| ^~~~~~~~~~~~
segment.cpp:61:31: warning: variable 'maxStatistic' set but not used [-Wunused-but-set-variable]
61 | double newStatistic,meanDiff,maxStatistic,DOF,a,b,eps1;
| ^~~~~~~~~~~~
segment.cpp:62:40: warning: variable 'maxIdx' set but not used [-Wunused-but-set-variable]
62 | double newPValue, maxPValue,oldPValue,maxIdx;
| ^~~~~~
In file included from segment.cpp:10:
F:/biocbuild/bbs-3.15-bioc/R/include/Rmath.h:210:15: warning: unused variable 'Rf_beta' [-Wunused-variable]
210 | #define beta Rf_beta
| ^~~~~~~
segment.cpp:64:9: note: in expansion of macro 'beta'
64 | double beta,nn;
| ^~~~
g++ -std=gnu++11 -shared -s -static-libgcc -o cn.mops.dll tmp.def R_init_cnmops.o cnmops.o segment.o -LC:/rtools42/x86_64-w64-mingw32.static.posix/lib/x64 -LC:/rtools42/x86_64-w64-mingw32.static.posix/lib -LF:/biocbuild/bbs-3.15-bioc/R/bin/x64 -lR
installing to F:/biocbuild/bbs-3.15-bioc/R/library/00LOCK-cn.mops/00new/cn.mops/libs/x64
** R
** data
** inst
** byte-compile and prepare package for lazy loading
** help
*** installing help indices
** building package indices
** installing vignettes
** testing if installed package can be loaded from temporary location
** testing if installed package can be loaded from final location
** testing if installed package keeps a record of temporary installation path
* DONE (cn.mops)
cn.mops.Rcheck/cn.mops-Ex.timings
| name | user | system | elapsed | |
| CNVDetectionResult | 0 | 0 | 0 | |
| calcFractionalCopyNumbers-CNVDetectionResult-method | 10.53 | 0.05 | 10.58 | |
| calcFractionalCopyNumbers | 10.83 | 0.11 | 10.94 | |
| calcIntegerCopyNumbers-CNVDetectionResult-method | 0.53 | 0.00 | 0.53 | |
| calcIntegerCopyNumbers | 0.42 | 0.00 | 0.42 | |
| cn.mops | 8.67 | 0.11 | 24.61 | |
| cnvr-CNVDetectionResult-method | 0.25 | 0.00 | 0.25 | |
| cnvr | 0.25 | 0.00 | 0.25 | |
| cnvs-CNVDetectionResult-method | 0.25 | 0.01 | 0.26 | |
| cnvs | 0.20 | 0.02 | 0.22 | |
| exomecn.mops | 3.27 | 0.09 | 3.36 | |
| getReadCountsFromBAM | 0.45 | 0.02 | 5.78 | |
| getSegmentReadCountsFromBAM | 0.22 | 0.00 | 5.52 | |
| gr-CNVDetectionResult-method | 0.24 | 0.00 | 0.23 | |
| gr | 0.22 | 0.00 | 0.22 | |
| haplocn.mops | 1.32 | 0.06 | 13.14 | |
| individualCall-CNVDetectionResult-method | 0.32 | 0.02 | 0.33 | |
| individualCall | 0.32 | 0.02 | 0.34 | |
| iniCall-CNVDetectionResult-method | 0.33 | 0.00 | 0.33 | |
| iniCall | 0.25 | 0.00 | 0.25 | |
| integerCopyNumber-CNVDetectionResult-method | 0.30 | 0.03 | 0.33 | |
| integerCopyNumber | 0.31 | 0.00 | 0.31 | |
| localAssessments-CNVDetectionResult-method | 0.31 | 0.00 | 0.32 | |
| localAssessments | 0.30 | 0.03 | 0.33 | |
| makeRobustCNVR | 0.56 | 0.00 | 0.56 | |
| normalizeChromosomes | 0.12 | 0.01 | 0.14 | |
| normalizeGenome | 0.21 | 0.00 | 0.20 | |
| normalizedData-CNVDetectionResult-method | 0.22 | 0.02 | 0.24 | |
| normalizedData | 0.29 | 0.02 | 0.31 | |
| params-CNVDetectionResult-method | 0.27 | 0.01 | 0.28 | |
| params | 0.26 | 0.02 | 0.28 | |
| posteriorProbs-CNVDetectionResult-method | 0.25 | 0.00 | 0.25 | |
| posteriorProbs | 0.21 | 0.01 | 0.22 | |
| referencecn.mops | 15.67 | 0.05 | 28.77 | |
| sampleNames-CNVDetectionResult-method | 0.22 | 0.00 | 0.21 | |
| sampleNames | 0.22 | 0.00 | 0.22 | |
| segment | 0.03 | 0.00 | 0.03 | |
| segmentation-CNVDetectionResult-method | 0.28 | 0.03 | 0.32 | |
| segmentation | 0.31 | 0.00 | 0.31 | |
| segplot-CNVDetectionResult-method | 1.19 | 0.00 | 1.19 | |
| segplot | 1.62 | 0.02 | 1.64 | |
| singlecn.mops | 0.94 | 0.01 | 0.95 | |