| Back to Multiple platform build/check report for BioC 3.15 |
|
This page was generated on 2022-10-19 13:21:14 -0400 (Wed, 19 Oct 2022).
| Hostname | OS | Arch (*) | R version | Installed pkgs |
|---|---|---|---|---|
| nebbiolo1 | Linux (Ubuntu 20.04.5 LTS) | x86_64 | 4.2.1 (2022-06-23) -- "Funny-Looking Kid" | 4386 |
| palomino3 | Windows Server 2022 Datacenter | x64 | 4.2.1 (2022-06-23 ucrt) -- "Funny-Looking Kid" | 4138 |
| merida1 | macOS 10.14.6 Mojave | x86_64 | 4.2.1 (2022-06-23) -- "Funny-Looking Kid" | 4205 |
| Click on any hostname to see more info about the system (e.g. compilers) (*) as reported by 'uname -p', except on Windows and Mac OS X | ||||
|
To the developers/maintainers of the cellmigRation package: - Please allow up to 24 hours (and sometimes 48 hours) for your latest push to git@git.bioconductor.org:packages/cellmigRation.git to reflect on this report. See How and When does the builder pull? When will my changes propagate? for more information. - Make sure to use the following settings in order to reproduce any error or warning you see on this page. |
| Package 277/2140 | Hostname | OS / Arch | INSTALL | BUILD | CHECK | BUILD BIN | ||||||||
| cellmigRation 1.4.0 (landing page) Waldir Leoncio
| nebbiolo1 | Linux (Ubuntu 20.04.5 LTS) / x86_64 | OK | OK | OK | |||||||||
| palomino3 | Windows Server 2022 Datacenter / x64 | OK | OK | OK | OK | |||||||||
| merida1 | macOS 10.14.6 Mojave / x86_64 | OK | OK | OK | OK | |||||||||
| Package: cellmigRation |
| Version: 1.4.0 |
| Command: F:\biocbuild\bbs-3.15-bioc\R\bin\R.exe CMD check --no-multiarch --install=check:cellmigRation.install-out.txt --library=F:\biocbuild\bbs-3.15-bioc\R\library --no-vignettes --timings cellmigRation_1.4.0.tar.gz |
| StartedAt: 2022-10-18 22:46:47 -0400 (Tue, 18 Oct 2022) |
| EndedAt: 2022-10-18 22:49:09 -0400 (Tue, 18 Oct 2022) |
| EllapsedTime: 141.6 seconds |
| RetCode: 0 |
| Status: OK |
| CheckDir: cellmigRation.Rcheck |
| Warnings: 0 |
############################################################################## ############################################################################## ### ### Running command: ### ### F:\biocbuild\bbs-3.15-bioc\R\bin\R.exe CMD check --no-multiarch --install=check:cellmigRation.install-out.txt --library=F:\biocbuild\bbs-3.15-bioc\R\library --no-vignettes --timings cellmigRation_1.4.0.tar.gz ### ############################################################################## ############################################################################## * using log directory 'F:/biocbuild/bbs-3.15-bioc/meat/cellmigRation.Rcheck' * using R version 4.2.1 (2022-06-23 ucrt) * using platform: x86_64-w64-mingw32 (64-bit) * using session charset: UTF-8 * using option '--no-vignettes' * checking for file 'cellmigRation/DESCRIPTION' ... OK * checking extension type ... Package * this is package 'cellmigRation' version '1.4.0' * package encoding: UTF-8 * checking package namespace information ... OK * checking package dependencies ... OK * checking if this is a source package ... OK * checking if there is a namespace ... OK * checking for hidden files and directories ... OK * checking for portable file names ... OK * checking whether package 'cellmigRation' can be installed ... OK * checking installed package size ... OK * checking package directory ... OK * checking 'build' directory ... OK * checking DESCRIPTION meta-information ... OK * checking top-level files ... OK * checking for left-over files ... OK * checking index information ... OK * checking package subdirectories ... OK * checking R files for non-ASCII characters ... OK * checking R files for syntax errors ... OK * checking whether the package can be loaded ... OK * checking whether the package can be loaded with stated dependencies ... OK * checking whether the package can be unloaded cleanly ... OK * checking whether the namespace can be loaded with stated dependencies ... OK * checking whether the namespace can be unloaded cleanly ... OK * checking dependencies in R code ... OK * checking S3 generic/method consistency ... OK * checking replacement functions ... OK * checking foreign function calls ... OK * checking R code for possible problems ... OK * checking Rd files ... OK * checking Rd metadata ... OK * checking Rd cross-references ... OK * checking for missing documentation entries ... OK * checking for code/documentation mismatches ... OK * checking Rd \usage sections ... OK * checking Rd contents ... OK * checking for unstated dependencies in examples ... OK * checking contents of 'data' directory ... OK * checking data for non-ASCII characters ... OK * checking data for ASCII and uncompressed saves ... OK * checking files in 'vignettes' ... OK * checking examples ... OK * checking for unstated dependencies in 'tests' ... OK * checking tests ... Running 'runTests.R' OK * checking for unstated dependencies in vignettes ... OK * checking package vignettes in 'inst/doc' ... OK * checking running R code from vignettes ... SKIPPED * checking re-building of vignette outputs ... SKIPPED * checking PDF version of manual ... OK * DONE Status: OK
cellmigRation.Rcheck/00install.out
############################################################################## ############################################################################## ### ### Running command: ### ### F:\biocbuild\bbs-3.15-bioc\R\bin\R.exe CMD INSTALL cellmigRation ### ############################################################################## ############################################################################## * installing to library 'F:/biocbuild/bbs-3.15-bioc/R/library' * installing *source* package 'cellmigRation' ... ** using staged installation ** R ** data ** inst ** byte-compile and prepare package for lazy loading ** help *** installing help indices ** building package indices ** installing vignettes ** testing if installed package can be loaded from temporary location ** testing if installed package can be loaded from final location ** testing if installed package keeps a record of temporary installation path * DONE (cellmigRation)
cellmigRation.Rcheck/tests/runTests.Rout
R version 4.2.1 (2022-06-23 ucrt) -- "Funny-Looking Kid"
Copyright (C) 2022 The R Foundation for Statistical Computing
Platform: x86_64-w64-mingw32/x64 (64-bit)
R is free software and comes with ABSOLUTELY NO WARRANTY.
You are welcome to redistribute it under certain conditions.
Type 'license()' or 'licence()' for distribution details.
R is a collaborative project with many contributors.
Type 'contributors()' for more information and
'citation()' on how to cite R or R packages in publications.
Type 'demo()' for some demos, 'help()' for on-line help, or
'help.start()' for an HTML browser interface to help.
Type 'q()' to quit R.
> BiocGenerics:::testPackage("cellmigRation")
RUNIT TEST PROTOCOL -- Tue Oct 18 22:48:55 2022
***********************************************
Number of test functions: 7
Number of errors: 0
Number of failures: 0
1 Test Suite :
cellmigRation RUnit Tests - 7 test functions, 0 errors, 0 failures
Number of test functions: 7
Number of errors: 0
Number of failures: 0
>
> proc.time()
user system elapsed
3.53 0.51 4.00
cellmigRation.Rcheck/cellmigRation-Ex.timings
| name | user | system | elapsed | |
| AddDimension | 0 | 0 | 0 | |
| CellMig-class | 0.03 | 0.00 | 0.04 | |
| CellMigPCA | 1.23 | 0.03 | 1.26 | |
| CellMigPCAclust | 0.02 | 0.00 | 0.02 | |
| CellMigPCAclustALL | 0.86 | 0.05 | 0.90 | |
| CellTracker | 0.02 | 0.00 | 0.02 | |
| CellTrackerMainLoop | 0 | 0 | 0 | |
| CentroidArray | 0.03 | 0.00 | 0.03 | |
| CentroidValidation | 0.36 | 0.03 | 0.39 | |
| ComputeTracksStats | 0.03 | 0.00 | 0.03 | |
| DetectRadii | 0 | 0 | 0 | |
| DiAutoCor | 1.04 | 0.05 | 1.10 | |
| DiRatio | 0.02 | 0.00 | 0.01 | |
| DiRatioPlot | 0.03 | 0.03 | 0.13 | |
| EstimateDiameterRange | 0.02 | 0.00 | 0.02 | |
| FMI | 0.32 | 0.04 | 0.36 | |
| FianlizeOptiParams | 0 | 0 | 0 | |
| FilterTrackedCells | 0 | 0 | 0 | |
| FinRes | 0.52 | 0.01 | 0.53 | |
| ForwardMigration | 0.70 | 0.03 | 0.73 | |
| GenAllCombos | 0 | 0 | 0 | |
| LinearConv2 | 0.01 | 0.00 | 0.01 | |
| LoadTiff | 0 | 0 | 0 | |
| MSD | 1.49 | 0.03 | 1.55 | |
| MakeHypercube | 0 | 0 | 0 | |
| MigrationStats | 0.01 | 0.00 | 0.02 | |
| NextOdd | 0 | 0 | 0 | |
| NonParallel4OptimizeParams | 0 | 0 | 0 | |
| NonParallelTrackLoop | 0 | 0 | 0 | |
| OptimizeParams | 0.02 | 0.00 | 0.01 | |
| OptimizeParamsMainLoop | 0 | 0 | 0 | |
| Parallel4OptimizeParams | 0 | 0 | 0 | |
| ParallelTrackLoop | 0 | 0 | 0 | |
| PerAndSpeed | 0.28 | 0.08 | 0.39 | |
| PlotTracksSeparately | 0.02 | 0.00 | 0.01 | |
| PostProcessTracking | 0 | 0 | 0 | |
| Prep4OptimizeParams | 0.09 | 0.00 | 0.10 | |
| ThreeConditions | 0.00 | 0.01 | 0.01 | |
| TrackCellsDataset | 0.02 | 0.00 | 0.02 | |
| TrajectoryDataset | 0.01 | 0.00 | 0.01 | |
| ValidateTrackingArgs | 0.02 | 0.00 | 0.02 | |
| VeAutoCor | 0.90 | 0.00 | 0.91 | |
| VisualizeCntr | 0 | 0 | 0 | |
| VisualizeImg | 0 | 0 | 0 | |
| VisualizeStackCentroids | 0.08 | 0.00 | 0.08 | |
| WSADataset | 0.01 | 0.00 | 0.02 | |
| aggregateFR | 0.83 | 0.00 | 0.82 | |
| aggregateTrackedCells | 0.03 | 0.00 | 0.04 | |
| bpass | 0.03 | 0.02 | 0.04 | |
| circshift | 0 | 0 | 0 | |
| cntrd | 0.63 | 0.00 | 0.63 | |
| fixDA | 0 | 0 | 0 | |
| fixExpName | 0.01 | 0.00 | 0.01 | |
| fixFM1 | 0 | 0 | 0 | |
| fixFM2 | 0 | 0 | 0 | |
| fixFM3 | 0 | 0 | 0 | |
| fixFM4 | 0 | 0 | 0 | |
| fixFM5 | 0 | 0 | 0 | |
| fixFM6 | 0 | 0 | 0 | |
| fixID1 | 0 | 0 | 0 | |
| fixMSD | 0 | 0 | 0 | |
| fixPER1 | 0 | 0 | 0 | |
| fixPER2 | 0 | 0 | 0 | |
| fixPER3 | 0 | 0 | 0 | |
| getAvailableAggrMetrics | 0.77 | 0.00 | 0.77 | |
| getCellImages | 0.36 | 0.48 | 0.84 | |
| getCellMigSlot | 0.67 | 0.24 | 0.91 | |
| getCellTrackMeta | 0.02 | 0.00 | 0.01 | |
| getCellTrackStats | 0.01 | 0.01 | 0.04 | |
| getCellTracks | 0.02 | 0.00 | 0.01 | |
| getCellsMeta | 0.03 | 0.00 | 0.03 | |
| getCellsStats | 0.02 | 0.00 | 0.02 | |
| getDACtable | 2.39 | 0.03 | 2.42 | |
| getDiRatio | 0.03 | 0.00 | 0.03 | |
| getFMItable | 0.40 | 0.00 | 0.41 | |
| getForMigtable | 0.44 | 0.02 | 0.45 | |
| getImageCentroids | 0.02 | 0.02 | 0.03 | |
| getImageStacks | 0.06 | 0.00 | 0.06 | |
| getMSDtable | 4.28 | 0.06 | 4.35 | |
| getOptimizedParameters | 0.02 | 0.00 | 0.01 | |
| getOptimizedParams | 0.01 | 0.00 | 0.02 | |
| getPerAndSpeed | 0.20 | 0.08 | 0.28 | |
| getPopulationStats | 0.02 | 0.00 | 0.02 | |
| getProcessedImages | 0.41 | 0.42 | 0.82 | |
| getProcessingStatus | 0.01 | 0.00 | 0.02 | |
| getResults | 0.72 | 0.01 | 0.73 | |
| getTracks | 0.03 | 0.00 | 0.04 | |
| getVACtable | 1.02 | 0.02 | 1.03 | |
| initializeTrackParams | 0 | 0 | 0 | |
| innerBondRaster | 0 | 0 | 0 | |
| internalPermutation | 0 | 0 | 0 | |
| matfix | 0 | 0 | 0 | |
| nontrivialBondTracking | 0 | 0 | 0 | |
| pkfnd | 0.69 | 0.03 | 0.72 | |
| plot3DAllTracks | 0.07 | 0.00 | 0.07 | |
| plot3DTracks | 0 | 0 | 0 | |
| plotAllTracks | 0.01 | 0.00 | 0.01 | |
| plotSampleTracks | 0.04 | 0.00 | 0.04 | |
| preProcCellMig | 0.01 | 0.00 | 0.01 | |
| rmPreProcessing | 0.06 | 0.02 | 0.08 | |
| runTrackingPermutation | 0 | 0 | 0 | |
| setAnalyticParams | 0.02 | 0.00 | 0.02 | |
| setCellMigSlot | 0.02 | 0.00 | 0.01 | |
| setCellTracks | 0.01 | 0.00 | 0.01 | |
| setCellsMeta | 0.02 | 0.00 | 0.02 | |
| setExpName | 0.01 | 0.00 | 0.01 | |
| setOptimizedParams | 0.02 | 0.00 | 0.02 | |
| setProcessedImages | 0.01 | 0.00 | 0.01 | |
| setProcessingStatus | 0.03 | 0.00 | 0.04 | |
| setTrackedCellsMeta | 0.02 | 0.00 | 0.01 | |
| setTrackedCentroids | 0.02 | 0.00 | 0.02 | |
| setTrackedPositions | 0.01 | 0.00 | 0.01 | |
| setTrackingStats | 0.03 | 0.00 | 0.03 | |
| sinkAway | 0 | 0 | 0 | |
| subNetworkTracking | 0 | 0 | 0 | |
| track | 0.02 | 0.00 | 0.02 | |
| trackHypercubeBuild | 0 | 0 | 0 | |
| trackSlideProcessing | 0 | 0 | 0 | |
| trackSlideWrapUp | 0 | 0 | 0 | |
| trivialBondRaster | 0 | 0 | 0 | |
| trivialBondTracking | 0 | 0 | 0 | |
| visualizeCellTracks | 0.08 | 0.00 | 0.08 | |
| visualizeTrcks | 0.03 | 0.00 | 0.03 | |
| warnMessage | 0 | 0 | 0 | |
| wsaPreProcessing | 0.04 | 0.00 | 0.05 | |