| Back to Multiple platform build/check report for BioC 3.15 |
|
This page was generated on 2022-03-18 11:07:05 -0400 (Fri, 18 Mar 2022).
| Hostname | OS | Arch (*) | R version | Installed pkgs |
|---|---|---|---|---|
| nebbiolo1 | Linux (Ubuntu 20.04.4 LTS) | x86_64 | R Under development (unstable) (2022-02-17 r81757) -- "Unsuffered Consequences" | 4334 |
| riesling1 | Windows Server 2019 Standard | x64 | R Under development (unstable) (2021-11-21 r81221) -- "Unsuffered Consequences" | 4097 |
| palomino3 | Windows Server 2022 Datacenter | x64 | R Under development (unstable) (2022-02-17 r81757 ucrt) -- "Unsuffered Consequences" | 4083 |
| merida1 | macOS 10.14.6 Mojave | x86_64 | R Under development (unstable) (2022-03-02 r81842) -- "Unsuffered Consequences" | 4134 |
| Click on any hostname to see more info about the system (e.g. compilers) (*) as reported by 'uname -p', except on Windows and Mac OS X | ||||
|
To the developers/maintainers of the bumphunter package: - Please allow up to 24 hours (and sometimes 48 hours) for your latest push to git@git.bioconductor.org:packages/bumphunter.git to reflect on this report. See How and When does the builder pull? When will my changes propagate? here for more information. - Make sure to use the following settings in order to reproduce any error or warning you see on this page. |
| Package 225/2090 | Hostname | OS / Arch | INSTALL | BUILD | CHECK | BUILD BIN | ||||||||
| bumphunter 1.37.1 (landing page) Tamilselvi Guharaj
| nebbiolo1 | Linux (Ubuntu 20.04.4 LTS) / x86_64 | OK | OK | OK | |||||||||
| riesling1 | Windows Server 2019 Standard / x64 | OK | OK | OK | OK | |||||||||
| palomino3 | Windows Server 2022 Datacenter / x64 | OK | OK | OK | OK | |||||||||
| merida1 | macOS 10.14.6 Mojave / x86_64 | OK | OK | OK | OK | |||||||||
| Package: bumphunter |
| Version: 1.37.1 |
| Command: D:\biocbuild\bbs-3.15-bioc\R\bin\R.exe CMD check --no-multiarch --install=check:bumphunter.install-out.txt --library=D:\biocbuild\bbs-3.15-bioc\R\library --no-vignettes --timings bumphunter_1.37.1.tar.gz |
| StartedAt: 2022-03-17 18:37:14 -0400 (Thu, 17 Mar 2022) |
| EndedAt: 2022-03-17 18:44:45 -0400 (Thu, 17 Mar 2022) |
| EllapsedTime: 451.1 seconds |
| RetCode: 0 |
| Status: OK |
| CheckDir: bumphunter.Rcheck |
| Warnings: 0 |
##############################################################################
##############################################################################
###
### Running command:
###
### D:\biocbuild\bbs-3.15-bioc\R\bin\R.exe CMD check --no-multiarch --install=check:bumphunter.install-out.txt --library=D:\biocbuild\bbs-3.15-bioc\R\library --no-vignettes --timings bumphunter_1.37.1.tar.gz
###
##############################################################################
##############################################################################
* using log directory 'D:/biocbuild/bbs-3.15-bioc/meat/bumphunter.Rcheck'
* using R Under development (unstable) (2021-11-21 r81221)
* using platform: x86_64-w64-mingw32 (64-bit)
* using session charset: ISO8859-1
* using option '--no-vignettes'
* checking for file 'bumphunter/DESCRIPTION' ... OK
* this is package 'bumphunter' version '1.37.1'
* checking package namespace information ... OK
* checking package dependencies ... NOTE
Depends: includes the non-default packages:
'S4Vectors', 'IRanges', 'GenomeInfoDb', 'GenomicRanges', 'foreach',
'iterators', 'parallel', 'locfit'
Adding so many packages to the search path is excessive and importing
selectively is preferable.
* checking if this is a source package ... OK
* checking if there is a namespace ... OK
* checking for hidden files and directories ... OK
* checking for portable file names ... OK
* checking whether package 'bumphunter' can be installed ... OK
* checking installed package size ... OK
* checking package directory ... OK
* checking 'build' directory ... OK
* checking DESCRIPTION meta-information ... NOTE
Malformed Description field: should contain one or more complete sentences.
* checking top-level files ... OK
* checking for left-over files ... OK
* checking index information ... OK
* checking package subdirectories ... OK
* checking R files for non-ASCII characters ... OK
* checking R files for syntax errors ... OK
* checking whether the package can be loaded ... OK
* checking whether the package can be loaded with stated dependencies ... OK
* checking whether the package can be unloaded cleanly ... OK
* checking whether the namespace can be loaded with stated dependencies ... OK
* checking whether the namespace can be unloaded cleanly ... OK
* checking dependencies in R code ... NOTE
Unexported object imported by a ':::' call: 'doParallel:::.options'
See the note in ?`:::` about the use of this operator.
* checking S3 generic/method consistency ... OK
* checking replacement functions ... OK
* checking foreign function calls ... OK
* checking R code for possible problems ... NOTE
bumphunterEngine: no visible binding for global variable 'bootstraps'
Undefined global functions or variables:
bootstraps
* checking Rd files ... OK
* checking Rd metadata ... OK
* checking Rd cross-references ... OK
* checking for missing documentation entries ... OK
* checking for code/documentation mismatches ... OK
* checking Rd \usage sections ... OK
* checking Rd contents ... OK
* checking for unstated dependencies in examples ... OK
* checking contents of 'data' directory ... OK
* checking data for non-ASCII characters ... OK
* checking LazyData ... OK
* checking data for ASCII and uncompressed saves ... OK
* checking files in 'vignettes' ... OK
* checking examples ... OK
Examples with CPU (user + system) or elapsed time > 5s
user system elapsed
bumphunter 0.14 0.09 12.61
smoother 0.03 0.03 10.60
* checking for unstated dependencies in 'tests' ... OK
* checking tests ...
Running 'runTests.R'
Running 'test-all.R'
OK
* checking for unstated dependencies in vignettes ... OK
* checking package vignettes in 'inst/doc' ... OK
* checking running R code from vignettes ... SKIPPED
* checking re-building of vignette outputs ... SKIPPED
* checking PDF version of manual ... OK
* DONE
Status: 4 NOTEs
See
'D:/biocbuild/bbs-3.15-bioc/meat/bumphunter.Rcheck/00check.log'
for details.
bumphunter.Rcheck/00install.out
##############################################################################
##############################################################################
###
### Running command:
###
### D:\biocbuild\bbs-3.15-bioc\R\bin\R.exe CMD INSTALL bumphunter
###
##############################################################################
##############################################################################
* installing to library 'D:/biocbuild/bbs-3.15-bioc/R/library'
* installing *source* package 'bumphunter' ...
** using staged installation
** R
** data
*** moving datasets to lazyload DB
** inst
** byte-compile and prepare package for lazy loading
** help
*** installing help indices
converting help for package 'bumphunter'
finding HTML links ... done
TT html
annotateNearest html
annotateTranscripts html
bumphunter html
clusterMaker html
dummyData html
getSegments html
locfitByCluster html
loessByCluster html
matchGenes html
regionFinder html
runmedByCluster html
smoother html
** building package indices
** installing vignettes
** testing if installed package can be loaded from temporary location
** testing if installed package can be loaded from final location
** testing if installed package keeps a record of temporary installation path
* DONE (bumphunter)
Making 'packages.html' ... done
bumphunter.Rcheck/tests/runTests.Rout
R Under development (unstable) (2021-11-21 r81221) -- "Unsuffered Consequences"
Copyright (C) 2021 The R Foundation for Statistical Computing
Platform: x86_64-w64-mingw32/x64 (64-bit)
R is free software and comes with ABSOLUTELY NO WARRANTY.
You are welcome to redistribute it under certain conditions.
Type 'license()' or 'licence()' for distribution details.
R is a collaborative project with many contributors.
Type 'contributors()' for more information and
'citation()' on how to cite R or R packages in publications.
Type 'demo()' for some demos, 'help()' for on-line help, or
'help.start()' for an HTML browser interface to help.
Type 'q()' to quit R.
> require("bumphunter") || stop("unable to load bumphunter")
Loading required package: bumphunter
Loading required package: S4Vectors
Loading required package: stats4
Loading required package: BiocGenerics
Attaching package: 'BiocGenerics'
The following objects are masked from 'package:stats':
IQR, mad, sd, var, xtabs
The following objects are masked from 'package:base':
Filter, Find, Map, Position, Reduce, anyDuplicated, append,
as.data.frame, basename, cbind, colnames, dirname, do.call,
duplicated, eval, evalq, get, grep, grepl, intersect, is.unsorted,
lapply, mapply, match, mget, order, paste, pmax, pmax.int, pmin,
pmin.int, rank, rbind, rownames, sapply, setdiff, sort, table,
tapply, union, unique, unsplit, which.max, which.min
Attaching package: 'S4Vectors'
The following objects are masked from 'package:base':
I, expand.grid, unname
Loading required package: IRanges
Attaching package: 'IRanges'
The following object is masked from 'package:grDevices':
windows
Loading required package: GenomeInfoDb
Loading required package: GenomicRanges
Loading required package: foreach
Loading required package: iterators
Loading required package: parallel
Loading required package: locfit
locfit 1.5-9.5 2022-03-01
[1] TRUE
> BiocGenerics:::testPackage("bumphunter")
[bumphunterEngine] Using a single core (backend: doSEQ, version: 1.5.2).
[bumphunterEngine] Computing coefficients.
[bumphunterEngine] Smoothing coefficients.
Loading required package: rngtools
[bumphunterEngine] Performing 500 permutations.
[bumphunterEngine] Computing marginal permutation p-values.
[bumphunterEngine] Smoothing permutation coefficients.
[bumphunterEngine] cutoff: 0.28
[bumphunterEngine] Finding regions.
[bumphunterEngine] Found 2 bumps.
[bumphunterEngine] Computing regions for each permutation.
[bumphunterEngine] Estimating p-values and FWER.
[bumphunterEngine] Using a single core (backend: doSEQ, version: 1.5.2).
[bumphunterEngine] Computing coefficients.
[bumphunterEngine] Smoothing coefficients.
[bumphunterEngine] Performing 500 permutations.
[bumphunterEngine] Computing marginal permutation p-values.
[bumphunterEngine] Smoothing permutation coefficients.
[bumphunterEngine] cutoff: 0.28
[bumphunterEngine] Finding regions.
[bumphunterEngine] Found 2 bumps.
[bumphunterEngine] Computing regions for each permutation.
[bumphunterEngine] Estimating p-values and FWER.
Loading required package: doParallel
[bumphunterEngine] Parallelizing using 2 workers/cores (backend: doParallelSNOW, version: 1.0.17).
[bumphunterEngine] Computing coefficients.
[bumphunterEngine] Smoothing coefficients.
[bumphunterEngine] Performing 500 permutations.
[bumphunterEngine] Computing marginal permutation p-values.
[bumphunterEngine] Smoothing permutation coefficients.
[bumphunterEngine] cutoff: 0.28
[bumphunterEngine] Finding regions.
[bumphunterEngine] Found 2 bumps.
[bumphunterEngine] Computing regions for each permutation.
[bumphunterEngine] Estimating p-values and FWER.
[bumphunterEngine] Parallelizing using 2 workers/cores (backend: doParallelSNOW, version: 1.0.17).
[bumphunterEngine] Computing coefficients.
[bumphunterEngine] Smoothing coefficients.
[bumphunterEngine] Performing 500 permutations.
[bumphunterEngine] Computing marginal permutation p-values.
[bumphunterEngine] Smoothing permutation coefficients.
[bumphunterEngine] cutoff: 0.28
[bumphunterEngine] Finding regions.
[bumphunterEngine] Found 2 bumps.
[bumphunterEngine] Computing regions for each permutation.
[bumphunterEngine] Estimating p-values and FWER.
RUNIT TEST PROTOCOL -- Thu Mar 17 18:41:17 2022
***********************************************
Number of test functions: 5
Number of errors: 0
Number of failures: 0
1 Test Suite :
bumphunter RUnit Tests - 5 test functions, 0 errors, 0 failures
Number of test functions: 5
Number of errors: 0
Number of failures: 0
>
> proc.time()
user system elapsed
11.48 0.78 33.57
bumphunter.Rcheck/tests/test-all.Rout
R Under development (unstable) (2021-11-21 r81221) -- "Unsuffered Consequences"
Copyright (C) 2021 The R Foundation for Statistical Computing
Platform: x86_64-w64-mingw32/x64 (64-bit)
R is free software and comes with ABSOLUTELY NO WARRANTY.
You are welcome to redistribute it under certain conditions.
Type 'license()' or 'licence()' for distribution details.
R is a collaborative project with many contributors.
Type 'contributors()' for more information and
'citation()' on how to cite R or R packages in publications.
Type 'demo()' for some demos, 'help()' for on-line help, or
'help.start()' for an HTML browser interface to help.
Type 'q()' to quit R.
> library('testthat')
> test_check('bumphunter')
Loading required package: bumphunter
Loading required package: S4Vectors
Loading required package: stats4
Loading required package: BiocGenerics
Attaching package: 'BiocGenerics'
The following objects are masked from 'package:stats':
IQR, mad, sd, var, xtabs
The following objects are masked from 'package:base':
Filter, Find, Map, Position, Reduce, anyDuplicated, append,
as.data.frame, basename, cbind, colnames, dirname, do.call,
duplicated, eval, evalq, get, grep, grepl, intersect, is.unsorted,
lapply, mapply, match, mget, order, paste, pmax, pmax.int, pmin,
pmin.int, rank, rbind, rownames, sapply, setdiff, sort, table,
tapply, union, unique, unsplit, which.max, which.min
Attaching package: 'S4Vectors'
The following objects are masked from 'package:base':
I, expand.grid, unname
Loading required package: IRanges
Attaching package: 'IRanges'
The following object is masked from 'package:grDevices':
windows
Loading required package: GenomeInfoDb
Loading required package: GenomicRanges
Loading required package: foreach
Loading required package: iterators
Loading required package: parallel
Loading required package: locfit
locfit 1.5-9.5 2022-03-01
trying URL 'http://ftp.ebi.ac.uk/pub/databases/gencode/Gencode_human/release_36/gencode.v36.annotation.gtf.gz'
length 44507458 bytes (42.4 MB)
==================================================
downloaded 42.4 MB
[ FAIL 0 | WARN 1 | SKIP 0 | PASS 15 ]
[ FAIL 0 | WARN 1 | SKIP 0 | PASS 15 ]
>
> proc.time()
user system elapsed
115.87 4.68 195.40
bumphunter.Rcheck/bumphunter-Ex.timings
| name | user | system | elapsed | |
| annotateNearest | 1.12 | 0.02 | 1.14 | |
| annotateTranscripts | 0 | 0 | 0 | |
| bumphunter | 0.14 | 0.09 | 12.61 | |
| clusterMaker | 0.01 | 0.00 | 0.02 | |
| dummyData | 0.02 | 0.00 | 0.01 | |
| getSegments | 0.00 | 0.02 | 0.02 | |
| locfitByCluster | 0.03 | 0.00 | 0.03 | |
| loessByCluster | 0.19 | 0.03 | 0.22 | |
| matchGenes | 0 | 0 | 0 | |
| regionFinder | 0.01 | 0.00 | 0.01 | |
| runmedByCluster | 0 | 0 | 0 | |
| smoother | 0.03 | 0.03 | 10.60 | |