| Back to Multiple platform build/check report for BioC 3.15 |
|
This page was generated on 2022-10-14 13:22:22 -0400 (Fri, 14 Oct 2022).
| Hostname | OS | Arch (*) | R version | Installed pkgs |
|---|---|---|---|---|
| nebbiolo1 | Linux (Ubuntu 20.04.5 LTS) | x86_64 | 4.2.1 (2022-06-23) -- "Funny-Looking Kid" | 4383 |
| palomino3 | Windows Server 2022 Datacenter | x64 | 4.2.1 (2022-06-23 ucrt) -- "Funny-Looking Kid" | 4137 |
| merida1 | macOS 10.14.6 Mojave | x86_64 | 4.2.1 (2022-06-23) -- "Funny-Looking Kid" | 4202 |
| Click on any hostname to see more info about the system (e.g. compilers) (*) as reported by 'uname -p', except on Windows and Mac OS X | ||||
|
To the developers/maintainers of the brendaDb package: - Please allow up to 24 hours (and sometimes 48 hours) for your latest push to git@git.bioconductor.org:packages/brendaDb.git to reflect on this report. See How and When does the builder pull? When will my changes propagate? for more information. - Make sure to use the following settings in order to reproduce any error or warning you see on this page. |
| Package 221/2140 | Hostname | OS / Arch | INSTALL | BUILD | CHECK | BUILD BIN | ||||||||
| brendaDb 1.10.0 (landing page) Yi Zhou
| nebbiolo1 | Linux (Ubuntu 20.04.5 LTS) / x86_64 | OK | OK | OK | |||||||||
| palomino3 | Windows Server 2022 Datacenter / x64 | OK | OK | ERROR | OK | |||||||||
| merida1 | macOS 10.14.6 Mojave / x86_64 | OK | OK | ERROR | OK | |||||||||
| Package: brendaDb |
| Version: 1.10.0 |
| Command: /Library/Frameworks/R.framework/Resources/bin/R CMD check --install=check:brendaDb.install-out.txt --library=/Library/Frameworks/R.framework/Resources/library --no-vignettes --timings brendaDb_1.10.0.tar.gz |
| StartedAt: 2022-10-13 23:50:20 -0400 (Thu, 13 Oct 2022) |
| EndedAt: 2022-10-13 23:52:58 -0400 (Thu, 13 Oct 2022) |
| EllapsedTime: 157.9 seconds |
| RetCode: 1 |
| Status: ERROR |
| CheckDir: brendaDb.Rcheck |
| Warnings: NA |
##############################################################################
##############################################################################
###
### Running command:
###
### /Library/Frameworks/R.framework/Resources/bin/R CMD check --install=check:brendaDb.install-out.txt --library=/Library/Frameworks/R.framework/Resources/library --no-vignettes --timings brendaDb_1.10.0.tar.gz
###
##############################################################################
##############################################################################
* using log directory ‘/Users/biocbuild/bbs-3.15-bioc/meat/brendaDb.Rcheck’
* using R version 4.2.1 (2022-06-23)
* using platform: x86_64-apple-darwin17.0 (64-bit)
* using session charset: UTF-8
* using option ‘--no-vignettes’
* checking for file ‘brendaDb/DESCRIPTION’ ... OK
* checking extension type ... Package
* this is package ‘brendaDb’ version ‘1.10.0’
* package encoding: UTF-8
* checking package namespace information ... OK
* checking package dependencies ... OK
* checking if this is a source package ... OK
* checking if there is a namespace ... OK
* checking for hidden files and directories ... NOTE
Found the following hidden files and directories:
.travis.yml
These were most likely included in error. See section ‘Package
structure’ in the ‘Writing R Extensions’ manual.
* checking for portable file names ... OK
* checking for sufficient/correct file permissions ... OK
* checking whether package ‘brendaDb’ can be installed ... OK
* checking installed package size ... OK
* checking package directory ... OK
* checking ‘build’ directory ... OK
* checking DESCRIPTION meta-information ... OK
* checking top-level files ... OK
* checking for left-over files ... OK
* checking index information ... OK
* checking package subdirectories ... OK
* checking R files for non-ASCII characters ... OK
* checking R files for syntax errors ... OK
* checking whether the package can be loaded ... OK
* checking whether the package can be loaded with stated dependencies ... OK
* checking whether the package can be unloaded cleanly ... OK
* checking whether the namespace can be loaded with stated dependencies ... OK
* checking whether the namespace can be unloaded cleanly ... OK
* checking dependencies in R code ... OK
* checking S3 generic/method consistency ... OK
* checking replacement functions ... OK
* checking foreign function calls ... OK
* checking R code for possible problems ... OK
* checking Rd files ... OK
* checking Rd metadata ... OK
* checking Rd cross-references ... OK
* checking for missing documentation entries ... OK
* checking for code/documentation mismatches ... OK
* checking Rd \usage sections ... OK
* checking Rd contents ... OK
* checking for unstated dependencies in examples ... OK
* checking contents of ‘data’ directory ... OK
* checking data for non-ASCII characters ... OK
* checking data for ASCII and uncompressed saves ... OK
* checking line endings in C/C++/Fortran sources/headers ... OK
* checking compiled code ... NOTE
Note: information on .o files is not available
* checking files in ‘vignettes’ ... OK
* checking examples ... OK
Examples with CPU (user + system) or elapsed time > 5s
user system elapsed
ExtractField 5.301 0.673 5.475
QueryBrenda 4.638 0.489 4.937
* checking for unstated dependencies in ‘tests’ ... OK
* checking tests ...
Running ‘testthat.R’
ERROR
Running the tests in ‘tests/testthat.R’ failed.
Last 13 lines of output:
2. │ └─testthat:::quasi_capture(enquo(object), label, capture_messages)
3. │ ├─testthat (local) .capture(...)
4. │ │ └─base::withCallingHandlers(...)
5. │ └─rlang::eval_bare(quo_get_expr(.quo), quo_get_env(.quo))
6. └─brendaDb::BiocycPathwayGenes(org.id = "HUMAN", pathway = "PWY66666")
7. └─base::tryCatch(...)
8. └─base (local) tryCatchList(expr, classes, parentenv, handlers)
9. └─base (local) tryCatchOne(expr, names, parentenv, handlers[[1L]])
10. └─value[[3L]](cond)
11. ├─base::close(con)
12. └─base::close.connection(con)
[ FAIL 2 | WARN 13 | SKIP 0 | PASS 111 ]
Error: Test failures
Execution halted
* checking for unstated dependencies in vignettes ... OK
* checking package vignettes in ‘inst/doc’ ... OK
* checking running R code from vignettes ... SKIPPED
* checking re-building of vignette outputs ... SKIPPED
* checking PDF version of manual ... OK
* DONE
Status: 1 ERROR, 2 NOTEs
See
‘/Users/biocbuild/bbs-3.15-bioc/meat/brendaDb.Rcheck/00check.log’
for details.
brendaDb.Rcheck/00install.out
############################################################################## ############################################################################## ### ### Running command: ### ### /Library/Frameworks/R.framework/Resources/bin/R CMD INSTALL brendaDb ### ############################################################################## ############################################################################## * installing to library ‘/Library/Frameworks/R.framework/Versions/4.2/Resources/library’ * installing *source* package ‘brendaDb’ ... ** using staged installation ** libs clang++ -mmacosx-version-min=10.13 -std=gnu++11 -I"/Library/Frameworks/R.framework/Resources/include" -DNDEBUG -I'/Library/Frameworks/R.framework/Versions/4.2/Resources/library/Rcpp/include' -I/usr/local/include -fPIC -Wall -g -O2 -c RcppExports.cpp -o RcppExports.o clang++ -mmacosx-version-min=10.13 -std=gnu++11 -I"/Library/Frameworks/R.framework/Resources/include" -DNDEBUG -I'/Library/Frameworks/R.framework/Versions/4.2/Resources/library/Rcpp/include' -I/usr/local/include -fPIC -Wall -g -O2 -c read_brenda.cpp -o read_brenda.o clang++ -mmacosx-version-min=10.13 -std=gnu++11 -dynamiclib -Wl,-headerpad_max_install_names -undefined dynamic_lookup -single_module -multiply_defined suppress -L/Library/Frameworks/R.framework/Resources/lib -L/usr/local/lib -o brendaDb.so RcppExports.o read_brenda.o -F/Library/Frameworks/R.framework/.. -framework R -Wl,-framework -Wl,CoreFoundation installing to /Library/Frameworks/R.framework/Versions/4.2/Resources/library/00LOCK-brendaDb/00new/brendaDb/libs ** R ** data ** inst ** byte-compile and prepare package for lazy loading ** help *** installing help indices *** copying figures ** building package indices ** installing vignettes ** testing if installed package can be loaded from temporary location ** checking absolute paths in shared objects and dynamic libraries ** testing if installed package can be loaded from final location ** testing if installed package keeps a record of temporary installation path * DONE (brendaDb)
brendaDb.Rcheck/tests/testthat.Rout.fail
R version 4.2.1 (2022-06-23) -- "Funny-Looking Kid"
Copyright (C) 2022 The R Foundation for Statistical Computing
Platform: x86_64-apple-darwin17.0 (64-bit)
R is free software and comes with ABSOLUTELY NO WARRANTY.
You are welcome to redistribute it under certain conditions.
Type 'license()' or 'licence()' for distribution details.
R is a collaborative project with many contributors.
Type 'contributors()' for more information and
'citation()' on how to cite R or R packages in publications.
Type 'demo()' for some demos, 'help()' for on-line help, or
'help.start()' for an HTML browser interface to help.
Type 'q()' to quit R.
> library(testthat)
> library(brendaDb)
>
> test_check("brendaDb")
[ FAIL 2 | WARN 13 | SKIP 0 | PASS 111 ]
══ Failed tests ════════════════════════════════════════════════════════════════
── Error ('test-biocyc.R:7'): Get enzymes in BioCyc pathway ───────────────────
Error in `read_xml.raw(raw, encoding = encoding, base_url = base_url, as_html = as_html,
options = options)`: Double hyphen within comment: <!--
<link rel="stylesheet" type="text/css" href="/yu [80]
Backtrace:
▆
1. ├─testthat::expect_message(...) at test-biocyc.R:7:2
2. │ └─testthat:::quasi_capture(enquo(object), label, capture_messages)
3. │ ├─testthat (local) .capture(...)
4. │ │ └─base::withCallingHandlers(...)
5. │ └─rlang::eval_bare(quo_get_expr(.quo), quo_get_env(.quo))
6. └─brendaDb::BiocycPathwayEnzymes(...) at test-biocyc.R:8:5
7. └─purrr::map_dfr(...)
8. └─purrr::map(.x, .f, ...)
9. └─brendaDb (local) .f(.x[[i]], ...)
10. ├─xml2::read_xml(str_glue("https://websvc.biocyc.org/getxml?{org.id}:{rxn}"))
11. └─xml2:::read_xml.character(str_glue("https://websvc.biocyc.org/getxml?{org.id}:{rxn}"))
12. └─xml2:::read_xml.connection(...)
13. └─xml2:::read_xml.raw(...)
── Error ('test-biocyc.R:18'): Get genes in BioCyc pathway ────────────────────
Error in `close.connection(con)`: invalid connection
Backtrace:
▆
1. ├─testthat::expect_message(...) at test-biocyc.R:18:2
2. │ └─testthat:::quasi_capture(enquo(object), label, capture_messages)
3. │ ├─testthat (local) .capture(...)
4. │ │ └─base::withCallingHandlers(...)
5. │ └─rlang::eval_bare(quo_get_expr(.quo), quo_get_env(.quo))
6. └─brendaDb::BiocycPathwayGenes(org.id = "HUMAN", pathway = "PWY66666")
7. └─base::tryCatch(...)
8. └─base (local) tryCatchList(expr, classes, parentenv, handlers)
9. └─base (local) tryCatchOne(expr, names, parentenv, handlers[[1L]])
10. └─value[[3L]](cond)
11. ├─base::close(con)
12. └─base::close.connection(con)
[ FAIL 2 | WARN 13 | SKIP 0 | PASS 111 ]
Error: Test failures
Execution halted
brendaDb.Rcheck/brendaDb-Ex.timings
| name | user | system | elapsed | |
| BiocycPathwayEnzymes | 0 | 0 | 0 | |
| BiocycPathwayGenes | 0 | 0 | 0 | |
| CleanECNumber | 0.262 | 0.009 | 0.272 | |
| ConfigBPCores | 0.032 | 0.000 | 0.032 | |
| DownloadBrenda | 0.000 | 0.001 | 0.001 | |
| ExtractField | 5.301 | 0.673 | 5.475 | |
| ID2Enzyme | 0.336 | 0.026 | 0.364 | |
| InitBrendaDeprecatedEntry | 0.656 | 0.113 | 0.762 | |
| InitBrendaEntry | 0.209 | 0.100 | 0.307 | |
| ParseProtein | 0.093 | 0.013 | 0.106 | |
| ParseProteinNum | 0.001 | 0.001 | 0.002 | |
| ParseRecommendedName | 0.002 | 0.000 | 0.001 | |
| ParseReference | 0.032 | 0.003 | 0.034 | |
| ParseSystematicName | 0.001 | 0.000 | 0.001 | |
| QueryBrenda | 4.638 | 0.489 | 4.937 | |
| QueryBrendaBase | 4.547 | 0.194 | 4.752 | |
| ReadBrenda | 0.096 | 0.004 | 0.100 | |
| SeparateSubentries | 0.001 | 0.000 | 0.001 | |
| ShowFields | 0.152 | 0.005 | 0.157 | |