| Back to Multiple platform build/check report for BioC 3.15 |
|
This page was generated on 2022-10-19 13:22:36 -0400 (Wed, 19 Oct 2022).
| Hostname | OS | Arch (*) | R version | Installed pkgs |
|---|---|---|---|---|
| nebbiolo1 | Linux (Ubuntu 20.04.5 LTS) | x86_64 | 4.2.1 (2022-06-23) -- "Funny-Looking Kid" | 4386 |
| palomino3 | Windows Server 2022 Datacenter | x64 | 4.2.1 (2022-06-23 ucrt) -- "Funny-Looking Kid" | 4138 |
| merida1 | macOS 10.14.6 Mojave | x86_64 | 4.2.1 (2022-06-23) -- "Funny-Looking Kid" | 4205 |
| Click on any hostname to see more info about the system (e.g. compilers) (*) as reported by 'uname -p', except on Windows and Mac OS X | ||||
|
To the developers/maintainers of the benchdamic package: - Please allow up to 24 hours (and sometimes 48 hours) for your latest push to git@git.bioconductor.org:packages/benchdamic.git to reflect on this report. See How and When does the builder pull? When will my changes propagate? for more information. - Make sure to use the following settings in order to reproduce any error or warning you see on this page. |
| Package 140/2140 | Hostname | OS / Arch | INSTALL | BUILD | CHECK | BUILD BIN | ||||||||
| benchdamic 1.2.5 (landing page) Matteo Calgaro
| nebbiolo1 | Linux (Ubuntu 20.04.5 LTS) / x86_64 | OK | OK | OK | |||||||||
| palomino3 | Windows Server 2022 Datacenter / x64 | OK | OK | OK | OK | |||||||||
| merida1 | macOS 10.14.6 Mojave / x86_64 | OK | OK | OK | OK | |||||||||
| Package: benchdamic |
| Version: 1.2.5 |
| Command: /Library/Frameworks/R.framework/Resources/bin/R CMD check --install=check:benchdamic.install-out.txt --library=/Library/Frameworks/R.framework/Resources/library --no-vignettes --timings benchdamic_1.2.5.tar.gz |
| StartedAt: 2022-10-18 23:37:48 -0400 (Tue, 18 Oct 2022) |
| EndedAt: 2022-10-18 23:54:29 -0400 (Tue, 18 Oct 2022) |
| EllapsedTime: 1000.8 seconds |
| RetCode: 0 |
| Status: OK |
| CheckDir: benchdamic.Rcheck |
| Warnings: 0 |
##############################################################################
##############################################################################
###
### Running command:
###
### /Library/Frameworks/R.framework/Resources/bin/R CMD check --install=check:benchdamic.install-out.txt --library=/Library/Frameworks/R.framework/Resources/library --no-vignettes --timings benchdamic_1.2.5.tar.gz
###
##############################################################################
##############################################################################
* using log directory ‘/Users/biocbuild/bbs-3.15-bioc/meat/benchdamic.Rcheck’
* using R version 4.2.1 (2022-06-23)
* using platform: x86_64-apple-darwin17.0 (64-bit)
* using session charset: UTF-8
* using option ‘--no-vignettes’
* checking for file ‘benchdamic/DESCRIPTION’ ... OK
* checking extension type ... Package
* this is package ‘benchdamic’ version ‘1.2.5’
* package encoding: UTF-8
* checking package namespace information ... OK
* checking package dependencies ... OK
* checking if this is a source package ... OK
* checking if there is a namespace ... OK
* checking for hidden files and directories ... OK
* checking for portable file names ... OK
* checking for sufficient/correct file permissions ... OK
* checking whether package ‘benchdamic’ can be installed ... OK
* checking installed package size ... OK
* checking package directory ... OK
* checking ‘build’ directory ... OK
* checking DESCRIPTION meta-information ... OK
* checking top-level files ... OK
* checking for left-over files ... OK
* checking index information ... OK
* checking package subdirectories ... OK
* checking R files for non-ASCII characters ... OK
* checking R files for syntax errors ... OK
* checking whether the package can be loaded ... OK
* checking whether the package can be loaded with stated dependencies ... OK
* checking whether the package can be unloaded cleanly ... OK
* checking whether the namespace can be loaded with stated dependencies ... OK
* checking whether the namespace can be unloaded cleanly ... OK
* checking dependencies in R code ... OK
* checking S3 generic/method consistency ... OK
* checking replacement functions ... OK
* checking foreign function calls ... OK
* checking R code for possible problems ... OK
* checking Rd files ... OK
* checking Rd metadata ... OK
* checking Rd cross-references ... OK
* checking for missing documentation entries ... OK
* checking for code/documentation mismatches ... OK
* checking Rd \usage sections ... OK
* checking Rd contents ... OK
* checking for unstated dependencies in examples ... OK
* checking contents of ‘data’ directory ... OK
* checking data for non-ASCII characters ... OK
* checking LazyData ... OK
* checking data for ASCII and uncompressed saves ... OK
* checking files in ‘vignettes’ ... OK
* checking examples ... OK
Examples with CPU (user + system) or elapsed time > 5s
user system elapsed
DA_ALDEx2 10.507 1.024 12.056
createConcordance 9.359 0.119 9.534
areaCAT 9.217 0.195 9.444
plotConcordance 8.788 0.062 8.875
runSplits 6.634 0.046 6.693
DA_DESeq2 5.772 0.055 5.857
plotMD 5.033 0.024 5.105
DA_ANCOM 2.216 0.015 28.551
* checking for unstated dependencies in ‘tests’ ... OK
* checking tests ...
Running ‘testthat.R’
OK
* checking for unstated dependencies in vignettes ... OK
* checking package vignettes in ‘inst/doc’ ... OK
* checking running R code from vignettes ... SKIPPED
* checking re-building of vignette outputs ... SKIPPED
* checking PDF version of manual ... OK
* DONE
Status: OK
benchdamic.Rcheck/00install.out
############################################################################## ############################################################################## ### ### Running command: ### ### /Library/Frameworks/R.framework/Resources/bin/R CMD INSTALL benchdamic ### ############################################################################## ############################################################################## * installing to library ‘/Library/Frameworks/R.framework/Versions/4.2/Resources/library’ * installing *source* package ‘benchdamic’ ... ** using staged installation ** R ** data *** moving datasets to lazyload DB ** byte-compile and prepare package for lazy loading ** help *** installing help indices ** building package indices ** installing vignettes ** testing if installed package can be loaded from temporary location ** testing if installed package can be loaded from final location ** testing if installed package keeps a record of temporary installation path * DONE (benchdamic)
benchdamic.Rcheck/tests/testthat.Rout
R version 4.2.1 (2022-06-23) -- "Funny-Looking Kid"
Copyright (C) 2022 The R Foundation for Statistical Computing
Platform: x86_64-apple-darwin17.0 (64-bit)
R is free software and comes with ABSOLUTELY NO WARRANTY.
You are welcome to redistribute it under certain conditions.
Type 'license()' or 'licence()' for distribution details.
R is a collaborative project with many contributors.
Type 'contributors()' for more information and
'citation()' on how to cite R or R packages in publications.
Type 'demo()' for some demos, 'help()' for on-line help, or
'help.start()' for an HTML browser interface to help.
Type 'q()' to quit R.
> library(testthat)
> library(benchdamic)
>
> test_check("benchdamic")
|------------(25%)----------(50%)----------(75%)----------|
|------------(25%)----------(50%)----------(75%)----------|
|------------(25%)----------(50%)----------(75%)----------|
|------------(25%)----------(50%)----------(75%)----------|
|------------(25%)----------(50%)----------(75%)----------|
[ FAIL 0 | WARN 0 | SKIP 0 | PASS 273 ]
>
> proc.time()
user system elapsed
93.834 3.358 135.639
benchdamic.Rcheck/benchdamic-Ex.timings
| name | user | system | elapsed | |
| CAT | 0.008 | 0.000 | 0.009 | |
| DA_ALDEx2 | 10.507 | 1.024 | 12.056 | |
| DA_ANCOM | 2.216 | 0.015 | 28.551 | |
| DA_DESeq2 | 5.772 | 0.055 | 5.857 | |
| DA_MAST | 1.152 | 0.014 | 1.167 | |
| DA_NOISeq | 1.574 | 0.013 | 1.594 | |
| DA_Seurat | 1.016 | 0.028 | 1.052 | |
| DA_basic | 0.059 | 0.001 | 0.060 | |
| DA_dearseq | 0.095 | 0.003 | 0.099 | |
| DA_edgeR | 0.305 | 0.010 | 0.318 | |
| DA_limma | 0.118 | 0.004 | 0.123 | |
| DA_metagenomeSeq | 0.500 | 0.014 | 0.518 | |
| RMSE | 0.001 | 0.001 | 0.002 | |
| addKnowledge | 0.550 | 0.016 | 0.567 | |
| areaCAT | 9.217 | 0.195 | 9.444 | |
| checkNormalization | 0 | 0 | 0 | |
| createColors | 0.010 | 0.001 | 0.011 | |
| createConcordance | 9.359 | 0.119 | 9.534 | |
| createEnrichment | 0.486 | 0.007 | 0.495 | |
| createMocks | 0.004 | 0.001 | 0.005 | |
| createPositives | 1.758 | 0.047 | 1.827 | |
| createSplits | 0.067 | 0.003 | 0.070 | |
| createTIEC | 3.720 | 0.057 | 3.804 | |
| enrichmentTest | 0.214 | 0.005 | 0.218 | |
| extractDA | 0.342 | 0.005 | 0.347 | |
| extractStatistics | 0.337 | 0.003 | 0.341 | |
| fitDM | 0.068 | 0.001 | 0.069 | |
| fitHURDLE | 0.666 | 0.005 | 0.675 | |
| fitModels | 2.540 | 0.025 | 2.575 | |
| fitNB | 0.089 | 0.001 | 0.090 | |
| fitZIG | 0.087 | 0.001 | 0.088 | |
| fitZINB | 0.922 | 0.011 | 0.941 | |
| getDA | 0.158 | 0.009 | 0.167 | |
| getPositives | 0.155 | 0.005 | 0.161 | |
| getStatistics | 0.143 | 0.007 | 0.150 | |
| get_counts_metadata | 0.354 | 0.005 | 0.360 | |
| iterative_ordering | 0.021 | 0.001 | 0.021 | |
| meanDifferences | 0.003 | 0.000 | 0.004 | |
| norm_CSS | 0.138 | 0.001 | 0.141 | |
| norm_DESeq2 | 0.894 | 0.008 | 0.908 | |
| norm_TSS | 0.059 | 0.001 | 0.061 | |
| norm_edgeR | 0.075 | 0.001 | 0.076 | |
| plotConcordance | 8.788 | 0.062 | 8.875 | |
| plotContingency | 2.236 | 0.020 | 2.264 | |
| plotEnrichment | 2.260 | 0.021 | 2.305 | |
| plotFPR | 3.953 | 0.027 | 4.150 | |
| plotKS | 3.833 | 0.032 | 3.914 | |
| plotLogP | 3.643 | 0.034 | 3.688 | |
| plotMD | 5.033 | 0.024 | 5.105 | |
| plotMutualFindings | 2.013 | 0.013 | 2.032 | |
| plotPositives | 1.500 | 0.009 | 1.513 | |
| plotQQ | 3.395 | 0.030 | 3.439 | |
| plotRMSE | 3.612 | 0.019 | 3.643 | |
| prepareObserved | 0.002 | 0.000 | 0.002 | |
| runDA | 0.926 | 0.005 | 0.933 | |
| runMocks | 1.275 | 0.009 | 1.286 | |
| runNormalizations | 1.006 | 0.005 | 1.013 | |
| runSplits | 6.634 | 0.046 | 6.693 | |
| setNormalizations | 0.000 | 0.000 | 0.001 | |
| set_ALDEx2 | 0.010 | 0.001 | 0.010 | |
| set_ANCOM | 0.009 | 0.000 | 0.009 | |
| set_DESeq2 | 0.013 | 0.001 | 0.014 | |
| set_MAST | 0.006 | 0.000 | 0.006 | |
| set_NOISeq | 0.006 | 0.000 | 0.007 | |
| set_Seurat | 0.01 | 0.00 | 0.01 | |
| set_basic | 0.003 | 0.000 | 0.003 | |
| set_dearseq | 0.003 | 0.000 | 0.003 | |
| set_edgeR | 0.025 | 0.000 | 0.025 | |
| set_limma | 0.017 | 0.001 | 0.016 | |
| set_metagenomeSeq | 0.011 | 0.000 | 0.012 | |
| weights_ZINB | 0.819 | 0.002 | 0.823 | |