| Back to Multiple platform build/check report for BioC 3.15 |
|
This page was generated on 2022-03-18 11:06:58 -0400 (Fri, 18 Mar 2022).
| Hostname | OS | Arch (*) | R version | Installed pkgs |
|---|---|---|---|---|
| nebbiolo1 | Linux (Ubuntu 20.04.4 LTS) | x86_64 | R Under development (unstable) (2022-02-17 r81757) -- "Unsuffered Consequences" | 4334 |
| riesling1 | Windows Server 2019 Standard | x64 | R Under development (unstable) (2021-11-21 r81221) -- "Unsuffered Consequences" | 4097 |
| palomino3 | Windows Server 2022 Datacenter | x64 | R Under development (unstable) (2022-02-17 r81757 ucrt) -- "Unsuffered Consequences" | 4083 |
| merida1 | macOS 10.14.6 Mojave | x86_64 | R Under development (unstable) (2022-03-02 r81842) -- "Unsuffered Consequences" | 4134 |
| Click on any hostname to see more info about the system (e.g. compilers) (*) as reported by 'uname -p', except on Windows and Mac OS X | ||||
|
To the developers/maintainers of the barcodetrackR package: - Please allow up to 24 hours (and sometimes 48 hours) for your latest push to git@git.bioconductor.org:packages/barcodetrackR.git to reflect on this report. See How and When does the builder pull? When will my changes propagate? here for more information. - Make sure to use the following settings in order to reproduce any error or warning you see on this page. |
| Package 111/2090 | Hostname | OS / Arch | INSTALL | BUILD | CHECK | BUILD BIN | ||||||||
| barcodetrackR 1.3.0 (landing page) Diego Alexander Espinoza
| nebbiolo1 | Linux (Ubuntu 20.04.4 LTS) / x86_64 | OK | OK | OK | |||||||||
| riesling1 | Windows Server 2019 Standard / x64 | OK | OK | OK | OK | |||||||||
| palomino3 | Windows Server 2022 Datacenter / x64 | OK | OK | OK | OK | |||||||||
| merida1 | macOS 10.14.6 Mojave / x86_64 | OK | OK | OK | OK | |||||||||
| Package: barcodetrackR |
| Version: 1.3.0 |
| Command: D:\biocbuild\bbs-3.15-bioc\R\bin\R.exe CMD check --no-multiarch --install=check:barcodetrackR.install-out.txt --library=D:\biocbuild\bbs-3.15-bioc\R\library --no-vignettes --timings barcodetrackR_1.3.0.tar.gz |
| StartedAt: 2022-03-17 18:29:11 -0400 (Thu, 17 Mar 2022) |
| EndedAt: 2022-03-17 18:31:49 -0400 (Thu, 17 Mar 2022) |
| EllapsedTime: 158.4 seconds |
| RetCode: 0 |
| Status: OK |
| CheckDir: barcodetrackR.Rcheck |
| Warnings: 0 |
############################################################################## ############################################################################## ### ### Running command: ### ### D:\biocbuild\bbs-3.15-bioc\R\bin\R.exe CMD check --no-multiarch --install=check:barcodetrackR.install-out.txt --library=D:\biocbuild\bbs-3.15-bioc\R\library --no-vignettes --timings barcodetrackR_1.3.0.tar.gz ### ############################################################################## ############################################################################## * using log directory 'D:/biocbuild/bbs-3.15-bioc/meat/barcodetrackR.Rcheck' * using R Under development (unstable) (2021-11-21 r81221) * using platform: x86_64-w64-mingw32 (64-bit) * using session charset: ISO8859-1 * using option '--no-vignettes' * checking for file 'barcodetrackR/DESCRIPTION' ... OK * checking extension type ... Package * this is package 'barcodetrackR' version '1.3.0' * package encoding: UTF-8 * checking package namespace information ... OK * checking package dependencies ... OK * checking if this is a source package ... OK * checking if there is a namespace ... OK * checking for hidden files and directories ... OK * checking for portable file names ... OK * checking whether package 'barcodetrackR' can be installed ... OK * checking installed package size ... OK * checking package directory ... OK * checking 'build' directory ... OK * checking DESCRIPTION meta-information ... OK * checking top-level files ... OK * checking for left-over files ... OK * checking index information ... OK * checking package subdirectories ... OK * checking R files for non-ASCII characters ... OK * checking R files for syntax errors ... OK * checking whether the package can be loaded ... OK * checking whether the package can be loaded with stated dependencies ... OK * checking whether the package can be unloaded cleanly ... OK * checking whether the namespace can be loaded with stated dependencies ... OK * checking whether the namespace can be unloaded cleanly ... OK * checking dependencies in R code ... OK * checking S3 generic/method consistency ... OK * checking replacement functions ... OK * checking foreign function calls ... OK * checking R code for possible problems ... OK * checking Rd files ... OK * checking Rd metadata ... OK * checking Rd cross-references ... OK * checking for missing documentation entries ... OK * checking for code/documentation mismatches ... OK * checking Rd \usage sections ... OK * checking Rd contents ... OK * checking for unstated dependencies in examples ... OK * checking contents of 'data' directory ... OK * checking data for non-ASCII characters ... OK * checking data for ASCII and uncompressed saves ... OK * checking files in 'vignettes' ... OK * checking examples ... OK * checking for unstated dependencies in 'tests' ... OK * checking tests ... Running 'testthat.R' OK * checking for unstated dependencies in vignettes ... OK * checking package vignettes in 'inst/doc' ... OK * checking running R code from vignettes ... SKIPPED * checking re-building of vignette outputs ... SKIPPED * checking PDF version of manual ... OK * DONE Status: OK
barcodetrackR.Rcheck/00install.out
##############################################################################
##############################################################################
###
### Running command:
###
### D:\biocbuild\bbs-3.15-bioc\R\bin\R.exe CMD INSTALL barcodetrackR
###
##############################################################################
##############################################################################
* installing to library 'D:/biocbuild/bbs-3.15-bioc/R/library'
* installing *source* package 'barcodetrackR' ...
** using staged installation
** R
** data
** inst
** byte-compile and prepare package for lazy loading
** help
*** installing help indices
converting help for package 'barcodetrackR'
finding HTML links ... done
barcode_binary_heatmap html
barcode_ggheatmap html
barcode_ggheatmap_stat html
barcode_stat_test html
bias_histogram html
bias_lineplot html
bias_ridge_plot html
build_index_html html
chord_diagram html
clonal_contribution html
clonal_count html
clonal_diversity html
cor_plot html
create_SE html
dist_plot html
estimate_barcode_threshold html
get_top_clones html
launchApp html
mds_plot html
rank_abundance_plot html
rank_abundance_stat_test html
scatter_plot html
stat_hist html
subset_SE html
threshold html
threshold_SE html
wu_subset html
** building package indices
** installing vignettes
** testing if installed package can be loaded from temporary location
** testing if installed package can be loaded from final location
** testing if installed package keeps a record of temporary installation path
* DONE (barcodetrackR)
Making 'packages.html' ...Warning in packageDescription(i, lib.loc = lib, fields = "Title", encoding = "UTF-8") :
DESCRIPTION file of package 'mogsa' is missing or broken
done
barcodetrackR.Rcheck/tests/testthat.Rout
R Under development (unstable) (2021-11-21 r81221) -- "Unsuffered Consequences"
Copyright (C) 2021 The R Foundation for Statistical Computing
Platform: x86_64-w64-mingw32/x64 (64-bit)
R is free software and comes with ABSOLUTELY NO WARRANTY.
You are welcome to redistribute it under certain conditions.
Type 'license()' or 'licence()' for distribution details.
R is a collaborative project with many contributors.
Type 'contributors()' for more information and
'citation()' on how to cite R or R packages in publications.
Type 'demo()' for some demos, 'help()' for on-line help, or
'help.start()' for an HTML browser interface to help.
Type 'q()' to quit R.
> library(testthat)
> library(barcodetrackR)
>
> test_check("barcodetrackR")
No threshold supplied. All barcodes will be retained. Be aware that lower abundance barcodes are likely to be less reliable due to sampling bias. To estimate an appropriate threshold, please see the barcodetrackR function `estimate_barcode_threshold`.
No threshold supplied. All barcodes will be retained. Be aware that lower abundance barcodes are likely to be less reliable due to sampling bias. To estimate an appropriate threshold, please see the barcodetrackR function `estimate_barcode_threshold`.
Removed 0 barcodes from the supplied dataframe based on relative threshold of 1e-07
Removed 0 barcodes from the supplied dataframe based on relative threshold of 1e-07
Removed 71 barcodes from the supplied dataframe based on relative threshold of 0.005
Removed 71 barcodes from the supplied dataframe based on relative threshold of 0.005
[ FAIL 0 | WARN 4 | SKIP 0 | PASS 31 ]
[ FAIL 0 | WARN 4 | SKIP 0 | PASS 31 ]
>
> proc.time()
user system elapsed
12.15 0.89 13.03
barcodetrackR.Rcheck/barcodetrackR-Ex.timings
| name | user | system | elapsed | |
| barcode_binary_heatmap | 0.23 | 0.00 | 0.23 | |
| barcode_ggheatmap | 0.63 | 0.00 | 0.63 | |
| barcode_ggheatmap_stat | 0.83 | 0.06 | 0.89 | |
| barcode_stat_test | 2.96 | 0.03 | 3.00 | |
| bias_histogram | 0.79 | 0.00 | 0.78 | |
| bias_lineplot | 0.32 | 0.02 | 0.34 | |
| bias_ridge_plot | 0.33 | 0.00 | 0.33 | |
| chord_diagram | 0.21 | 0.01 | 0.22 | |
| clonal_contribution | 0.15 | 0.02 | 0.17 | |
| clonal_count | 0.28 | 0.01 | 0.30 | |
| clonal_diversity | 0.30 | 0.00 | 0.29 | |
| cor_plot | 0.58 | 0.00 | 0.58 | |
| create_SE | 1.11 | 0.04 | 1.14 | |
| dist_plot | 0.18 | 0.00 | 0.19 | |
| estimate_barcode_threshold | 0 | 0 | 0 | |
| get_top_clones | 0.00 | 0.01 | 0.02 | |
| launchApp | 0 | 0 | 0 | |
| mds_plot | 0.27 | 0.00 | 0.26 | |
| rank_abundance_plot | 0.22 | 0.00 | 0.22 | |
| rank_abundance_stat_test | 0.86 | 0.02 | 0.87 | |
| scatter_plot | 0.09 | 0.00 | 0.10 | |
| stat_hist | 0.13 | 0.00 | 0.12 | |
| subset_SE | 0.01 | 0.00 | 0.02 | |
| threshold | 0.05 | 0.00 | 0.05 | |
| threshold_SE | 0.03 | 0.00 | 0.03 | |