| Back to Multiple platform build/check report for BioC 3.15 |
|
This page was generated on 2022-03-18 11:06:58 -0400 (Fri, 18 Mar 2022).
| Hostname | OS | Arch (*) | R version | Installed pkgs |
|---|---|---|---|---|
| nebbiolo1 | Linux (Ubuntu 20.04.4 LTS) | x86_64 | R Under development (unstable) (2022-02-17 r81757) -- "Unsuffered Consequences" | 4334 |
| riesling1 | Windows Server 2019 Standard | x64 | R Under development (unstable) (2021-11-21 r81221) -- "Unsuffered Consequences" | 4097 |
| palomino3 | Windows Server 2022 Datacenter | x64 | R Under development (unstable) (2022-02-17 r81757 ucrt) -- "Unsuffered Consequences" | 4083 |
| merida1 | macOS 10.14.6 Mojave | x86_64 | R Under development (unstable) (2022-03-02 r81842) -- "Unsuffered Consequences" | 4134 |
| Click on any hostname to see more info about the system (e.g. compilers) (*) as reported by 'uname -p', except on Windows and Mac OS X | ||||
|
To the developers/maintainers of the ballgown package: - Please allow up to 24 hours (and sometimes 48 hours) for your latest push to git@git.bioconductor.org:packages/ballgown.git to reflect on this report. See How and When does the builder pull? When will my changes propagate? here for more information. - Make sure to use the following settings in order to reproduce any error or warning you see on this page. |
| Package 106/2090 | Hostname | OS / Arch | INSTALL | BUILD | CHECK | BUILD BIN | ||||||||
| ballgown 2.27.1 (landing page) Jack Fu
| nebbiolo1 | Linux (Ubuntu 20.04.4 LTS) / x86_64 | OK | OK | OK | |||||||||
| riesling1 | Windows Server 2019 Standard / x64 | OK | OK | OK | OK | |||||||||
| palomino3 | Windows Server 2022 Datacenter / x64 | OK | OK | OK | OK | |||||||||
| merida1 | macOS 10.14.6 Mojave / x86_64 | OK | OK | OK | OK | |||||||||
| Package: ballgown |
| Version: 2.27.1 |
| Command: rm -rf ballgown.buildbin-libdir && mkdir ballgown.buildbin-libdir && D:\biocbuild\bbs-3.15-bioc\R\bin\R.exe CMD INSTALL --build --library=ballgown.buildbin-libdir ballgown_2.27.1.tar.gz |
| StartedAt: 2022-03-17 20:53:48 -0400 (Thu, 17 Mar 2022) |
| EndedAt: 2022-03-17 20:55:14 -0400 (Thu, 17 Mar 2022) |
| EllapsedTime: 86.4 seconds |
| RetCode: 0 |
| Status: OK |
| PackageFile: ballgown_2.27.1.zip |
| PackageFileSize: 3.311 MiB |
##############################################################################
##############################################################################
###
### Running command:
###
### rm -rf ballgown.buildbin-libdir && mkdir ballgown.buildbin-libdir && D:\biocbuild\bbs-3.15-bioc\R\bin\R.exe CMD INSTALL --build --library=ballgown.buildbin-libdir ballgown_2.27.1.tar.gz
###
##############################################################################
##############################################################################
* installing *source* package 'ballgown' ...
** using staged installation
** R
** data
** inst
** byte-compile and prepare package for lazy loading
Creating a new generic function for 'structure' in package 'ballgown'
** help
*** installing help indices
converting help for package 'ballgown'
finding HTML links ... done
annotate_assembly html
ballgown-class html
ballgown-constructor html
REDIRECT:topic Previous alias or file overwritten by alias: D:/biocbuild/bbs-3.15-bioc/meat/ballgown.buildbin-libdir/00LOCK-ballgown/00new/ballgown/help/ballgown.html
ballgown-package html
ballgownrsem html
bg html
checkAssembledTx html
clusterTranscripts html
collapseTranscripts html
contains html
dirs html
eexpr html
expr-replace html
expr html
exprfilter html
geneIDs html
geneNames html
getAttributeField html
getGenes html
gexpr html
gffRead html
gffReadGR html
iexpr html
indexes-replace html
indexes html
last html
mergedDate html
pData-replace html
pData html
pctOverlap html
plotLatentTranscripts html
plotMeans html
plotTranscripts html
sampleNames html
seqnames html
stattest html
structure html
subset html
tGene html
texpr html
transcriptIDs html
transcriptNames html
writeFiles html
** building package indices
** installing vignettes
** testing if installed package can be loaded from temporary location
** testing if installed package can be loaded from final location
** testing if installed package keeps a record of temporary installation path
* MD5 sums
packaged installation of 'ballgown' as ballgown_2.27.1.zip
* DONE (ballgown)