| Back to Multiple platform build/check report for BioC 3.15 |
|
This page was generated on 2022-03-18 11:08:56 -0400 (Fri, 18 Mar 2022).
| Hostname | OS | Arch (*) | R version | Installed pkgs |
|---|---|---|---|---|
| nebbiolo1 | Linux (Ubuntu 20.04.4 LTS) | x86_64 | R Under development (unstable) (2022-02-17 r81757) -- "Unsuffered Consequences" | 4334 |
| riesling1 | Windows Server 2019 Standard | x64 | R Under development (unstable) (2021-11-21 r81221) -- "Unsuffered Consequences" | 4097 |
| palomino3 | Windows Server 2022 Datacenter | x64 | R Under development (unstable) (2022-02-17 r81757 ucrt) -- "Unsuffered Consequences" | 4083 |
| merida1 | macOS 10.14.6 Mojave | x86_64 | R Under development (unstable) (2022-03-02 r81842) -- "Unsuffered Consequences" | 4134 |
| Click on any hostname to see more info about the system (e.g. compilers) (*) as reported by 'uname -p', except on Windows and Mac OS X | ||||
|
To the developers/maintainers of the UMI4Cats package: - Please allow up to 24 hours (and sometimes 48 hours) for your latest push to git@git.bioconductor.org:packages/UMI4Cats.git to reflect on this report. See How and When does the builder pull? When will my changes propagate? here for more information. - Make sure to use the following settings in order to reproduce any error or warning you see on this page. |
| Package 2032/2090 | Hostname | OS / Arch | INSTALL | BUILD | CHECK | BUILD BIN | ||||||||
| UMI4Cats 1.5.0 (landing page) Mireia Ramos-Rodriguez
| nebbiolo1 | Linux (Ubuntu 20.04.4 LTS) / x86_64 | OK | OK | OK | |||||||||
| riesling1 | Windows Server 2019 Standard / x64 | OK | OK | OK | OK | |||||||||
| palomino3 | Windows Server 2022 Datacenter / x64 | OK | OK | OK | OK | |||||||||
| merida1 | macOS 10.14.6 Mojave / x86_64 | OK | OK | OK | OK | |||||||||
| Package: UMI4Cats |
| Version: 1.5.0 |
| Command: D:\biocbuild\bbs-3.15-bioc\R\bin\R.exe CMD INSTALL UMI4Cats |
| StartedAt: 2022-03-17 16:12:34 -0400 (Thu, 17 Mar 2022) |
| EndedAt: 2022-03-17 16:13:30 -0400 (Thu, 17 Mar 2022) |
| EllapsedTime: 55.7 seconds |
| RetCode: 0 |
| Status: OK |
##############################################################################
##############################################################################
###
### Running command:
###
### D:\biocbuild\bbs-3.15-bioc\R\bin\R.exe CMD INSTALL UMI4Cats
###
##############################################################################
##############################################################################
* installing to library 'D:/biocbuild/bbs-3.15-bioc/R/library'
* installing *source* package 'UMI4Cats' ...
** using staged installation
** R
** data
** inst
** byte-compile and prepare package for lazy loading
** help
*** installing help indices
converting help for package 'UMI4Cats'
finding HTML links ... done
UMI4C-methods html
finding level-2 HTML links ... done
UMI4C html
UMI4C2dds html
UMI4Cats html
addGrouping html
addStepping html
alignmentUMI4C html
calculateAdaptativeTrend html
calculateDomainogram html
callInteractions html
combineUMI4C html
contactsUMI4C html
counterUMI4C html
createGeneAnnotation html
createStatsTable html
darken html
dds2UMI4C html
demultiplexFastq html
differentialNbinomWaldTestUMI4C html
digestGenome html
dot-getCache html
dot-getSummaryBam html
dot-singleAlignmentUMI4C html
dot-singleCounterUMI4C html
dot-singlePrepUMI4C html
dot-singleSplitUMI4C html
dot-smoothMonotone html
downloadUMI4CexampleData html
ex_ciita_umi4c html
fisherUMI4C html
formatPlotsUMI4C html
geoMeanCoordinates html
getColors html
getFactors html
getNormalizationMatrix html
getSignInteractions html
getViewpointCoordinates html
groupSamplesUMI4C html
makeWindowFragments html
nbinomWaldTestUMI4C html
pipe html
plotDifferential html
plotDomainogram html
plotGenes html
plotInteractions html
plotInteractionsUMI4C html
plotTrend html
plotUMI4C html
prepUMI4C html
smoothMonotoneUMI4C html
splitUMI4C html
statsUMI4C html
theme html
themeXYblank html
themeXblank html
themeYblank html
vstUMI4C html
waldUMI4C html
zscoreUMI4C html
*** copying figures
** building package indices
** installing vignettes
** testing if installed package can be loaded from temporary location
** testing if installed package can be loaded from final location
** testing if installed package keeps a record of temporary installation path
* DONE (UMI4Cats)
Making 'packages.html' ... done