| Back to Multiple platform build/check report for BioC 3.15 |
|
This page was generated on 2022-10-19 13:22:27 -0400 (Wed, 19 Oct 2022).
| Hostname | OS | Arch (*) | R version | Installed pkgs |
|---|---|---|---|---|
| nebbiolo1 | Linux (Ubuntu 20.04.5 LTS) | x86_64 | 4.2.1 (2022-06-23) -- "Funny-Looking Kid" | 4386 |
| palomino3 | Windows Server 2022 Datacenter | x64 | 4.2.1 (2022-06-23 ucrt) -- "Funny-Looking Kid" | 4138 |
| merida1 | macOS 10.14.6 Mojave | x86_64 | 4.2.1 (2022-06-23) -- "Funny-Looking Kid" | 4205 |
| Click on any hostname to see more info about the system (e.g. compilers) (*) as reported by 'uname -p', except on Windows and Mac OS X | ||||
|
To the developers/maintainers of the TRONCO package: - Please allow up to 24 hours (and sometimes 48 hours) for your latest push to git@git.bioconductor.org:packages/TRONCO.git to reflect on this report. See How and When does the builder pull? When will my changes propagate? for more information. - Make sure to use the following settings in order to reproduce any error or warning you see on this page. |
| Package 2063/2140 | Hostname | OS / Arch | INSTALL | BUILD | CHECK | BUILD BIN | ||||||||
| TRONCO 2.28.0 (landing page) Luca De Sano
| nebbiolo1 | Linux (Ubuntu 20.04.5 LTS) / x86_64 | OK | OK | OK | |||||||||
| palomino3 | Windows Server 2022 Datacenter / x64 | OK | OK | OK | OK | |||||||||
| merida1 | macOS 10.14.6 Mojave / x86_64 | OK | OK | OK | OK | |||||||||
| Package: TRONCO |
| Version: 2.28.0 |
| Command: F:\biocbuild\bbs-3.15-bioc\R\bin\R.exe CMD check --no-multiarch --install=check:TRONCO.install-out.txt --library=F:\biocbuild\bbs-3.15-bioc\R\library --no-vignettes --timings TRONCO_2.28.0.tar.gz |
| StartedAt: 2022-10-19 04:59:49 -0400 (Wed, 19 Oct 2022) |
| EndedAt: 2022-10-19 05:03:13 -0400 (Wed, 19 Oct 2022) |
| EllapsedTime: 203.4 seconds |
| RetCode: 0 |
| Status: OK |
| CheckDir: TRONCO.Rcheck |
| Warnings: 0 |
##############################################################################
##############################################################################
###
### Running command:
###
### F:\biocbuild\bbs-3.15-bioc\R\bin\R.exe CMD check --no-multiarch --install=check:TRONCO.install-out.txt --library=F:\biocbuild\bbs-3.15-bioc\R\library --no-vignettes --timings TRONCO_2.28.0.tar.gz
###
##############################################################################
##############################################################################
* using log directory 'F:/biocbuild/bbs-3.15-bioc/meat/TRONCO.Rcheck'
* using R version 4.2.1 (2022-06-23 ucrt)
* using platform: x86_64-w64-mingw32 (64-bit)
* using session charset: UTF-8
* using option '--no-vignettes'
* checking for file 'TRONCO/DESCRIPTION' ... OK
* this is package 'TRONCO' version '2.28.0'
* package encoding: UTF-8
* checking package namespace information ... OK
* checking package dependencies ... OK
* checking if this is a source package ... OK
* checking if there is a namespace ... OK
* checking for hidden files and directories ... OK
* checking for portable file names ... OK
* checking whether package 'TRONCO' can be installed ... OK
* checking installed package size ... OK
* checking package directory ... OK
* checking 'build' directory ... OK
* checking DESCRIPTION meta-information ... OK
* checking top-level files ... OK
* checking for left-over files ... OK
* checking index information ... OK
* checking package subdirectories ... OK
* checking R files for non-ASCII characters ... OK
* checking R files for syntax errors ... OK
* checking whether the package can be loaded ... OK
* checking whether the package can be loaded with stated dependencies ... OK
* checking whether the package can be unloaded cleanly ... OK
* checking whether the namespace can be loaded with stated dependencies ... OK
* checking whether the namespace can be unloaded cleanly ... OK
* checking dependencies in R code ... OK
* checking S3 generic/method consistency ... OK
* checking replacement functions ... OK
* checking foreign function calls ... OK
* checking R code for possible problems ... OK
* checking Rd files ... OK
* checking Rd metadata ... OK
* checking Rd cross-references ... OK
* checking for missing documentation entries ... OK
* checking for code/documentation mismatches ... OK
* checking Rd \usage sections ... OK
* checking Rd contents ... OK
* checking for unstated dependencies in examples ... OK
* checking contents of 'data' directory ... OK
* checking data for non-ASCII characters ... OK
* checking data for ASCII and uncompressed saves ... OK
* checking sizes of PDF files under 'inst/doc' ... OK
* checking files in 'vignettes' ... NOTE
Files named as vignettes but with no recognized vignette engine:
'vignettes/1_introduction.Rmd'
'vignettes/2_loading_data.Rmd'
'vignettes/3_data_visualization.Rmd'
'vignettes/4_data_manipulation.Rmd'
'vignettes/5_model_inference.Rmd'
'vignettes/6_post_reconstruction.Rmd'
'vignettes/7_import_export.Rmd'
(Is a VignetteBuilder field missing?)
* checking examples ... OK
Examples with CPU (user + system) or elapsed time > 5s
user system elapsed
tronco.bootstrap 0.1 0.02 9.02
* checking for unstated dependencies in 'tests' ... OK
* checking tests ...
Running 'testthat.R'
OK
* checking for unstated dependencies in vignettes ... OK
* checking package vignettes in 'inst/doc' ... OK
* checking running R code from vignettes ... SKIPPED
* checking re-building of vignette outputs ... SKIPPED
* checking PDF version of manual ... OK
* DONE
Status: 1 NOTE
See
'F:/biocbuild/bbs-3.15-bioc/meat/TRONCO.Rcheck/00check.log'
for details.
TRONCO.Rcheck/00install.out
############################################################################## ############################################################################## ### ### Running command: ### ### F:\biocbuild\bbs-3.15-bioc\R\bin\R.exe CMD INSTALL TRONCO ### ############################################################################## ############################################################################## * installing to library 'F:/biocbuild/bbs-3.15-bioc/R/library' * installing *source* package 'TRONCO' ... ** using staged installation ** R ** data ** inst ** byte-compile and prepare package for lazy loading ** help *** installing help indices ** building package indices ** installing vignettes ** testing if installed package can be loaded from temporary location ** testing if installed package can be loaded from final location ** testing if installed package keeps a record of temporary installation path * DONE (TRONCO)
TRONCO.Rcheck/tests/testthat.Rout
R version 4.2.1 (2022-06-23 ucrt) -- "Funny-Looking Kid"
Copyright (C) 2022 The R Foundation for Statistical Computing
Platform: x86_64-w64-mingw32/x64 (64-bit)
R is free software and comes with ABSOLUTELY NO WARRANTY.
You are welcome to redistribute it under certain conditions.
Type 'license()' or 'licence()' for distribution details.
R is a collaborative project with many contributors.
Type 'contributors()' for more information and
'citation()' on how to cite R or R packages in publications.
Type 'demo()' for some demos, 'help()' for on-line help, or
'help.start()' for an HTML browser interface to help.
Type 'q()' to quit R.
> Sys.setenv("R_TESTS" = "")
>
> library(testthat)
> library(TRONCO)
>
> test_check("TRONCO")
*** Checking input events.
*** Inferring a progression model with the following settings.
Dataset size: n = 40, m = 30.
Algorithm: CAPRESE with shrinkage coefficient: 0.5.
*** Evaluating LogLik informations.
The reconstruction has been successfully completed in 00h:00m:00s
*** Checking input events.
*** Inferring a progression model with the following settings.
Dataset size: n = 40, m = 30.
Algorithm: Edmonds with "no_reg" regularization Random seed: NULL.
Bootstrap iterations (Wilcoxon): 1.
exhaustive bootstrap: TRUE.
p-value: 0.05.
minimum bootstrapped scores: 3.
*** Bootstraping selective advantage scores (prima facie).
...........
Evaluating "temporal priority" (Wilcoxon, p-value 0.05)
Evaluating "probability raising" (Wilcoxon, p-value 0.05)
*** Loop detection found loops to break.
Removed 7 edges out of 55 (13%)
*** Performing likelihood-fit with regularization: no_reg and score: pmi .
*** Evaluating BIC / AIC / LogLik informations.
The reconstruction has been successfully completed in 00h:00m:02s
*** Checking input events.
*** Inferring a progression model with the following settings.
Dataset size: n = 40, m = 30.
Algorithm: Gabow with "no_reg" regularization Random seed: NULL.
Bootstrap iterations (Wilcoxon): 1.
exhaustive bootstrap: TRUE.
p-value: 0.05.
minimum bootstrapped scores: 3.
*** Bootstraping selective advantage scores (prima facie).
..........
Evaluating "temporal priority" (Wilcoxon, p-value 0.05)
Evaluating "probability raising" (Wilcoxon, p-value 0.05)
*** Loop detection found loops to break.
Removed 6 edges out of 50 (12%)
*** Performing likelihood-fit with regularization: no_reg .
*** Evaluating BIC / AIC / LogLik informations.
The reconstruction has been successfully completed in 00h:00m:02s
*** Checking input events.
*** Inferring a progression model with the following settings.
Dataset size: n = 40, m = 30.
Algorithm: Chow Liu with "bic, aic" regularization Random seed: NULL.
Bootstrap iterations (Wilcoxon): 1.
exhaustive bootstrap: TRUE.
p-value: 0.05.
minimum bootstrapped scores: 3.
*** Bootstraping selective advantage scores (prima facie).
.....
Evaluating "temporal priority" (Wilcoxon, p-value 0.05)
Evaluating "probability raising" (Wilcoxon, p-value 0.05)
*** Loop detection found loops to break.
Removed 6 edges out of 51 (12%)
*** Performing likelihood-fit with regularization bic .
*** Performing likelihood-fit with regularization aic .
*** Evaluating BIC / AIC / LogLik informations.
The reconstruction has been successfully completed in 00h:00m:02s
*** Checking input events.
*** Inferring a progression model with the following settings.
Dataset size: n = 40, m = 30.
Algorithm: Prim with "no_reg" regularization Random seed: NULL.
Bootstrap iterations (Wilcoxon): 1.
exhaustive bootstrap: TRUE.
p-value: 0.05.
minimum bootstrapped scores: 3.
*** Bootstraping selective advantage scores (prima facie).
...........
Evaluating "temporal priority" (Wilcoxon, p-value 0.05)
Evaluating "probability raising" (Wilcoxon, p-value 0.05)
*** Loop detection found loops to break.
Removed 6 edges out of 41 (15%)
*** Performing likelihood-fit with regularization: no_reg .
*** Evaluating BIC / AIC / LogLik informations.
The reconstruction has been successfully completed in 00h:00m:02s
[ FAIL 0 | WARN 14 | SKIP 0 | PASS 225 ]
[ FAIL 0 | WARN 14 | SKIP 0 | PASS 225 ]
>
> proc.time()
user system elapsed
40.29 0.98 87.95
TRONCO.Rcheck/TRONCO-Ex.timings
| name | user | system | elapsed | |
| TCGA.multiple.samples | 0.03 | 0.00 | 0.03 | |
| TCGA.remove.multiple.samples | 0.08 | 0.00 | 0.08 | |
| TCGA.shorten.barcodes | 0.01 | 0.02 | 0.03 | |
| annotate.description | 0.02 | 0.00 | 0.01 | |
| annotate.stages | 0.02 | 0.00 | 0.01 | |
| as.adj.matrix | 0.03 | 0.00 | 0.03 | |
| as.alterations | 0 | 0 | 0 | |
| as.bootstrap.scores | 0.19 | 0.00 | 0.19 | |
| as.colors | 0 | 0 | 0 | |
| as.confidence | 0.02 | 0.02 | 0.03 | |
| as.description | 0 | 0 | 0 | |
| as.events | 0.02 | 0.00 | 0.01 | |
| as.events.in.patterns | 0 | 0 | 0 | |
| as.events.in.sample | 0.00 | 0.01 | 0.02 | |
| as.gene | 0.01 | 0.00 | 0.02 | |
| as.genes | 0 | 0 | 0 | |
| as.genes.in.patterns | 0.00 | 0.02 | 0.01 | |
| as.genotypes | 0.02 | 0.00 | 0.02 | |
| as.hypotheses | 0.00 | 0.01 | 0.01 | |
| as.joint.probs | 0.03 | 0.00 | 0.03 | |
| as.kfold.eloss | 0.08 | 0.00 | 0.08 | |
| as.kfold.posterr | 0.06 | 0.01 | 0.08 | |
| as.kfold.prederr | 0.08 | 0.00 | 0.07 | |
| as.marginal.probs | 0.01 | 0.00 | 0.02 | |
| as.models | 0.03 | 0.00 | 0.03 | |
| as.parameters | 0 | 0 | 0 | |
| as.pathway | 0.02 | 0.00 | 0.02 | |
| as.patterns | 0 | 0 | 0 | |
| as.samples | 0 | 0 | 0 | |
| as.selective.advantage.relations | 0.08 | 0.02 | 0.09 | |
| as.stages | 0.01 | 0.00 | 0.02 | |
| as.types | 0 | 0 | 0 | |
| as.types.in.patterns | 0 | 0 | 0 | |
| change.color | 0.02 | 0.00 | 0.01 | |
| consolidate.data | 0.01 | 0.00 | 0.02 | |
| delete.event | 0.00 | 0.01 | 0.01 | |
| delete.gene | 0 | 0 | 0 | |
| delete.hypothesis | 0.04 | 0.02 | 0.05 | |
| delete.model | 0 | 0 | 0 | |
| delete.pattern | 0.02 | 0.00 | 0.01 | |
| delete.samples | 0 | 0 | 0 | |
| delete.type | 0 | 0 | 0 | |
| duplicates | 0 | 0 | 0 | |
| enforce.numeric | 0 | 0 | 0 | |
| enforce.string | 0.01 | 0.00 | 0.01 | |
| events.selection | 0 | 0 | 0 | |
| export.graphml | 0.07 | 0.00 | 0.06 | |
| export.mutex | 0.00 | 0.01 | 0.02 | |
| has.duplicates | 0.01 | 0.00 | 0.02 | |
| has.model | 0 | 0 | 0 | |
| has.stages | 0.00 | 0.02 | 0.01 | |
| import.GISTIC | 0.02 | 0.00 | 0.02 | |
| import.MAF | 0.03 | 0.03 | 0.06 | |
| intersect.datasets | 0 | 0 | 0 | |
| is.compliant | 0 | 0 | 0 | |
| join.events | 0 | 0 | 0 | |
| join.types | 0.05 | 0.01 | 0.07 | |
| keysToNames | 0 | 0 | 0 | |
| nameToKey | 0.00 | 0.02 | 0.02 | |
| nevents | 0 | 0 | 0 | |
| ngenes | 0 | 0 | 0 | |
| nhypotheses | 0.00 | 0.02 | 0.01 | |
| npatterns | 0 | 0 | 0 | |
| nsamples | 0 | 0 | 0 | |
| ntypes | 0.00 | 0.01 | 0.02 | |
| oncoprint.cbio | 0 | 0 | 0 | |
| order.frequency | 0.02 | 0.00 | 0.02 | |
| pheatmap | 0.04 | 0.00 | 0.04 | |
| rank.recurrents | 0 | 0 | 0 | |
| rename.gene | 0 | 0 | 0 | |
| rename.type | 0 | 0 | 0 | |
| samples.selection | 0 | 0 | 0 | |
| trim | 0.01 | 0.00 | 0.01 | |
| tronco.bootstrap | 0.10 | 0.02 | 9.02 | |
| tronco.caprese | 0.12 | 0.00 | 0.12 | |
| tronco.capri | 2.02 | 0.09 | 2.11 | |
| tronco.chowliu | 1.70 | 0.09 | 1.80 | |
| tronco.edmonds | 1.61 | 0.04 | 1.64 | |
| tronco.gabow | 1.52 | 0.00 | 1.52 | |
| tronco.kfold.eloss | 0.06 | 0.03 | 0.09 | |
| tronco.kfold.posterr | 0.14 | 0.06 | 3.49 | |
| tronco.kfold.prederr | 0.12 | 0.03 | 2.78 | |
| tronco.plot | 0.16 | 0.02 | 0.17 | |
| tronco.prim | 2.33 | 0.06 | 2.39 | |
| view | 0 | 0 | 0 | |
| which.samples | 0.01 | 0.00 | 0.01 | |