| Back to Multiple platform build/check report for BioC 3.15 |
|
This page was generated on 2022-03-18 11:08:53 -0400 (Fri, 18 Mar 2022).
| Hostname | OS | Arch (*) | R version | Installed pkgs |
|---|---|---|---|---|
| nebbiolo1 | Linux (Ubuntu 20.04.4 LTS) | x86_64 | R Under development (unstable) (2022-02-17 r81757) -- "Unsuffered Consequences" | 4334 |
| riesling1 | Windows Server 2019 Standard | x64 | R Under development (unstable) (2021-11-21 r81221) -- "Unsuffered Consequences" | 4097 |
| palomino3 | Windows Server 2022 Datacenter | x64 | R Under development (unstable) (2022-02-17 r81757 ucrt) -- "Unsuffered Consequences" | 4083 |
| merida1 | macOS 10.14.6 Mojave | x86_64 | R Under development (unstable) (2022-03-02 r81842) -- "Unsuffered Consequences" | 4134 |
| Click on any hostname to see more info about the system (e.g. compilers) (*) as reported by 'uname -p', except on Windows and Mac OS X | ||||
|
To the developers/maintainers of the TPP2D package: - Please allow up to 24 hours (and sometimes 48 hours) for your latest push to git@git.bioconductor.org:packages/TPP2D.git to reflect on this report. See How and When does the builder pull? When will my changes propagate? here for more information. - Make sure to use the following settings in order to reproduce any error or warning you see on this page. |
| Package 1983/2090 | Hostname | OS / Arch | INSTALL | BUILD | CHECK | BUILD BIN | ||||||||
| TPP2D 1.11.0 (landing page) Nils Kurzawa
| nebbiolo1 | Linux (Ubuntu 20.04.4 LTS) / x86_64 | OK | OK | OK | |||||||||
| riesling1 | Windows Server 2019 Standard / x64 | OK | OK | OK | OK | |||||||||
| palomino3 | Windows Server 2022 Datacenter / x64 | OK | OK | OK | OK | |||||||||
| merida1 | macOS 10.14.6 Mojave / x86_64 | OK | OK | OK | OK | |||||||||
| Package: TPP2D |
| Version: 1.11.0 |
| Command: D:\biocbuild\bbs-3.15-bioc\R\bin\R.exe CMD check --no-multiarch --install=check:TPP2D.install-out.txt --library=D:\biocbuild\bbs-3.15-bioc\R\library --no-vignettes --timings TPP2D_1.11.0.tar.gz |
| StartedAt: 2022-03-17 20:30:28 -0400 (Thu, 17 Mar 2022) |
| EndedAt: 2022-03-17 20:32:48 -0400 (Thu, 17 Mar 2022) |
| EllapsedTime: 140.3 seconds |
| RetCode: 0 |
| Status: OK |
| CheckDir: TPP2D.Rcheck |
| Warnings: 0 |
##############################################################################
##############################################################################
###
### Running command:
###
### D:\biocbuild\bbs-3.15-bioc\R\bin\R.exe CMD check --no-multiarch --install=check:TPP2D.install-out.txt --library=D:\biocbuild\bbs-3.15-bioc\R\library --no-vignettes --timings TPP2D_1.11.0.tar.gz
###
##############################################################################
##############################################################################
* using log directory 'D:/biocbuild/bbs-3.15-bioc/meat/TPP2D.Rcheck'
* using R Under development (unstable) (2021-11-21 r81221)
* using platform: x86_64-w64-mingw32 (64-bit)
* using session charset: ISO8859-1
* using option '--no-vignettes'
* checking for file 'TPP2D/DESCRIPTION' ... OK
* this is package 'TPP2D' version '1.11.0'
* package encoding: UTF-8
* checking package namespace information ... OK
* checking package dependencies ... OK
* checking if this is a source package ... OK
* checking if there is a namespace ... OK
* checking for hidden files and directories ... OK
* checking for portable file names ... OK
* checking whether package 'TPP2D' can be installed ... OK
* checking installed package size ... OK
* checking package directory ... OK
* checking 'build' directory ... OK
* checking DESCRIPTION meta-information ... OK
* checking top-level files ... OK
* checking for left-over files ... OK
* checking index information ... OK
* checking package subdirectories ... OK
* checking R files for non-ASCII characters ... OK
* checking R files for syntax errors ... OK
* checking whether the package can be loaded ... OK
* checking whether the package can be loaded with stated dependencies ... OK
* checking whether the package can be unloaded cleanly ... OK
* checking whether the namespace can be loaded with stated dependencies ... OK
* checking whether the namespace can be unloaded cleanly ... OK
* checking dependencies in R code ... OK
* checking S3 generic/method consistency ... OK
* checking replacement functions ... OK
* checking foreign function calls ... OK
* checking R code for possible problems ... OK
* checking Rd files ... OK
* checking Rd metadata ... OK
* checking Rd cross-references ... OK
* checking for missing documentation entries ... OK
* checking for code/documentation mismatches ... OK
* checking Rd \usage sections ... OK
* checking Rd contents ... OK
* checking for unstated dependencies in examples ... OK
* checking contents of 'data' directory ... OK
* checking data for non-ASCII characters ... OK
* checking data for ASCII and uncompressed saves ... OK
* checking R/sysdata.rda ... OK
* checking files in 'vignettes' ... OK
* checking examples ... OK
Examples with CPU (user + system) or elapsed time > 5s
user system elapsed
computeFStatFromParams 9.43 0.01 9.45
getModelParamsDf 9.24 0.00 9.24
fitAndEvalDataset 8.47 0.01 8.49
computeFstat 7.05 0.00 7.05
plot2dTppVolcano 6.03 0.06 6.09
getFDR 2.21 0.02 5.87
findHits 1.75 0.02 5.44
* checking for unstated dependencies in 'tests' ... OK
* checking tests ...
Running 'testthat.R'
OK
* checking for unstated dependencies in vignettes ... OK
* checking package vignettes in 'inst/doc' ... OK
* checking running R code from vignettes ... SKIPPED
* checking re-building of vignette outputs ... SKIPPED
* checking PDF version of manual ... OK
* DONE
Status: OK
TPP2D.Rcheck/00install.out
##############################################################################
##############################################################################
###
### Running command:
###
### D:\biocbuild\bbs-3.15-bioc\R\bin\R.exe CMD INSTALL TPP2D
###
##############################################################################
##############################################################################
* installing to library 'D:/biocbuild/bbs-3.15-bioc/R/library'
* installing *source* package 'TPP2D' ...
** using staged installation
** R
** data
** inst
** byte-compile and prepare package for lazy loading
** help
*** installing help indices
converting help for package 'TPP2D'
finding HTML links ... done
TPP2D-defunct html
TPP_importCheckConfigTable html
annotateDataList html
bootstrapNull html
bootstrapNullAlternativeModel html
competeModels html
computeFStatFromParams html
computeFdr-defunct html
computeFstat html
configWide2Long html
config_tab html
filterOutContaminants html
findHits html
fitAndEvalDataset html
fitH0Model html
fitH1Model html
getFDR html
getModelParamsDf html
getPEC504Temperature html
getPvalues html
gg_qq html
import2dDataset html
import2dMain html
plot2dTppFcHeatmap html
plot2dTppFit html
plot2dTppProfile html
plot2dTppRelProfile html
plot2dTppVolcano html
raw_dat_list html
recomputeSignalFromRatios html
renameColumns html
resolveAmbiguousProteinNames html
runTPP2D html
simulated_cell_extract_df html
tpp2dExperiment-class html
** building package indices
** installing vignettes
** testing if installed package can be loaded from temporary location
** testing if installed package can be loaded from final location
** testing if installed package keeps a record of temporary installation path
* DONE (TPP2D)
Making 'packages.html' ...Warning in packageDescription(i, lib.loc = lib, fields = "Title", encoding = "UTF-8") :
DESCRIPTION file of package 'FoldGO' is missing or broken
done
TPP2D.Rcheck/tests/testthat.Rout
R Under development (unstable) (2021-11-21 r81221) -- "Unsuffered Consequences"
Copyright (C) 2021 The R Foundation for Statistical Computing
Platform: x86_64-w64-mingw32/x64 (64-bit)
R is free software and comes with ABSOLUTELY NO WARRANTY.
You are welcome to redistribute it under certain conditions.
Type 'license()' or 'licence()' for distribution details.
R is a collaborative project with many contributors.
Type 'contributors()' for more information and
'citation()' on how to cite R or R packages in publications.
Type 'demo()' for some demos, 'help()' for on-line help, or
'help.start()' for an HTML browser interface to help.
Type 'q()' to quit R.
> Sys.setenv("R_TESTS" = "")
> library(testthat)
> library(TPP2D)
Loading required package: dplyr
Attaching package: 'dplyr'
The following object is masked from 'package:testthat':
matches
The following objects are masked from 'package:stats':
filter, lag
The following objects are masked from 'package:base':
intersect, setdiff, setequal, union
>
> test_check("TPP2D")
[1] "Warning: You have specificed B < 20, it is recommended to use at least B = 20 in order to obtain reliable results."
|
| | 0%
|
|======================================================================| 100%
[ FAIL 0 | WARN 0 | SKIP 0 | PASS 18 ]
>
> proc.time()
user system elapsed
8.70 0.31 9.00
TPP2D.Rcheck/TPP2D-Ex.timings
| name | user | system | elapsed | |
| TPP_importCheckConfigTable | 0.00 | 0.01 | 0.02 | |
| annotateDataList | 0.94 | 0.02 | 0.95 | |
| bootstrapNull | 0.07 | 0.00 | 1.78 | |
| bootstrapNullAlternativeModel | 2.96 | 0.03 | 2.98 | |
| competeModels | 4.14 | 0.02 | 4.16 | |
| computeFStatFromParams | 9.43 | 0.01 | 9.45 | |
| computeFstat | 7.05 | 0.00 | 7.05 | |
| configWide2Long | 0.03 | 0.00 | 0.03 | |
| filterOutContaminants | 0.03 | 0.00 | 0.03 | |
| findHits | 1.75 | 0.02 | 5.44 | |
| fitAndEvalDataset | 8.47 | 0.01 | 8.49 | |
| fitH0Model | 0.42 | 0.00 | 0.42 | |
| fitH1Model | 1.52 | 0.00 | 1.51 | |
| getFDR | 2.21 | 0.02 | 5.87 | |
| getModelParamsDf | 9.24 | 0.00 | 9.24 | |
| getPEC504Temperature | 0.73 | 0.00 | 0.73 | |
| getPvalues | 0.94 | 0.00 | 4.02 | |
| gg_qq | 0.06 | 0.00 | 0.06 | |
| import2dDataset | 0.78 | 0.05 | 0.83 | |
| import2dMain | 0.46 | 0.01 | 0.47 | |
| plot2dTppFcHeatmap | 0.28 | 0.00 | 0.28 | |
| plot2dTppFit | 0.3 | 0.0 | 0.3 | |
| plot2dTppProfile | 0.25 | 0.00 | 0.25 | |
| plot2dTppRelProfile | 0.22 | 0.00 | 0.22 | |
| plot2dTppVolcano | 6.03 | 0.06 | 6.09 | |
| recomputeSignalFromRatios | 0.06 | 0.00 | 0.07 | |
| renameColumns | 0.82 | 0.00 | 0.81 | |
| resolveAmbiguousProteinNames | 0.06 | 0.00 | 0.06 | |
| runTPP2D | 3.51 | 0.02 | 3.53 | |
| tpp2dExperiment-class | 0 | 0 | 0 | |