| Back to Multiple platform build/check report for BioC 3.15 |
|
This page was generated on 2022-10-19 13:22:23 -0400 (Wed, 19 Oct 2022).
| Hostname | OS | Arch (*) | R version | Installed pkgs |
|---|---|---|---|---|
| nebbiolo1 | Linux (Ubuntu 20.04.5 LTS) | x86_64 | 4.2.1 (2022-06-23) -- "Funny-Looking Kid" | 4386 |
| palomino3 | Windows Server 2022 Datacenter | x64 | 4.2.1 (2022-06-23 ucrt) -- "Funny-Looking Kid" | 4138 |
| merida1 | macOS 10.14.6 Mojave | x86_64 | 4.2.1 (2022-06-23) -- "Funny-Looking Kid" | 4205 |
| Click on any hostname to see more info about the system (e.g. compilers) (*) as reported by 'uname -p', except on Windows and Mac OS X | ||||
|
To the developers/maintainers of the SynExtend package: - Please allow up to 24 hours (and sometimes 48 hours) for your latest push to git@git.bioconductor.org:packages/SynExtend.git to reflect on this report. See How and When does the builder pull? When will my changes propagate? for more information. - Make sure to use the following settings in order to reproduce any error or warning you see on this page. |
| Package 1971/2140 | Hostname | OS / Arch | INSTALL | BUILD | CHECK | BUILD BIN | ||||||||
| SynExtend 1.8.0 (landing page) Nicholas Cooley
| nebbiolo1 | Linux (Ubuntu 20.04.5 LTS) / x86_64 | OK | OK | OK | |||||||||
| palomino3 | Windows Server 2022 Datacenter / x64 | OK | OK | OK | OK | |||||||||
| merida1 | macOS 10.14.6 Mojave / x86_64 | OK | OK | OK | OK | |||||||||
| Package: SynExtend |
| Version: 1.8.0 |
| Command: F:\biocbuild\bbs-3.15-bioc\R\bin\R.exe CMD check --no-multiarch --install=check:SynExtend.install-out.txt --library=F:\biocbuild\bbs-3.15-bioc\R\library --no-vignettes --timings SynExtend_1.8.0.tar.gz |
| StartedAt: 2022-10-19 04:41:47 -0400 (Wed, 19 Oct 2022) |
| EndedAt: 2022-10-19 04:47:12 -0400 (Wed, 19 Oct 2022) |
| EllapsedTime: 325.4 seconds |
| RetCode: 0 |
| Status: OK |
| CheckDir: SynExtend.Rcheck |
| Warnings: 0 |
##############################################################################
##############################################################################
###
### Running command:
###
### F:\biocbuild\bbs-3.15-bioc\R\bin\R.exe CMD check --no-multiarch --install=check:SynExtend.install-out.txt --library=F:\biocbuild\bbs-3.15-bioc\R\library --no-vignettes --timings SynExtend_1.8.0.tar.gz
###
##############################################################################
##############################################################################
* using log directory 'F:/biocbuild/bbs-3.15-bioc/meat/SynExtend.Rcheck'
* using R version 4.2.1 (2022-06-23 ucrt)
* using platform: x86_64-w64-mingw32 (64-bit)
* using session charset: UTF-8
* using option '--no-vignettes'
* checking for file 'SynExtend/DESCRIPTION' ... OK
* checking extension type ... Package
* this is package 'SynExtend' version '1.8.0'
* package encoding: UTF-8
* checking package namespace information ... OK
* checking package dependencies ... OK
* checking if this is a source package ... OK
* checking if there is a namespace ... OK
* checking for hidden files and directories ... OK
* checking for portable file names ... OK
* checking whether package 'SynExtend' can be installed ... OK
* checking installed package size ... OK
* checking package directory ... OK
* checking 'build' directory ... OK
* checking DESCRIPTION meta-information ... OK
* checking top-level files ... OK
* checking for left-over files ... OK
* checking index information ... OK
* checking package subdirectories ... OK
* checking R files for non-ASCII characters ... OK
* checking R files for syntax errors ... OK
* checking whether the package can be loaded ... OK
* checking whether the package can be loaded with stated dependencies ... OK
* checking whether the package can be unloaded cleanly ... OK
* checking whether the namespace can be loaded with stated dependencies ... OK
* checking whether the namespace can be unloaded cleanly ... OK
* checking dependencies in R code ... OK
* checking S3 generic/method consistency ... OK
* checking replacement functions ... OK
* checking foreign function calls ... OK
* checking R code for possible problems ... OK
* checking Rd files ... OK
* checking Rd metadata ... OK
* checking Rd cross-references ... OK
* checking for missing documentation entries ... OK
* checking for code/documentation mismatches ... OK
* checking Rd \usage sections ... OK
* checking Rd contents ... OK
* checking for unstated dependencies in examples ... OK
* checking contents of 'data' directory ... OK
* checking data for non-ASCII characters ... OK
* checking data for ASCII and uncompressed saves ... OK
* checking sizes of PDF files under 'inst/doc' ... OK
* checking files in 'vignettes' ... OK
* checking examples ... OK
Examples with CPU (user + system) or elapsed time > 5s
user system elapsed
predict.ProtWeaver 80.47 0.97 84.85
BuiltInEnsembles 78.06 1.36 82.34
BlockExpansion 12.22 1.38 14.19
gffToDataFrame 7.19 0.08 7.27
* checking for unstated dependencies in vignettes ... OK
* checking package vignettes in 'inst/doc' ... OK
* checking running R code from vignettes ... SKIPPED
* checking re-building of vignette outputs ... SKIPPED
* checking PDF version of manual ... OK
* DONE
Status: OK
SynExtend.Rcheck/00install.out
############################################################################## ############################################################################## ### ### Running command: ### ### F:\biocbuild\bbs-3.15-bioc\R\bin\R.exe CMD INSTALL SynExtend ### ############################################################################## ############################################################################## * installing to library 'F:/biocbuild/bbs-3.15-bioc/R/library' * installing *source* package 'SynExtend' ... ** using staged installation ** R ** data ** inst ** byte-compile and prepare package for lazy loading ** help *** installing help indices ** building package indices ** installing vignettes ** testing if installed package can be loaded from temporary location ** testing if installed package can be loaded from final location ** testing if installed package keeps a record of temporary installation path * DONE (SynExtend)
SynExtend.Rcheck/SynExtend-Ex.timings
| name | user | system | elapsed | |
| BlastSeqs | 0 | 0 | 0 | |
| BlockExpansion | 12.22 | 1.38 | 14.19 | |
| BlockReconciliation | 0.19 | 0.00 | 0.19 | |
| BuiltInEnsembles | 78.06 | 1.36 | 82.34 | |
| DisjointSet | 0.01 | 0.00 | 0.02 | |
| Endosymbionts_GeneCalls | 0.02 | 0.00 | 0.02 | |
| Endosymbionts_LinkedFeatures | 0.02 | 0.00 | 0.01 | |
| Endosymbionts_Pairs01 | 0.01 | 0.00 | 0.02 | |
| Endosymbionts_Pairs02 | 0.02 | 0.00 | 0.01 | |
| Endosymbionts_Pairs03 | 0.00 | 0.01 | 0.02 | |
| Endosymbionts_Sets | 0.00 | 0.02 | 0.01 | |
| Endosymbionts_Synteny | 0 | 0 | 0 | |
| EstimRearrScen | 1.50 | 0.04 | 1.55 | |
| ExampleStreptomycesData | 2.86 | 0.09 | 2.95 | |
| ExtractBy | 0.2 | 0.0 | 0.2 | |
| FindSets | 0 | 0 | 0 | |
| Generic | 0 | 0 | 0 | |
| NucleotideOverlap | 0.23 | 0.00 | 0.24 | |
| PairSummaries | 1.82 | 0.00 | 1.81 | |
| ProtWeaver | 0 | 0 | 0 | |
| SequenceSimilarity | 0.42 | 0.00 | 0.50 | |
| SubSetPairs | 0.03 | 0.00 | 0.03 | |
| getProtWebData.ProtWeb | 2.22 | 0.03 | 2.25 | |
| gffToDataFrame | 7.19 | 0.08 | 7.27 | |
| plot.ProtWeb | 2.4 | 0.0 | 2.4 | |
| predict.ProtWeaver | 80.47 | 0.97 | 84.85 | |