| Back to Multiple platform build/check report for BioC 3.15 |
|
This page was generated on 2022-10-19 13:22:17 -0400 (Wed, 19 Oct 2022).
| Hostname | OS | Arch (*) | R version | Installed pkgs |
|---|---|---|---|---|
| nebbiolo1 | Linux (Ubuntu 20.04.5 LTS) | x86_64 | 4.2.1 (2022-06-23) -- "Funny-Looking Kid" | 4386 |
| palomino3 | Windows Server 2022 Datacenter | x64 | 4.2.1 (2022-06-23 ucrt) -- "Funny-Looking Kid" | 4138 |
| merida1 | macOS 10.14.6 Mojave | x86_64 | 4.2.1 (2022-06-23) -- "Funny-Looking Kid" | 4205 |
| Click on any hostname to see more info about the system (e.g. compilers) (*) as reported by 'uname -p', except on Windows and Mac OS X | ||||
|
To the developers/maintainers of the ShortRead package: - Please allow up to 24 hours (and sometimes 48 hours) for your latest push to git@git.bioconductor.org:packages/ShortRead.git to reflect on this report. See How and When does the builder pull? When will my changes propagate? for more information. - Make sure to use the following settings in order to reproduce any error or warning you see on this page. |
| Package 1831/2140 | Hostname | OS / Arch | INSTALL | BUILD | CHECK | BUILD BIN | ||||||||
| ShortRead 1.54.0 (landing page) Bioconductor Package Maintainer
| nebbiolo1 | Linux (Ubuntu 20.04.5 LTS) / x86_64 | OK | OK | WARNINGS | |||||||||
| palomino3 | Windows Server 2022 Datacenter / x64 | OK | OK | OK | OK | |||||||||
| merida1 | macOS 10.14.6 Mojave / x86_64 | OK | OK | OK | OK | |||||||||
| Package: ShortRead |
| Version: 1.54.0 |
| Command: F:\biocbuild\bbs-3.15-bioc\R\bin\R.exe CMD check --no-multiarch --install=check:ShortRead.install-out.txt --library=F:\biocbuild\bbs-3.15-bioc\R\library --no-vignettes --timings ShortRead_1.54.0.tar.gz |
| StartedAt: 2022-10-19 04:10:14 -0400 (Wed, 19 Oct 2022) |
| EndedAt: 2022-10-19 04:19:21 -0400 (Wed, 19 Oct 2022) |
| EllapsedTime: 546.4 seconds |
| RetCode: 0 |
| Status: OK |
| CheckDir: ShortRead.Rcheck |
| Warnings: 0 |
##############################################################################
##############################################################################
###
### Running command:
###
### F:\biocbuild\bbs-3.15-bioc\R\bin\R.exe CMD check --no-multiarch --install=check:ShortRead.install-out.txt --library=F:\biocbuild\bbs-3.15-bioc\R\library --no-vignettes --timings ShortRead_1.54.0.tar.gz
###
##############################################################################
##############################################################################
* using log directory 'F:/biocbuild/bbs-3.15-bioc/meat/ShortRead.Rcheck'
* using R version 4.2.1 (2022-06-23 ucrt)
* using platform: x86_64-w64-mingw32 (64-bit)
* using session charset: UTF-8
* using option '--no-vignettes'
* checking for file 'ShortRead/DESCRIPTION' ... OK
* checking extension type ... Package
* this is package 'ShortRead' version '1.54.0'
* checking package namespace information ... OK
* checking package dependencies ... OK
* checking if this is a source package ... OK
* checking if there is a namespace ... OK
* checking for hidden files and directories ... OK
* checking for portable file names ... OK
* checking whether package 'ShortRead' can be installed ... OK
* checking installed package size ... NOTE
installed size is 7.2Mb
sub-directories of 1Mb or more:
R 2.1Mb
extdata 4.0Mb
* checking package directory ... OK
* checking 'build' directory ... OK
* checking DESCRIPTION meta-information ... OK
* checking top-level files ... OK
* checking for left-over files ... OK
* checking index information ... OK
* checking package subdirectories ... OK
* checking R files for non-ASCII characters ... OK
* checking R files for syntax errors ... OK
* checking whether the package can be loaded ... OK
* checking whether the package can be loaded with stated dependencies ... OK
* checking whether the package can be unloaded cleanly ... OK
* checking whether the namespace can be loaded with stated dependencies ... OK
* checking whether the namespace can be unloaded cleanly ... OK
* checking dependencies in R code ... NOTE
Unexported object imported by a ':::' call: 'S4Vectors:::V_recycle'
See the note in ?`:::` about the use of this operator.
* checking S3 generic/method consistency ... OK
* checking replacement functions ... OK
* checking foreign function calls ... OK
* checking R code for possible problems ... NOTE
.plotCycleBaseCall: no visible binding for global variable 'Base'
flag,QAReadQuality: no visible binding for global variable 'Score'
flag,QAReadQuality: no visible binding for global variable 'Id'
flag,QAReadQuality: no visible binding for global variable 'Density'
report,QAFrequentSequence: no visible binding for global variable
'TopCount'
report,QAFrequentSequence: no visible binding for global variable 'Id'
report,QANucleotideByCycle: no visible binding for global variable
'Base'
report,QANucleotideUse: no visible binding for global variable
'Nucleotide'
report,QAQualityUse: no visible binding for global variable 'Count'
report,QAQualityUse: no visible binding for global variable 'Id'
report,QAQualityUse: no visible binding for global variable 'Quality'
report,QAReadQuality: no visible binding for global variable 'Id'
report,QASequenceUse: no visible binding for global variable
'Occurrences'
report,QASequenceUse: no visible binding for global variable 'Id'
report,QASequenceUse: no visible binding for global variable 'Reads'
Undefined global functions or variables:
Base Count Density Id Nucleotide Occurrences Quality Reads Score
TopCount
* checking Rd files ... OK
* checking Rd metadata ... OK
* checking Rd cross-references ... OK
* checking for missing documentation entries ... OK
* checking for code/documentation mismatches ... OK
* checking Rd \usage sections ... OK
* checking Rd contents ... OK
* checking for unstated dependencies in examples ... OK
* checking line endings in shell scripts ... OK
* checking line endings in C/C++/Fortran sources/headers ... OK
* checking line endings in Makefiles ... OK
* checking compilation flags in Makevars ... OK
* checking for GNU extensions in Makefiles ... OK
* checking for portable use of $(BLAS_LIBS) and $(LAPACK_LIBS) ... OK
* checking use of PKG_*FLAGS in Makefiles ... OK
* checking compiled code ... NOTE
Note: information on .o files for x64 is not available
File 'F:/biocbuild/bbs-3.15-bioc/R/library/ShortRead/libs/x64/ShortRead.dll':
Found 'abort', possibly from 'abort' (C), 'runtime' (Fortran)
Found 'exit', possibly from 'exit' (C), 'stop' (Fortran)
Compiled code should not call entry points which might terminate R nor
write to stdout/stderr instead of to the console, nor use Fortran I/O
nor system RNGs. The detected symbols are linked into the code but
might come from libraries and not actually be called.
See 'Writing portable packages' in the 'Writing R Extensions' manual.
* checking sizes of PDF files under 'inst/doc' ... OK
* checking files in 'vignettes' ... OK
* checking examples ... OK
Examples with CPU (user + system) or elapsed time > 5s
user system elapsed
Snapshot-class 7.17 0.43 7.82
srdistance 2.88 0.08 37.17
readBaseQuality 2.06 0.01 12.83
readPrb 1.14 0.00 12.50
* checking for unstated dependencies in 'tests' ... OK
* checking tests ...
Running 'ShortRead_unit_tests.R'
OK
* checking for unstated dependencies in vignettes ... OK
* checking package vignettes in 'inst/doc' ... OK
* checking running R code from vignettes ... SKIPPED
* checking re-building of vignette outputs ... SKIPPED
* checking PDF version of manual ... OK
* DONE
Status: 4 NOTEs
See
'F:/biocbuild/bbs-3.15-bioc/meat/ShortRead.Rcheck/00check.log'
for details.
ShortRead.Rcheck/00install.out
##############################################################################
##############################################################################
###
### Running command:
###
### F:\biocbuild\bbs-3.15-bioc\R\bin\R.exe CMD INSTALL ShortRead
###
##############################################################################
##############################################################################
* installing to library 'F:/biocbuild/bbs-3.15-bioc/R/library'
* installing *source* package 'ShortRead' ...
** using staged installation
**********************************************
WARNING: this package has a configure script
It probably needs manual configuration
**********************************************
** libs
gcc -I"F:/biocbuild/bbs-3.15-bioc/R/library/zlibbioc/include" -I"F:/biocbuild/bbs-3.15-bioc/R/include" -DNDEBUG -I'F:/biocbuild/bbs-3.15-bioc/R/library/S4Vectors/include' -I'F:/biocbuild/bbs-3.15-bioc/R/library/IRanges/include' -I'F:/biocbuild/bbs-3.15-bioc/R/library/XVector/include' -I'F:/biocbuild/bbs-3.15-bioc/R/library/Biostrings/include' -I'F:/biocbuild/bbs-3.15-bioc/R/library/Rhtslib/include' -I'F:/biocbuild/bbs-3.15-bioc/R/library/zlibbioc/include' -I"C:/rtools42/x86_64-w64-mingw32.static.posix/include" -O2 -Wall -std=gnu99 -mfpmath=sse -msse2 -mstackrealign -c Biostrings_stubs.c -o Biostrings_stubs.o
gcc -I"F:/biocbuild/bbs-3.15-bioc/R/library/zlibbioc/include" -I"F:/biocbuild/bbs-3.15-bioc/R/include" -DNDEBUG -I'F:/biocbuild/bbs-3.15-bioc/R/library/S4Vectors/include' -I'F:/biocbuild/bbs-3.15-bioc/R/library/IRanges/include' -I'F:/biocbuild/bbs-3.15-bioc/R/library/XVector/include' -I'F:/biocbuild/bbs-3.15-bioc/R/library/Biostrings/include' -I'F:/biocbuild/bbs-3.15-bioc/R/library/Rhtslib/include' -I'F:/biocbuild/bbs-3.15-bioc/R/library/zlibbioc/include' -I"C:/rtools42/x86_64-w64-mingw32.static.posix/include" -O2 -Wall -std=gnu99 -mfpmath=sse -msse2 -mstackrealign -c IRanges_stubs.c -o IRanges_stubs.o
gcc -I"F:/biocbuild/bbs-3.15-bioc/R/library/zlibbioc/include" -I"F:/biocbuild/bbs-3.15-bioc/R/include" -DNDEBUG -I'F:/biocbuild/bbs-3.15-bioc/R/library/S4Vectors/include' -I'F:/biocbuild/bbs-3.15-bioc/R/library/IRanges/include' -I'F:/biocbuild/bbs-3.15-bioc/R/library/XVector/include' -I'F:/biocbuild/bbs-3.15-bioc/R/library/Biostrings/include' -I'F:/biocbuild/bbs-3.15-bioc/R/library/Rhtslib/include' -I'F:/biocbuild/bbs-3.15-bioc/R/library/zlibbioc/include' -I"C:/rtools42/x86_64-w64-mingw32.static.posix/include" -O2 -Wall -std=gnu99 -mfpmath=sse -msse2 -mstackrealign -c R_init_ShortRead.c -o R_init_ShortRead.o
gcc -I"F:/biocbuild/bbs-3.15-bioc/R/library/zlibbioc/include" -I"F:/biocbuild/bbs-3.15-bioc/R/include" -DNDEBUG -I'F:/biocbuild/bbs-3.15-bioc/R/library/S4Vectors/include' -I'F:/biocbuild/bbs-3.15-bioc/R/library/IRanges/include' -I'F:/biocbuild/bbs-3.15-bioc/R/library/XVector/include' -I'F:/biocbuild/bbs-3.15-bioc/R/library/Biostrings/include' -I'F:/biocbuild/bbs-3.15-bioc/R/library/Rhtslib/include' -I'F:/biocbuild/bbs-3.15-bioc/R/library/zlibbioc/include' -I"C:/rtools42/x86_64-w64-mingw32.static.posix/include" -O2 -Wall -std=gnu99 -mfpmath=sse -msse2 -mstackrealign -c S4Vectors_stubs.c -o S4Vectors_stubs.o
gcc -I"F:/biocbuild/bbs-3.15-bioc/R/library/zlibbioc/include" -I"F:/biocbuild/bbs-3.15-bioc/R/include" -DNDEBUG -I'F:/biocbuild/bbs-3.15-bioc/R/library/S4Vectors/include' -I'F:/biocbuild/bbs-3.15-bioc/R/library/IRanges/include' -I'F:/biocbuild/bbs-3.15-bioc/R/library/XVector/include' -I'F:/biocbuild/bbs-3.15-bioc/R/library/Biostrings/include' -I'F:/biocbuild/bbs-3.15-bioc/R/library/Rhtslib/include' -I'F:/biocbuild/bbs-3.15-bioc/R/library/zlibbioc/include' -I"C:/rtools42/x86_64-w64-mingw32.static.posix/include" -O2 -Wall -std=gnu99 -mfpmath=sse -msse2 -mstackrealign -c XVector_stubs.c -o XVector_stubs.o
gcc -I"F:/biocbuild/bbs-3.15-bioc/R/library/zlibbioc/include" -I"F:/biocbuild/bbs-3.15-bioc/R/include" -DNDEBUG -I'F:/biocbuild/bbs-3.15-bioc/R/library/S4Vectors/include' -I'F:/biocbuild/bbs-3.15-bioc/R/library/IRanges/include' -I'F:/biocbuild/bbs-3.15-bioc/R/library/XVector/include' -I'F:/biocbuild/bbs-3.15-bioc/R/library/Biostrings/include' -I'F:/biocbuild/bbs-3.15-bioc/R/library/Rhtslib/include' -I'F:/biocbuild/bbs-3.15-bioc/R/library/zlibbioc/include' -I"C:/rtools42/x86_64-w64-mingw32.static.posix/include" -O2 -Wall -std=gnu99 -mfpmath=sse -msse2 -mstackrealign -c alphabet.c -o alphabet.o
gcc -I"F:/biocbuild/bbs-3.15-bioc/R/library/zlibbioc/include" -I"F:/biocbuild/bbs-3.15-bioc/R/include" -DNDEBUG -I'F:/biocbuild/bbs-3.15-bioc/R/library/S4Vectors/include' -I'F:/biocbuild/bbs-3.15-bioc/R/library/IRanges/include' -I'F:/biocbuild/bbs-3.15-bioc/R/library/XVector/include' -I'F:/biocbuild/bbs-3.15-bioc/R/library/Biostrings/include' -I'F:/biocbuild/bbs-3.15-bioc/R/library/Rhtslib/include' -I'F:/biocbuild/bbs-3.15-bioc/R/library/zlibbioc/include' -I"C:/rtools42/x86_64-w64-mingw32.static.posix/include" -O2 -Wall -std=gnu99 -mfpmath=sse -msse2 -mstackrealign -c count.c -o count.o
gcc -I"F:/biocbuild/bbs-3.15-bioc/R/library/zlibbioc/include" -I"F:/biocbuild/bbs-3.15-bioc/R/include" -DNDEBUG -I'F:/biocbuild/bbs-3.15-bioc/R/library/S4Vectors/include' -I'F:/biocbuild/bbs-3.15-bioc/R/library/IRanges/include' -I'F:/biocbuild/bbs-3.15-bioc/R/library/XVector/include' -I'F:/biocbuild/bbs-3.15-bioc/R/library/Biostrings/include' -I'F:/biocbuild/bbs-3.15-bioc/R/library/Rhtslib/include' -I'F:/biocbuild/bbs-3.15-bioc/R/library/zlibbioc/include' -I"C:/rtools42/x86_64-w64-mingw32.static.posix/include" -O2 -Wall -std=gnu99 -mfpmath=sse -msse2 -mstackrealign -c io.c -o io.o
gcc -I"F:/biocbuild/bbs-3.15-bioc/R/library/zlibbioc/include" -I"F:/biocbuild/bbs-3.15-bioc/R/include" -DNDEBUG -I'F:/biocbuild/bbs-3.15-bioc/R/library/S4Vectors/include' -I'F:/biocbuild/bbs-3.15-bioc/R/library/IRanges/include' -I'F:/biocbuild/bbs-3.15-bioc/R/library/XVector/include' -I'F:/biocbuild/bbs-3.15-bioc/R/library/Biostrings/include' -I'F:/biocbuild/bbs-3.15-bioc/R/library/Rhtslib/include' -I'F:/biocbuild/bbs-3.15-bioc/R/library/zlibbioc/include' -I"C:/rtools42/x86_64-w64-mingw32.static.posix/include" -O2 -Wall -std=gnu99 -mfpmath=sse -msse2 -mstackrealign -c io_bowtie.c -o io_bowtie.o
gcc -I"F:/biocbuild/bbs-3.15-bioc/R/library/zlibbioc/include" -I"F:/biocbuild/bbs-3.15-bioc/R/include" -DNDEBUG -I'F:/biocbuild/bbs-3.15-bioc/R/library/S4Vectors/include' -I'F:/biocbuild/bbs-3.15-bioc/R/library/IRanges/include' -I'F:/biocbuild/bbs-3.15-bioc/R/library/XVector/include' -I'F:/biocbuild/bbs-3.15-bioc/R/library/Biostrings/include' -I'F:/biocbuild/bbs-3.15-bioc/R/library/Rhtslib/include' -I'F:/biocbuild/bbs-3.15-bioc/R/library/zlibbioc/include' -I"C:/rtools42/x86_64-w64-mingw32.static.posix/include" -O2 -Wall -std=gnu99 -mfpmath=sse -msse2 -mstackrealign -c io_soap.c -o io_soap.o
g++ -std=gnu++11 -I"F:/biocbuild/bbs-3.15-bioc/R/library/zlibbioc/include" -I"F:/biocbuild/bbs-3.15-bioc/R/include" -DNDEBUG -I'F:/biocbuild/bbs-3.15-bioc/R/library/S4Vectors/include' -I'F:/biocbuild/bbs-3.15-bioc/R/library/IRanges/include' -I'F:/biocbuild/bbs-3.15-bioc/R/library/XVector/include' -I'F:/biocbuild/bbs-3.15-bioc/R/library/Biostrings/include' -I'F:/biocbuild/bbs-3.15-bioc/R/library/Rhtslib/include' -I'F:/biocbuild/bbs-3.15-bioc/R/library/zlibbioc/include' -I"C:/rtools42/x86_64-w64-mingw32.static.posix/include" -O2 -Wall -mfpmath=sse -msse2 -mstackrealign -c readBfaToc.cc -o readBfaToc.o
g++ -std=gnu++11 -I"F:/biocbuild/bbs-3.15-bioc/R/library/zlibbioc/include" -I"F:/biocbuild/bbs-3.15-bioc/R/include" -DNDEBUG -I'F:/biocbuild/bbs-3.15-bioc/R/library/S4Vectors/include' -I'F:/biocbuild/bbs-3.15-bioc/R/library/IRanges/include' -I'F:/biocbuild/bbs-3.15-bioc/R/library/XVector/include' -I'F:/biocbuild/bbs-3.15-bioc/R/library/Biostrings/include' -I'F:/biocbuild/bbs-3.15-bioc/R/library/Rhtslib/include' -I'F:/biocbuild/bbs-3.15-bioc/R/library/zlibbioc/include' -I"C:/rtools42/x86_64-w64-mingw32.static.posix/include" -O2 -Wall -mfpmath=sse -msse2 -mstackrealign -c read_maq_map.cc -o read_maq_map.o
gcc -I"F:/biocbuild/bbs-3.15-bioc/R/library/zlibbioc/include" -I"F:/biocbuild/bbs-3.15-bioc/R/include" -DNDEBUG -I'F:/biocbuild/bbs-3.15-bioc/R/library/S4Vectors/include' -I'F:/biocbuild/bbs-3.15-bioc/R/library/IRanges/include' -I'F:/biocbuild/bbs-3.15-bioc/R/library/XVector/include' -I'F:/biocbuild/bbs-3.15-bioc/R/library/Biostrings/include' -I'F:/biocbuild/bbs-3.15-bioc/R/library/Rhtslib/include' -I'F:/biocbuild/bbs-3.15-bioc/R/library/zlibbioc/include' -I"C:/rtools42/x86_64-w64-mingw32.static.posix/include" -O2 -Wall -std=gnu99 -mfpmath=sse -msse2 -mstackrealign -c sampler.c -o sampler.o
gcc -I"F:/biocbuild/bbs-3.15-bioc/R/library/zlibbioc/include" -I"F:/biocbuild/bbs-3.15-bioc/R/include" -DNDEBUG -I'F:/biocbuild/bbs-3.15-bioc/R/library/S4Vectors/include' -I'F:/biocbuild/bbs-3.15-bioc/R/library/IRanges/include' -I'F:/biocbuild/bbs-3.15-bioc/R/library/XVector/include' -I'F:/biocbuild/bbs-3.15-bioc/R/library/Biostrings/include' -I'F:/biocbuild/bbs-3.15-bioc/R/library/Rhtslib/include' -I'F:/biocbuild/bbs-3.15-bioc/R/library/zlibbioc/include' -I"C:/rtools42/x86_64-w64-mingw32.static.posix/include" -O2 -Wall -std=gnu99 -mfpmath=sse -msse2 -mstackrealign -c trim.c -o trim.o
gcc -I"F:/biocbuild/bbs-3.15-bioc/R/library/zlibbioc/include" -I"F:/biocbuild/bbs-3.15-bioc/R/include" -DNDEBUG -I'F:/biocbuild/bbs-3.15-bioc/R/library/S4Vectors/include' -I'F:/biocbuild/bbs-3.15-bioc/R/library/IRanges/include' -I'F:/biocbuild/bbs-3.15-bioc/R/library/XVector/include' -I'F:/biocbuild/bbs-3.15-bioc/R/library/Biostrings/include' -I'F:/biocbuild/bbs-3.15-bioc/R/library/Rhtslib/include' -I'F:/biocbuild/bbs-3.15-bioc/R/library/zlibbioc/include' -I"C:/rtools42/x86_64-w64-mingw32.static.posix/include" -O2 -Wall -std=gnu99 -mfpmath=sse -msse2 -mstackrealign -c util.c -o util.o
gcc -I"F:/biocbuild/bbs-3.15-bioc/R/library/zlibbioc/include" -I"F:/biocbuild/bbs-3.15-bioc/R/include" -DNDEBUG -I'F:/biocbuild/bbs-3.15-bioc/R/library/S4Vectors/include' -I'F:/biocbuild/bbs-3.15-bioc/R/library/IRanges/include' -I'F:/biocbuild/bbs-3.15-bioc/R/library/XVector/include' -I'F:/biocbuild/bbs-3.15-bioc/R/library/Biostrings/include' -I'F:/biocbuild/bbs-3.15-bioc/R/library/Rhtslib/include' -I'F:/biocbuild/bbs-3.15-bioc/R/library/zlibbioc/include' -I"C:/rtools42/x86_64-w64-mingw32.static.posix/include" -O2 -Wall -std=gnu99 -mfpmath=sse -msse2 -mstackrealign -c xsnap.c -o xsnap.o
g++ -std=gnu++11 -shared -s -static-libgcc -o ShortRead.dll tmp.def Biostrings_stubs.o IRanges_stubs.o R_init_ShortRead.o S4Vectors_stubs.o XVector_stubs.o alphabet.o count.o io.o io_bowtie.o io_soap.o readBfaToc.o read_maq_map.o sampler.o trim.o util.o xsnap.o -LF:/biocbuild/bbs-3.15-bioc/R/library/zlibbioc/libs/x64 -lzlib1bioc -LC:/rtools42/x86_64-w64-mingw32.static.posix/lib/x64 -LC:/rtools42/x86_64-w64-mingw32.static.posix/lib -LF:/biocbuild/bbs-3.15-bioc/R/bin/x64 -lR
installing to F:/biocbuild/bbs-3.15-bioc/R/library/00LOCK-ShortRead/00new/ShortRead/libs/x64
** R
** inst
** byte-compile and prepare package for lazy loading
** help
*** installing help indices
** building package indices
** installing vignettes
** testing if installed package can be loaded from temporary location
** testing if installed package can be loaded from final location
** testing if installed package keeps a record of temporary installation path
* DONE (ShortRead)
ShortRead.Rcheck/tests/ShortRead_unit_tests.Rout
R version 4.2.1 (2022-06-23 ucrt) -- "Funny-Looking Kid"
Copyright (C) 2022 The R Foundation for Statistical Computing
Platform: x86_64-w64-mingw32/x64 (64-bit)
R is free software and comes with ABSOLUTELY NO WARRANTY.
You are welcome to redistribute it under certain conditions.
Type 'license()' or 'licence()' for distribution details.
R is a collaborative project with many contributors.
Type 'contributors()' for more information and
'citation()' on how to cite R or R packages in publications.
Type 'demo()' for some demos, 'help()' for on-line help, or
'help.start()' for an HTML browser interface to help.
Type 'q()' to quit R.
> BiocGenerics:::testPackage("ShortRead")
Attaching package: 'BiocGenerics'
The following objects are masked from 'package:stats':
IQR, mad, sd, var, xtabs
The following objects are masked from 'package:base':
Filter, Find, Map, Position, Reduce, anyDuplicated, append,
as.data.frame, basename, cbind, colnames, dirname, do.call,
duplicated, eval, evalq, get, grep, grepl, intersect, is.unsorted,
lapply, mapply, match, mget, order, paste, pmax, pmax.int, pmin,
pmin.int, rank, rbind, rownames, sapply, setdiff, sort, table,
tapply, union, unique, unsplit, which.max, which.min
Attaching package: 'S4Vectors'
The following objects are masked from 'package:base':
I, expand.grid, unname
Attaching package: 'IRanges'
The following object is masked from 'package:grDevices':
windows
Attaching package: 'Biostrings'
The following object is masked from 'package:base':
strsplit
Attaching package: 'MatrixGenerics'
The following objects are masked from 'package:matrixStats':
colAlls, colAnyNAs, colAnys, colAvgsPerRowSet, colCollapse,
colCounts, colCummaxs, colCummins, colCumprods, colCumsums,
colDiffs, colIQRDiffs, colIQRs, colLogSumExps, colMadDiffs,
colMads, colMaxs, colMeans2, colMedians, colMins, colOrderStats,
colProds, colQuantiles, colRanges, colRanks, colSdDiffs, colSds,
colSums2, colTabulates, colVarDiffs, colVars, colWeightedMads,
colWeightedMeans, colWeightedMedians, colWeightedSds,
colWeightedVars, rowAlls, rowAnyNAs, rowAnys, rowAvgsPerColSet,
rowCollapse, rowCounts, rowCummaxs, rowCummins, rowCumprods,
rowCumsums, rowDiffs, rowIQRDiffs, rowIQRs, rowLogSumExps,
rowMadDiffs, rowMads, rowMaxs, rowMeans2, rowMedians, rowMins,
rowOrderStats, rowProds, rowQuantiles, rowRanges, rowRanks,
rowSdDiffs, rowSds, rowSums2, rowTabulates, rowVarDiffs, rowVars,
rowWeightedMads, rowWeightedMeans, rowWeightedMedians,
rowWeightedSds, rowWeightedVars
Welcome to Bioconductor
Vignettes contain introductory material; view with
'browseVignettes()'. To cite Bioconductor, see
'citation("Biobase")', and for packages 'citation("pkgname")'.
Attaching package: 'Biobase'
The following object is masked from 'package:MatrixGenerics':
rowMedians
The following objects are masked from 'package:matrixStats':
anyMissing, rowMedians
RUNIT TEST PROTOCOL -- Wed Oct 19 04:19:04 2022
***********************************************
Number of test functions: 106
Number of errors: 0
Number of failures: 0
1 Test Suite :
ShortRead RUnit Tests - 106 test functions, 0 errors, 0 failures
Number of test functions: 106
Number of errors: 0
Number of failures: 0
Warning messages:
1: In for (i in seq_len(n)) { :
closing unused connection 6 (F:/biocbuild/bbs-3.15-bioc/R/library/ShortRead/extdata/Data/C1-36Firecrest/Bustard/GERALD/s_1_sequence.txt)
2: In for (i in seq_len(n)) { :
closing unused connection 5 (F:/biocbuild/bbs-3.15-bioc/R/library/ShortRead/extdata/Data/C1-36Firecrest/Bustard/GERALD/s_1_sequence.txt)
3: In .Internal(gc(verbose, reset, full)) :
closing unused connection 3 (F:\biocbuild\bbs-3.15-bioc\tmpdir\RtmpmSRgbR\file8ba020dc379f)
>
> proc.time()
user system elapsed
27.70 1.57 206.12
ShortRead.Rcheck/ShortRead-Ex.timings
| name | user | system | elapsed | |
| AlignedRead-class | 0.46 | 0.02 | 0.47 | |
| BowtieQA-class | 0 | 0 | 0 | |
| ExperimentPath-class | 0 | 0 | 0 | |
| FastqQA-class | 0 | 0 | 0 | |
| Intensity-class | 0.19 | 0.00 | 0.22 | |
| MAQMapQA-class | 0 | 0 | 0 | |
| QA-class | 0 | 0 | 0 | |
| QualityScore-class | 0.02 | 0.00 | 0.02 | |
| QualityScore | 0 | 0 | 0 | |
| RochePath-class | 0.00 | 0.01 | 0.01 | |
| RocheSet-class | 0 | 0 | 0 | |
| RtaIntensity-class | 0.03 | 0.00 | 0.04 | |
| RtaIntensity | 0.01 | 0.02 | 0.03 | |
| SRFilter-class | 0 | 0 | 0 | |
| SRFilterResult-class | 0.05 | 0.00 | 0.04 | |
| SRSet-class | 0 | 0 | 0 | |
| SRUtil-class | 0 | 0 | 0 | |
| Sampler-class | 1.00 | 0.02 | 1.02 | |
| ShortRead-class | 0.05 | 0.00 | 0.05 | |
| ShortReadQ-class | 0.25 | 0.00 | 0.25 | |
| Snapshot-class | 7.17 | 0.43 | 7.82 | |
| SnapshotFunction-class | 0 | 0 | 0 | |
| SolexaExportQA-class | 0 | 0 | 0 | |
| SolexaIntensity-class | 0.12 | 0.00 | 0.13 | |
| SolexaPath-class | 0.10 | 0.00 | 0.09 | |
| SolexaSet-class | 0.08 | 0.00 | 0.08 | |
| SpTrellis-class | 0.46 | 0.07 | 0.53 | |
| accessors | 0.00 | 0.01 | 0.02 | |
| alphabetByCycle | 0.04 | 0.00 | 0.03 | |
| clean | 0 | 0 | 0 | |
| countLines | 0.09 | 0.03 | 0.12 | |
| dotQA-class | 0 | 0 | 0 | |
| dustyScore | 0.08 | 0.00 | 0.08 | |
| filterFastq | 1.15 | 0.03 | 1.19 | |
| polyn | 0 | 0 | 0 | |
| qa | 0.38 | 0.02 | 0.39 | |
| qa2 | 3.56 | 0.19 | 3.81 | |
| readAligned | 0.19 | 0.00 | 0.19 | |
| readBaseQuality | 2.06 | 0.01 | 12.83 | |
| readFasta | 0.06 | 0.00 | 0.09 | |
| readFastq | 0.11 | 0.00 | 0.13 | |
| readIntensities | 0.08 | 0.00 | 0.08 | |
| readPrb | 1.14 | 0.00 | 12.50 | |
| readQseq | 0.02 | 0.00 | 0.01 | |
| readXStringColumns | 0.06 | 0.00 | 0.06 | |
| renew | 0.03 | 0.02 | 0.05 | |
| report | 0 | 0 | 0 | |
| spViewPerFeature | 2.30 | 0.17 | 2.47 | |
| srFilter | 0.26 | 0.00 | 0.27 | |
| srdistance | 2.88 | 0.08 | 37.17 | |
| srduplicated | 0.03 | 0.01 | 0.04 | |
| tables | 0.09 | 0.02 | 0.11 | |
| trimTails | 0.01 | 0.00 | 0.01 | |