| Back to Multiple platform build/check report for BioC 3.15 |
|
This page was generated on 2022-10-19 13:22:15 -0400 (Wed, 19 Oct 2022).
| Hostname | OS | Arch (*) | R version | Installed pkgs |
|---|---|---|---|---|
| nebbiolo1 | Linux (Ubuntu 20.04.5 LTS) | x86_64 | 4.2.1 (2022-06-23) -- "Funny-Looking Kid" | 4386 |
| palomino3 | Windows Server 2022 Datacenter | x64 | 4.2.1 (2022-06-23 ucrt) -- "Funny-Looking Kid" | 4138 |
| merida1 | macOS 10.14.6 Mojave | x86_64 | 4.2.1 (2022-06-23) -- "Funny-Looking Kid" | 4205 |
| Click on any hostname to see more info about the system (e.g. compilers) (*) as reported by 'uname -p', except on Windows and Mac OS X | ||||
|
To the developers/maintainers of the Sconify package: - Please allow up to 24 hours (and sometimes 48 hours) for your latest push to git@git.bioconductor.org:packages/Sconify.git to reflect on this report. See How and When does the builder pull? When will my changes propagate? for more information. - Make sure to use the following settings in order to reproduce any error or warning you see on this page. |
| Package 1781/2140 | Hostname | OS / Arch | INSTALL | BUILD | CHECK | BUILD BIN | ||||||||
| Sconify 1.16.0 (landing page) Tyler J Burns
| nebbiolo1 | Linux (Ubuntu 20.04.5 LTS) / x86_64 | OK | OK | OK | |||||||||
| palomino3 | Windows Server 2022 Datacenter / x64 | OK | OK | OK | OK | |||||||||
| merida1 | macOS 10.14.6 Mojave / x86_64 | OK | OK | OK | OK | |||||||||
| Package: Sconify |
| Version: 1.16.0 |
| Command: F:\biocbuild\bbs-3.15-bioc\R\bin\R.exe CMD check --no-multiarch --install=check:Sconify.install-out.txt --library=F:\biocbuild\bbs-3.15-bioc\R\library --no-vignettes --timings Sconify_1.16.0.tar.gz |
| StartedAt: 2022-10-19 03:57:45 -0400 (Wed, 19 Oct 2022) |
| EndedAt: 2022-10-19 03:59:58 -0400 (Wed, 19 Oct 2022) |
| EllapsedTime: 133.2 seconds |
| RetCode: 0 |
| Status: OK |
| CheckDir: Sconify.Rcheck |
| Warnings: 0 |
##############################################################################
##############################################################################
###
### Running command:
###
### F:\biocbuild\bbs-3.15-bioc\R\bin\R.exe CMD check --no-multiarch --install=check:Sconify.install-out.txt --library=F:\biocbuild\bbs-3.15-bioc\R\library --no-vignettes --timings Sconify_1.16.0.tar.gz
###
##############################################################################
##############################################################################
* using log directory 'F:/biocbuild/bbs-3.15-bioc/meat/Sconify.Rcheck'
* using R version 4.2.1 (2022-06-23 ucrt)
* using platform: x86_64-w64-mingw32 (64-bit)
* using session charset: UTF-8
* using option '--no-vignettes'
* checking for file 'Sconify/DESCRIPTION' ... OK
* checking extension type ... Package
* this is package 'Sconify' version '1.16.0'
* package encoding: UTF-8
* checking package namespace information ... OK
* checking package dependencies ... OK
* checking if this is a source package ... OK
* checking if there is a namespace ... OK
* checking for hidden files and directories ... OK
* checking for portable file names ... OK
* checking whether package 'Sconify' can be installed ... OK
* checking installed package size ... OK
* checking package directory ... OK
* checking 'build' directory ... OK
* checking DESCRIPTION meta-information ... OK
* checking top-level files ... OK
* checking for left-over files ... OK
* checking index information ... OK
* checking package subdirectories ... OK
* checking R files for non-ASCII characters ... OK
* checking R files for syntax errors ... OK
* checking whether the package can be loaded ... OK
* checking whether the package can be loaded with stated dependencies ... OK
* checking whether the package can be unloaded cleanly ... OK
* checking whether the namespace can be loaded with stated dependencies ... OK
* checking whether the namespace can be unloaded cleanly ... OK
* checking dependencies in R code ... OK
* checking S3 generic/method consistency ... OK
* checking replacement functions ... OK
* checking foreign function calls ... OK
* checking R code for possible problems ... OK
* checking Rd files ... OK
* checking Rd metadata ... OK
* checking Rd cross-references ... OK
* checking for missing documentation entries ... OK
* checking for code/documentation mismatches ... OK
* checking Rd \usage sections ... OK
* checking Rd contents ... OK
* checking for unstated dependencies in examples ... OK
* checking contents of 'data' directory ... OK
* checking data for non-ASCII characters ... OK
* checking LazyData ... OK
* checking data for ASCII and uncompressed saves ... OK
* checking files in 'vignettes' ... OK
* checking examples ... OK
Examples with CPU (user + system) or elapsed time > 5s
user system elapsed
SconeValues 16.81 0.22 17.03
* checking for unstated dependencies in 'tests' ... OK
* checking tests ...
Running 'testthat.R'
OK
* checking for unstated dependencies in vignettes ... OK
* checking package vignettes in 'inst/doc' ... OK
* checking running R code from vignettes ... SKIPPED
* checking re-building of vignette outputs ... SKIPPED
* checking PDF version of manual ... OK
* DONE
Status: OK
Sconify.Rcheck/00install.out
############################################################################## ############################################################################## ### ### Running command: ### ### F:\biocbuild\bbs-3.15-bioc\R\bin\R.exe CMD INSTALL Sconify ### ############################################################################## ############################################################################## * installing to library 'F:/biocbuild/bbs-3.15-bioc/R/library' * installing *source* package 'Sconify' ... ** using staged installation ** R ** data *** moving datasets to lazyload DB ** inst ** byte-compile and prepare package for lazy loading Note: wrong number of arguments to '/' Note: wrong number of arguments to 'asinh' ** help *** installing help indices ** building package indices ** installing vignettes ** testing if installed package can be loaded from temporary location ** testing if installed package can be loaded from final location ** testing if installed package keeps a record of temporary installation path * DONE (Sconify)
Sconify.Rcheck/tests/testthat.Rout
R version 4.2.1 (2022-06-23 ucrt) -- "Funny-Looking Kid"
Copyright (C) 2022 The R Foundation for Statistical Computing
Platform: x86_64-w64-mingw32/x64 (64-bit)
R is free software and comes with ABSOLUTELY NO WARRANTY.
You are welcome to redistribute it under certain conditions.
Type 'license()' or 'licence()' for distribution details.
R is a collaborative project with many contributors.
Type 'contributors()' for more information and
'citation()' on how to cite R or R packages in publications.
Type 'demo()' for some demos, 'help()' for on-line help, or
'help.start()' for an HTML browser interface to help.
Type 'q()' to quit R.
> library(testthat)
> library(Sconify)
>
> test_check("Sconify")
Read the 100 x 27 data matrix successfully!
OpenMP is working. 1 threads.
Using no_dims = 2, perplexity = 30.000000, and theta = 0.500000
Computing input similarities...
Building tree...
Done in 0.01 seconds (sparsity = 0.964400)!
Learning embedding...
Iteration 50: error is 50.268535 (50 iterations in 0.01 seconds)
Iteration 100: error is 51.310134 (50 iterations in 0.01 seconds)
Iteration 150: error is 52.367583 (50 iterations in 0.01 seconds)
Iteration 200: error is 53.079138 (50 iterations in 0.01 seconds)
Iteration 250: error is 55.513944 (50 iterations in 0.01 seconds)
Iteration 300: error is 1.602199 (50 iterations in 0.01 seconds)
Iteration 350: error is 1.145958 (50 iterations in 0.01 seconds)
Iteration 400: error is 0.578852 (50 iterations in 0.01 seconds)
Iteration 450: error is 0.353481 (50 iterations in 0.01 seconds)
Iteration 500: error is 0.280943 (50 iterations in 0.01 seconds)
Iteration 550: error is 0.255359 (50 iterations in 0.01 seconds)
Iteration 600: error is 0.213737 (50 iterations in 0.01 seconds)
Iteration 650: error is 0.193008 (50 iterations in 0.01 seconds)
Iteration 700: error is 0.190138 (50 iterations in 0.01 seconds)
Iteration 750: error is 0.188657 (50 iterations in 0.01 seconds)
Iteration 800: error is 0.191512 (50 iterations in 0.01 seconds)
Iteration 850: error is 0.190666 (50 iterations in 0.01 seconds)
Iteration 900: error is 0.188152 (50 iterations in 0.01 seconds)
Iteration 950: error is 0.189009 (50 iterations in 0.01 seconds)
Iteration 1000: error is 0.189389 (50 iterations in 0.01 seconds)
Fitting performed in 0.16 seconds.
Read the 1000 x 27 data matrix successfully!
OpenMP is working. 1 threads.
Using no_dims = 2, perplexity = 30.000000, and theta = 0.500000
Computing input similarities...
Building tree...
Done in 0.17 seconds (sparsity = 0.129120)!
Learning embedding...
Iteration 50: error is 63.534967 (50 iterations in 0.20 seconds)
Iteration 100: error is 60.673536 (50 iterations in 0.14 seconds)
Iteration 150: error is 60.334121 (50 iterations in 0.15 seconds)
Iteration 200: error is 60.205321 (50 iterations in 0.18 seconds)
Iteration 250: error is 60.152703 (50 iterations in 0.23 seconds)
Iteration 300: error is 1.355766 (50 iterations in 0.17 seconds)
Iteration 350: error is 1.245327 (50 iterations in 0.15 seconds)
Iteration 400: error is 1.212342 (50 iterations in 0.14 seconds)
Iteration 450: error is 1.200359 (50 iterations in 0.10 seconds)
Iteration 500: error is 1.194659 (50 iterations in 0.12 seconds)
Iteration 550: error is 1.189921 (50 iterations in 0.10 seconds)
Iteration 600: error is 1.186426 (50 iterations in 0.13 seconds)
Iteration 650: error is 1.182502 (50 iterations in 0.12 seconds)
Iteration 700: error is 1.179904 (50 iterations in 0.10 seconds)
Iteration 750: error is 1.178370 (50 iterations in 0.10 seconds)
Iteration 800: error is 1.175770 (50 iterations in 0.11 seconds)
Iteration 850: error is 1.173551 (50 iterations in 0.10 seconds)
Iteration 900: error is 1.172018 (50 iterations in 0.11 seconds)
Iteration 950: error is 1.170686 (50 iterations in 0.14 seconds)
Iteration 1000: error is 1.168984 (50 iterations in 0.16 seconds)
Fitting performed in 2.75 seconds.
[ FAIL 0 | WARN 3 | SKIP 0 | PASS 72 ]
[ FAIL 0 | WARN 3 | SKIP 0 | PASS 72 ]
>
> proc.time()
user system elapsed
21.67 0.76 22.42
Sconify.Rcheck/Sconify-Ex.timings
| name | user | system | elapsed | |
| FcsToTibble | 0.17 | 0.01 | 0.26 | |
| Fnn | 0.57 | 0.64 | 1.20 | |
| GetKnnDe | 0.08 | 0.00 | 0.08 | |
| GetMarkerNames | 0.11 | 0.02 | 0.12 | |
| ImputeTesting | 4.87 | 0.08 | 4.96 | |
| MakeHist | 0.36 | 0.01 | 0.37 | |
| MakeKnnList | 0.55 | 0.03 | 0.58 | |
| MeaningOfLife | 0 | 0 | 0 | |
| ParseMarkers | 0.30 | 0.06 | 0.64 | |
| PostProcessing | 0.40 | 0.02 | 0.42 | |
| ProcessMultipleFiles | 0.21 | 0.02 | 0.27 | |
| QuantNormalizeElements | 0.37 | 0.03 | 0.40 | |
| SconeValues | 16.81 | 0.22 | 17.03 | |
| SplitFile | 0.10 | 0.00 | 0.09 | |
| StringToNumbers | 0 | 0 | 0 | |
| SubsampleAndTsne | 1.76 | 0.03 | 1.80 | |
| TsneVis | 0.14 | 0.02 | 0.16 | |