| Back to Multiple platform build/check report for BioC 3.15 |
|
This page was generated on 2022-10-19 13:22:19 -0400 (Wed, 19 Oct 2022).
| Hostname | OS | Arch (*) | R version | Installed pkgs |
|---|---|---|---|---|
| nebbiolo1 | Linux (Ubuntu 20.04.5 LTS) | x86_64 | 4.2.1 (2022-06-23) -- "Funny-Looking Kid" | 4386 |
| palomino3 | Windows Server 2022 Datacenter | x64 | 4.2.1 (2022-06-23 ucrt) -- "Funny-Looking Kid" | 4138 |
| merida1 | macOS 10.14.6 Mojave | x86_64 | 4.2.1 (2022-06-23) -- "Funny-Looking Kid" | 4205 |
| Click on any hostname to see more info about the system (e.g. compilers) (*) as reported by 'uname -p', except on Windows and Mac OS X | ||||
|
To the developers/maintainers of the SMITE package: - Please allow up to 24 hours (and sometimes 48 hours) for your latest push to git@git.bioconductor.org:packages/SMITE.git to reflect on this report. See How and When does the builder pull? When will my changes propagate? for more information. - Make sure to use the following settings in order to reproduce any error or warning you see on this page. |
| Package 1871/2140 | Hostname | OS / Arch | INSTALL | BUILD | CHECK | BUILD BIN | ||||||||
| SMITE 1.24.0 (landing page) Neil Ari Wijetunga
| nebbiolo1 | Linux (Ubuntu 20.04.5 LTS) / x86_64 | OK | OK | OK | |||||||||
| palomino3 | Windows Server 2022 Datacenter / x64 | OK | OK | OK | OK | |||||||||
| merida1 | macOS 10.14.6 Mojave / x86_64 | OK | OK | OK | OK | |||||||||
| Package: SMITE |
| Version: 1.24.0 |
| Command: F:\biocbuild\bbs-3.15-bioc\R\bin\R.exe CMD check --no-multiarch --install=check:SMITE.install-out.txt --library=F:\biocbuild\bbs-3.15-bioc\R\library --no-vignettes --timings SMITE_1.24.0.tar.gz |
| StartedAt: 2022-10-19 04:19:21 -0400 (Wed, 19 Oct 2022) |
| EndedAt: 2022-10-19 04:24:35 -0400 (Wed, 19 Oct 2022) |
| EllapsedTime: 313.8 seconds |
| RetCode: 0 |
| Status: OK |
| CheckDir: SMITE.Rcheck |
| Warnings: 0 |
##############################################################################
##############################################################################
###
### Running command:
###
### F:\biocbuild\bbs-3.15-bioc\R\bin\R.exe CMD check --no-multiarch --install=check:SMITE.install-out.txt --library=F:\biocbuild\bbs-3.15-bioc\R\library --no-vignettes --timings SMITE_1.24.0.tar.gz
###
##############################################################################
##############################################################################
* using log directory 'F:/biocbuild/bbs-3.15-bioc/meat/SMITE.Rcheck'
* using R version 4.2.1 (2022-06-23 ucrt)
* using platform: x86_64-w64-mingw32 (64-bit)
* using session charset: UTF-8
* using option '--no-vignettes'
* checking for file 'SMITE/DESCRIPTION' ... OK
* checking extension type ... Package
* this is package 'SMITE' version '1.24.0'
* checking package namespace information ... OK
* checking package dependencies ... OK
* checking if this is a source package ... OK
* checking if there is a namespace ... OK
* checking for hidden files and directories ... OK
* checking for portable file names ... OK
* checking whether package 'SMITE' can be installed ... OK
* checking installed package size ... OK
* checking package directory ... OK
* checking 'build' directory ... OK
* checking DESCRIPTION meta-information ... OK
* checking top-level files ... OK
* checking for left-over files ... OK
* checking index information ... OK
* checking package subdirectories ... OK
* checking R files for non-ASCII characters ... OK
* checking R files for syntax errors ... OK
* checking whether the package can be loaded ... OK
* checking whether the package can be loaded with stated dependencies ... OK
* checking whether the package can be unloaded cleanly ... OK
* checking whether the namespace can be loaded with stated dependencies ... OK
* checking whether the namespace can be unloaded cleanly ... OK
* checking dependencies in R code ... OK
* checking S3 generic/method consistency ... OK
* checking replacement functions ... OK
* checking foreign function calls ... OK
* checking R code for possible problems ... OK
* checking Rd files ... OK
* checking Rd metadata ... OK
* checking Rd cross-references ... OK
* checking for missing documentation entries ... OK
* checking for code/documentation mismatches ... OK
* checking Rd \usage sections ... OK
* checking Rd contents ... OK
* checking for unstated dependencies in examples ... OK
* checking contents of 'data' directory ... OK
* checking data for non-ASCII characters ... OK
* checking data for ASCII and uncompressed saves ... OK
* checking sizes of PDF files under 'inst/doc' ... OK
* checking files in 'vignettes' ... OK
* checking examples ... OK
Examples with CPU (user + system) or elapsed time > 5s
user system elapsed
convertGeneIds 3.53 0.28 9.47
* checking for unstated dependencies in vignettes ... OK
* checking package vignettes in 'inst/doc' ... OK
* checking running R code from vignettes ... SKIPPED
* checking re-building of vignette outputs ... SKIPPED
* checking PDF version of manual ... OK
* DONE
Status: OK
SMITE.Rcheck/00install.out
############################################################################## ############################################################################## ### ### Running command: ### ### F:\biocbuild\bbs-3.15-bioc\R\bin\R.exe CMD INSTALL SMITE ### ############################################################################## ############################################################################## * installing to library 'F:/biocbuild/bbs-3.15-bioc/R/library' * installing *source* package 'SMITE' ... ** using staged installation ** R ** data ** inst ** byte-compile and prepare package for lazy loading ** help *** installing help indices ** building package indices ** installing vignettes ** testing if installed package can be loaded from temporary location ** testing if installed package can be loaded from final location ** testing if installed package keeps a record of temporary installation path * DONE (SMITE)
SMITE.Rcheck/SMITE-Ex.timings
| name | user | system | elapsed | |
| Reactome.Symbol.Igraph | 0.11 | 0.00 | 0.11 | |
| SMITE-package | 0.36 | 0.04 | 0.41 | |
| addShadowText | 0 | 0 | 0 | |
| annotateExpression | 0.21 | 0.00 | 0.20 | |
| annotateModification | 0 | 0 | 0 | |
| convertGeneIds | 3.53 | 0.28 | 9.47 | |
| curated_expression | 0.06 | 0.00 | 0.07 | |
| extractExpression | 0.25 | 0.00 | 0.25 | |
| extractGOseq | 0.09 | 0.00 | 0.09 | |
| extractModification | 1.19 | 0.03 | 1.22 | |
| extractModules | 0.10 | 0.00 | 0.09 | |
| extractScores | 0.06 | 0.02 | 0.08 | |
| genes_for_conversiontest | 1.47 | 0.00 | 1.47 | |
| hg19_gene_bed | 0.09 | 0.00 | 0.09 | |
| highScores | 0.06 | 0.00 | 0.06 | |
| histone_h3k4me1 | 0.05 | 0.01 | 0.06 | |
| makePvalueAnnotation | 0.71 | 0.00 | 0.72 | |
| makePvalueObject | 0.05 | 0.00 | 0.05 | |
| methylationdata | 0.03 | 0.02 | 0.05 | |
| normalizePval | 0.08 | 0.00 | 0.07 | |
| plotCompareScores | 0.41 | 0.00 | 0.43 | |
| plotDensityPval | 0.09 | 0.02 | 0.11 | |
| plotModule | 0.11 | 0.00 | 0.10 | |
| removeModification | 0.05 | 0.00 | 0.05 | |
| runBioNet | 0.07 | 0.00 | 0.08 | |
| runGOseq | 0.10 | 0.00 | 0.09 | |
| runSpinglass | 0.51 | 0.00 | 0.52 | |
| scorePval | 0.08 | 0.00 | 0.08 | |
| stoufferTest | 0 | 0 | 0 | |
| test_annotation_score_data | 0.19 | 0.00 | 0.20 | |