| Back to Multiple platform build/check report for BioC 3.15 |
|
This page was generated on 2022-10-19 13:22:14 -0400 (Wed, 19 Oct 2022).
| Hostname | OS | Arch (*) | R version | Installed pkgs |
|---|---|---|---|---|
| nebbiolo1 | Linux (Ubuntu 20.04.5 LTS) | x86_64 | 4.2.1 (2022-06-23) -- "Funny-Looking Kid" | 4386 |
| palomino3 | Windows Server 2022 Datacenter | x64 | 4.2.1 (2022-06-23 ucrt) -- "Funny-Looking Kid" | 4138 |
| merida1 | macOS 10.14.6 Mojave | x86_64 | 4.2.1 (2022-06-23) -- "Funny-Looking Kid" | 4205 |
| Click on any hostname to see more info about the system (e.g. compilers) (*) as reported by 'uname -p', except on Windows and Mac OS X | ||||
|
To the developers/maintainers of the SCATE package: - Please allow up to 24 hours (and sometimes 48 hours) for your latest push to git@git.bioconductor.org:packages/SCATE.git to reflect on this report. See How and When does the builder pull? When will my changes propagate? for more information. - Make sure to use the following settings in order to reproduce any error or warning you see on this page. |
| Package 1756/2140 | Hostname | OS / Arch | INSTALL | BUILD | CHECK | BUILD BIN | ||||||||
| SCATE 1.6.0 (landing page) Wenpin Hou
| nebbiolo1 | Linux (Ubuntu 20.04.5 LTS) / x86_64 | OK | OK | OK | |||||||||
| palomino3 | Windows Server 2022 Datacenter / x64 | OK | OK | OK | OK | |||||||||
| merida1 | macOS 10.14.6 Mojave / x86_64 | OK | OK | OK | OK | |||||||||
| Package: SCATE |
| Version: 1.6.0 |
| Command: F:\biocbuild\bbs-3.15-bioc\R\bin\R.exe CMD check --no-multiarch --install=check:SCATE.install-out.txt --library=F:\biocbuild\bbs-3.15-bioc\R\library --no-vignettes --timings SCATE_1.6.0.tar.gz |
| StartedAt: 2022-10-19 03:51:38 -0400 (Wed, 19 Oct 2022) |
| EndedAt: 2022-10-19 04:02:26 -0400 (Wed, 19 Oct 2022) |
| EllapsedTime: 648.0 seconds |
| RetCode: 0 |
| Status: OK |
| CheckDir: SCATE.Rcheck |
| Warnings: 0 |
##############################################################################
##############################################################################
###
### Running command:
###
### F:\biocbuild\bbs-3.15-bioc\R\bin\R.exe CMD check --no-multiarch --install=check:SCATE.install-out.txt --library=F:\biocbuild\bbs-3.15-bioc\R\library --no-vignettes --timings SCATE_1.6.0.tar.gz
###
##############################################################################
##############################################################################
* using log directory 'F:/biocbuild/bbs-3.15-bioc/meat/SCATE.Rcheck'
* using R version 4.2.1 (2022-06-23 ucrt)
* using platform: x86_64-w64-mingw32 (64-bit)
* using session charset: UTF-8
* using option '--no-vignettes'
* checking for file 'SCATE/DESCRIPTION' ... OK
* this is package 'SCATE' version '1.6.0'
* package encoding: UTF-8
* checking package namespace information ... OK
* checking package dependencies ... NOTE
Depends: includes the non-default packages:
'parallel', 'preprocessCore', 'splines', 'splines2', 'xgboost',
'SCATEData', 'Rtsne', 'mclust'
Adding so many packages to the search path is excessive and importing
selectively is preferable.
* checking if this is a source package ... OK
* checking if there is a namespace ... OK
* checking for hidden files and directories ... OK
* checking for portable file names ... OK
* checking whether package 'SCATE' can be installed ... OK
* checking installed package size ... OK
* checking package directory ... OK
* checking 'build' directory ... OK
* checking DESCRIPTION meta-information ... OK
* checking top-level files ... OK
* checking for left-over files ... OK
* checking index information ... OK
* checking package subdirectories ... OK
* checking R files for non-ASCII characters ... OK
* checking R files for syntax errors ... OK
* checking whether the package can be loaded ... OK
* checking whether the package can be loaded with stated dependencies ... OK
* checking whether the package can be unloaded cleanly ... OK
* checking whether the namespace can be loaded with stated dependencies ... OK
* checking whether the namespace can be unloaded cleanly ... OK
* checking dependencies in R code ... NOTE
Package in Depends field not imported from: 'SCATEData'
These packages need to be imported from (in the NAMESPACE file)
for when this namespace is loaded but not attached.
* checking S3 generic/method consistency ... OK
* checking replacement functions ... OK
* checking foreign function calls ... OK
* checking R code for possible problems ... NOTE
SCATE : SCATEsingle: no visible global function definition for
'IRanges'
cellcluster : <anonymous>: no visible global function definition for
'IRanges'
extractfeature: no visible global function definition for 'IRanges'
makedatabase: no visible global function definition for 'IRanges'
makedatabase: no visible global function definition for 'seqlevels'
peakcall: no visible global function definition for 'IRanges'
Undefined global functions or variables:
IRanges seqlevels
* checking Rd files ... OK
* checking Rd metadata ... OK
* checking Rd cross-references ... OK
* checking for missing documentation entries ... OK
* checking for code/documentation mismatches ... OK
* checking Rd \usage sections ... OK
* checking Rd contents ... OK
* checking for unstated dependencies in examples ... OK
* checking files in 'vignettes' ... OK
* checking examples ... OK
Examples with CPU (user + system) or elapsed time > 5s
user system elapsed
SCATEpipeline 138.49 3.27 144.45
SCATE 133.11 3.62 142.91
peakcall 114.27 2.90 100.83
cellcluster 17.07 1.17 18.27
* checking for unstated dependencies in vignettes ... OK
* checking package vignettes in 'inst/doc' ... OK
* checking running R code from vignettes ... SKIPPED
* checking re-building of vignette outputs ... SKIPPED
* checking PDF version of manual ... OK
* DONE
Status: 3 NOTEs
See
'F:/biocbuild/bbs-3.15-bioc/meat/SCATE.Rcheck/00check.log'
for details.
SCATE.Rcheck/00install.out
############################################################################## ############################################################################## ### ### Running command: ### ### F:\biocbuild\bbs-3.15-bioc\R\bin\R.exe CMD INSTALL SCATE ### ############################################################################## ############################################################################## * installing to library 'F:/biocbuild/bbs-3.15-bioc/R/library' * installing *source* package 'SCATE' ... ** using staged installation ** R ** inst ** byte-compile and prepare package for lazy loading snapshotDate(): 2022-04-26 ** help *** installing help indices ** building package indices ** installing vignettes ** testing if installed package can be loaded from temporary location snapshotDate(): 2022-04-26 ** testing if installed package can be loaded from final location snapshotDate(): 2022-04-26 ** testing if installed package keeps a record of temporary installation path * DONE (SCATE)
SCATE.Rcheck/SCATE-Ex.timings
| name | user | system | elapsed | |
| SCATE | 133.11 | 3.62 | 142.91 | |
| SCATEpipeline | 138.49 | 3.27 | 144.45 | |
| cellcluster | 17.07 | 1.17 | 18.27 | |
| extractfeature | 0.03 | 0.00 | 0.03 | |
| peakcall | 114.27 | 2.90 | 100.83 | |
| satacprocess | 0.04 | 0.02 | 0.06 | |