| Back to Multiple platform build/check report for BioC 3.15 |
|
This page was generated on 2022-03-18 11:08:34 -0400 (Fri, 18 Mar 2022).
| Hostname | OS | Arch (*) | R version | Installed pkgs |
|---|---|---|---|---|
| nebbiolo1 | Linux (Ubuntu 20.04.4 LTS) | x86_64 | R Under development (unstable) (2022-02-17 r81757) -- "Unsuffered Consequences" | 4334 |
| riesling1 | Windows Server 2019 Standard | x64 | R Under development (unstable) (2021-11-21 r81221) -- "Unsuffered Consequences" | 4097 |
| palomino3 | Windows Server 2022 Datacenter | x64 | R Under development (unstable) (2022-02-17 r81757 ucrt) -- "Unsuffered Consequences" | 4083 |
| merida1 | macOS 10.14.6 Mojave | x86_64 | R Under development (unstable) (2022-03-02 r81842) -- "Unsuffered Consequences" | 4134 |
| Click on any hostname to see more info about the system (e.g. compilers) (*) as reported by 'uname -p', except on Windows and Mac OS X | ||||
|
To the developers/maintainers of the Rtpca package: - Please allow up to 24 hours (and sometimes 48 hours) for your latest push to git@git.bioconductor.org:packages/Rtpca.git to reflect on this report. See How and When does the builder pull? When will my changes propagate? here for more information. - Make sure to use the following settings in order to reproduce any error or warning you see on this page. |
| Package 1682/2090 | Hostname | OS / Arch | INSTALL | BUILD | CHECK | BUILD BIN | ||||||||
| Rtpca 1.5.0 (landing page) Nils Kurzawa
| nebbiolo1 | Linux (Ubuntu 20.04.4 LTS) / x86_64 | OK | OK | OK | |||||||||
| riesling1 | Windows Server 2019 Standard / x64 | OK | OK | OK | OK | |||||||||
| palomino3 | Windows Server 2022 Datacenter / x64 | OK | OK | OK | OK | |||||||||
| merida1 | macOS 10.14.6 Mojave / x86_64 | OK | OK | OK | OK | |||||||||
| Package: Rtpca |
| Version: 1.5.0 |
| Command: D:\biocbuild\bbs-3.15-bioc\R\bin\R.exe CMD check --no-multiarch --install=check:Rtpca.install-out.txt --library=D:\biocbuild\bbs-3.15-bioc\R\library --no-vignettes --timings Rtpca_1.5.0.tar.gz |
| StartedAt: 2022-03-17 20:09:13 -0400 (Thu, 17 Mar 2022) |
| EndedAt: 2022-03-17 20:10:20 -0400 (Thu, 17 Mar 2022) |
| EllapsedTime: 67.7 seconds |
| RetCode: 0 |
| Status: OK |
| CheckDir: Rtpca.Rcheck |
| Warnings: 0 |
############################################################################## ############################################################################## ### ### Running command: ### ### D:\biocbuild\bbs-3.15-bioc\R\bin\R.exe CMD check --no-multiarch --install=check:Rtpca.install-out.txt --library=D:\biocbuild\bbs-3.15-bioc\R\library --no-vignettes --timings Rtpca_1.5.0.tar.gz ### ############################################################################## ############################################################################## * using log directory 'D:/biocbuild/bbs-3.15-bioc/meat/Rtpca.Rcheck' * using R Under development (unstable) (2021-11-21 r81221) * using platform: x86_64-w64-mingw32 (64-bit) * using session charset: ISO8859-1 * using option '--no-vignettes' * checking for file 'Rtpca/DESCRIPTION' ... OK * this is package 'Rtpca' version '1.5.0' * package encoding: UTF-8 * checking package namespace information ... OK * checking package dependencies ... OK * checking if this is a source package ... OK * checking if there is a namespace ... OK * checking for hidden files and directories ... OK * checking for portable file names ... OK * checking whether package 'Rtpca' can be installed ... OK * checking installed package size ... OK * checking package directory ... OK * checking 'build' directory ... OK * checking DESCRIPTION meta-information ... OK * checking top-level files ... OK * checking for left-over files ... OK * checking index information ... OK * checking package subdirectories ... OK * checking R files for non-ASCII characters ... OK * checking R files for syntax errors ... OK * checking whether the package can be loaded ... OK * checking whether the package can be loaded with stated dependencies ... OK * checking whether the package can be unloaded cleanly ... OK * checking whether the namespace can be loaded with stated dependencies ... OK * checking whether the namespace can be unloaded cleanly ... OK * checking dependencies in R code ... NOTE Namespace in Imports field not imported from: 'tibble' All declared Imports should be used. * checking S3 generic/method consistency ... OK * checking replacement functions ... OK * checking foreign function calls ... OK * checking R code for possible problems ... NOTE .getRandomProteinPairs: no visible binding for global variable 'pair' Undefined global functions or variables: pair * checking Rd files ... OK * checking Rd metadata ... OK * checking Rd cross-references ... OK * checking for missing documentation entries ... OK * checking for code/documentation mismatches ... OK * checking Rd \usage sections ... OK * checking Rd contents ... OK * checking for unstated dependencies in examples ... OK * checking contents of 'data' directory ... OK * checking data for non-ASCII characters ... OK * checking data for ASCII and uncompressed saves ... OK * checking files in 'vignettes' ... OK * checking examples ... OK * checking for unstated dependencies in 'tests' ... OK * checking tests ... Running 'testthat.R' OK * checking for unstated dependencies in vignettes ... OK * checking package vignettes in 'inst/doc' ... OK * checking running R code from vignettes ... SKIPPED * checking re-building of vignette outputs ... SKIPPED * checking PDF version of manual ... OK * DONE Status: 2 NOTEs See 'D:/biocbuild/bbs-3.15-bioc/meat/Rtpca.Rcheck/00check.log' for details.
Rtpca.Rcheck/00install.out
##############################################################################
##############################################################################
###
### Running command:
###
### D:\biocbuild\bbs-3.15-bioc\R\bin\R.exe CMD INSTALL Rtpca
###
##############################################################################
##############################################################################
* installing to library 'D:/biocbuild/bbs-3.15-bioc/R/library'
* installing *source* package 'Rtpca' ...
** using staged installation
** R
** data
** inst
** byte-compile and prepare package for lazy loading
** help
*** installing help indices
converting help for package 'Rtpca'
finding HTML links ... done
CommonFeatures-tpcaResult-method html
ComplexAnnotation-tpcaResult-method html
ComplexBackgroundDistributionList-tpcaResult-method
html
ComplexRocTable-tpcaResult-method html
ContrastCondName-tpcaResult-method html
ContrastDistMat-tpcaResult-method html
ContrastList-tpcaResult-method html
CtrlCondName-tpcaResult-method html
DistMat-tpcaResult-method html
DistMethod-tpcaResult-method html
ObjList-tpcaResult-method html
PPiAnnotation-tpcaResult-method html
PPiRocTable-tpcaResult-method html
PPiRocTableAnno-tpcaResult-method html
SetCommonFeatures-tpcaResult-method html
SetComplexAnnotation-tpcaResult-method
html
SetComplexBackgroundDistributionList-tpcaResult-method
html
SetComplexRocTable-tpcaResult-method html
SetContrastCondName-tpcaResult-method html
SetContrastDistMat-tpcaResult-method html
SetCtrlCondName-tpcaResult-method html
SetDiffTpcaResultTable-tpcaResult-method
html
SetDistMat-tpcaResult-method html
SetDistMethod-tpcaResult-method html
SetPPiRocTable-tpcaResult-method html
SetPPiRocTableAnno-tpcaResult-method html
SetSummaryMethod-tpcaResult-method html
SetTpcaResultTable-tpcaResult-method html
SummaryMethod-tpcaResult-method html
createDistMat html
diffTpcaResultTable-tpcaResult-method html
ori_et_al_complex_ppis html
ori_et_al_complexes_df html
plotComplexRoc html
plotDiffTpcaVolcano html
plotPPiProfiles html
plotPPiRoc html
plotTpcaVolcano html
runDiffTPCA html
runTPCA html
string_ppi_df html
tpcaResult-class html
tpcaResultTable-tpcaResult-method html
** building package indices
** installing vignettes
** testing if installed package can be loaded from temporary location
** testing if installed package can be loaded from final location
** testing if installed package keeps a record of temporary installation path
* DONE (Rtpca)
Making 'packages.html' ...Warning in packageDescription(i, lib.loc = lib, fields = "Title", encoding = "UTF-8") :
DESCRIPTION file of package 'vissE' is missing or broken
done
Rtpca.Rcheck/tests/testthat.Rout
R Under development (unstable) (2021-11-21 r81221) -- "Unsuffered Consequences"
Copyright (C) 2021 The R Foundation for Statistical Computing
Platform: x86_64-w64-mingw32/x64 (64-bit)
R is free software and comes with ABSOLUTELY NO WARRANTY.
You are welcome to redistribute it under certain conditions.
Type 'license()' or 'licence()' for distribution details.
R is a collaborative project with many contributors.
Type 'contributors()' for more information and
'citation()' on how to cite R or R packages in publications.
Type 'demo()' for some demos, 'help()' for on-line help, or
'help.start()' for an HTML browser interface to help.
Type 'q()' to quit R.
> library(testthat)
> library(Rtpca)
Loading required package: dplyr
Attaching package: 'dplyr'
The following object is masked from 'package:testthat':
matches
The following objects are masked from 'package:stats':
filter, lag
The following objects are masked from 'package:base':
intersect, setdiff, setequal, union
Loading required package: tidyr
Attaching package: 'tidyr'
The following object is masked from 'package:testthat':
matches
>
> test_check("Rtpca")
[ FAIL 0 | WARN 0 | SKIP 0 | PASS 38 ]
>
> proc.time()
user system elapsed
3.64 0.25 3.87
Rtpca.Rcheck/Rtpca-Ex.timings
| name | user | system | elapsed | |
| CommonFeatures-tpcaResult-method | 0.49 | 0.03 | 0.51 | |
| ComplexAnnotation-tpcaResult-method | 0.01 | 0.00 | 0.02 | |
| ComplexBackgroundDistributionList-tpcaResult-method | 0 | 0 | 0 | |
| ComplexRocTable-tpcaResult-method | 0 | 0 | 0 | |
| ContrastCondName-tpcaResult-method | 0 | 0 | 0 | |
| ContrastDistMat-tpcaResult-method | 0 | 0 | 0 | |
| ContrastList-tpcaResult-method | 0 | 0 | 0 | |
| CtrlCondName-tpcaResult-method | 0 | 0 | 0 | |
| DistMat-tpcaResult-method | 0 | 0 | 0 | |
| DistMethod-tpcaResult-method | 0 | 0 | 0 | |
| ObjList-tpcaResult-method | 0.02 | 0.00 | 0.01 | |
| PPiAnnotation-tpcaResult-method | 0 | 0 | 0 | |
| PPiRocTable-tpcaResult-method | 0 | 0 | 0 | |
| PPiRocTableAnno-tpcaResult-method | 0 | 0 | 0 | |
| SetCommonFeatures-tpcaResult-method | 0 | 0 | 0 | |
| SetComplexAnnotation-tpcaResult-method | 0 | 0 | 0 | |
| SetComplexBackgroundDistributionList-tpcaResult-method | 0 | 0 | 0 | |
| SetComplexRocTable-tpcaResult-method | 0 | 0 | 0 | |
| SetContrastCondName-tpcaResult-method | 0.00 | 0.02 | 0.02 | |
| SetContrastDistMat-tpcaResult-method | 0 | 0 | 0 | |
| SetCtrlCondName-tpcaResult-method | 0 | 0 | 0 | |
| SetDiffTpcaResultTable-tpcaResult-method | 0 | 0 | 0 | |
| SetDistMat-tpcaResult-method | 0 | 0 | 0 | |
| SetDistMethod-tpcaResult-method | 0 | 0 | 0 | |
| SetPPiRocTable-tpcaResult-method | 0 | 0 | 0 | |
| SetPPiRocTableAnno-tpcaResult-method | 0 | 0 | 0 | |
| SetSummaryMethod-tpcaResult-method | 0 | 0 | 0 | |
| SetTpcaResultTable-tpcaResult-method | 0 | 0 | 0 | |
| SummaryMethod-tpcaResult-method | 0 | 0 | 0 | |
| createDistMat | 0.12 | 0.00 | 0.13 | |
| diffTpcaResultTable-tpcaResult-method | 0 | 0 | 0 | |
| ori_et_al_complex_ppis | 0.01 | 0.11 | 0.13 | |
| ori_et_al_complexes_df | 0.02 | 0.01 | 0.03 | |
| plotComplexRoc | 0.17 | 0.00 | 0.17 | |
| plotDiffTpcaVolcano | 0.25 | 0.00 | 0.25 | |
| plotPPiProfiles | 1.19 | 0.19 | 1.38 | |
| plotPPiRoc | 0.14 | 0.00 | 0.14 | |
| plotTpcaVolcano | 1.09 | 0.05 | 1.14 | |
| runDiffTPCA | 0.14 | 0.00 | 0.14 | |
| runTPCA | 0.23 | 0.00 | 0.24 | |
| string_ppi_df | 1.16 | 0.00 | 1.16 | |
| tpcaResult-class | 0 | 0 | 0 | |
| tpcaResultTable-tpcaResult-method | 0 | 0 | 0 | |