| Back to Multiple platform build/check report for BioC 3.15 |
|
This page was generated on 2022-03-18 11:12:34 -0400 (Fri, 18 Mar 2022).
| Hostname | OS | Arch (*) | R version | Installed pkgs |
|---|---|---|---|---|
| nebbiolo1 | Linux (Ubuntu 20.04.4 LTS) | x86_64 | R Under development (unstable) (2022-02-17 r81757) -- "Unsuffered Consequences" | 4334 |
| riesling1 | Windows Server 2019 Standard | x64 | R Under development (unstable) (2021-11-21 r81221) -- "Unsuffered Consequences" | 4097 |
| palomino3 | Windows Server 2022 Datacenter | x64 | R Under development (unstable) (2022-02-17 r81757 ucrt) -- "Unsuffered Consequences" | 4083 |
| merida1 | macOS 10.14.6 Mojave | x86_64 | R Under development (unstable) (2022-03-02 r81842) -- "Unsuffered Consequences" | 4134 |
| Click on any hostname to see more info about the system (e.g. compilers) (*) as reported by 'uname -p', except on Windows and Mac OS X | ||||
|
To the developers/maintainers of the Rnits package: - Please allow up to 24 hours (and sometimes 48 hours) for your latest push to git@git.bioconductor.org:packages/Rnits.git to reflect on this report. See How and When does the builder pull? When will my changes propagate? here for more information. - Make sure to use the following settings in order to reproduce any error or warning you see on this page. |
| Package 1647/2090 | Hostname | OS / Arch | INSTALL | BUILD | CHECK | BUILD BIN | ||||||||
| Rnits 1.29.0 (landing page) Dipen P. Sangurdekar
| nebbiolo1 | Linux (Ubuntu 20.04.4 LTS) / x86_64 | OK | OK | WARNINGS | |||||||||
| riesling1 | Windows Server 2019 Standard / x64 | OK | OK | WARNINGS | OK | |||||||||
| palomino3 | Windows Server 2022 Datacenter / x64 | OK | OK | WARNINGS | OK | |||||||||
| merida1 | macOS 10.14.6 Mojave / x86_64 | OK | OK | WARNINGS | OK | |||||||||
| Package: Rnits |
| Version: 1.29.0 |
| Command: rm -rf Rnits.buildbin-libdir && mkdir Rnits.buildbin-libdir && /Users/biocbuild/BBS/utils/build-universal.sh Rnits_1.29.0.tar.gz /Library/Frameworks/R.framework/Resources/bin/R Rnits.buildbin-libdir |
| StartedAt: 2022-03-18 09:28:32 -0400 (Fri, 18 Mar 2022) |
| EndedAt: 2022-03-18 09:28:53 -0400 (Fri, 18 Mar 2022) |
| EllapsedTime: 20.9 seconds |
| RetCode: 0 |
| Status: OK |
| PackageFile: Rnits_1.29.0.tgz |
| PackageFileSize: 916.1 KiB |
############################################################################## ############################################################################## ### ### Running command: ### ### rm -rf Rnits.buildbin-libdir && mkdir Rnits.buildbin-libdir && /Users/biocbuild/BBS/utils/build-universal.sh Rnits_1.29.0.tar.gz /Library/Frameworks/R.framework/Resources/bin/R Rnits.buildbin-libdir ### ############################################################################## ############################################################################## >>>>>>> >>>>>>> INSTALLATION WITH 'R CMD INSTALL --preclean --no-multiarch --library=Rnits.buildbin-libdir Rnits_1.29.0.tar.gz' >>>>>>> * installing *source* package ‘Rnits’ ... ** using staged installation ** R ** data *** moving datasets to lazyload DB ** inst ** byte-compile and prepare package for lazy loading ** help *** installing help indices ** building package indices ** installing vignettes ** testing if installed package can be loaded from temporary location ** testing if installed package can be loaded from final location ** testing if installed package keeps a record of temporary installation path * DONE (Rnits)