| Back to Multiple platform build/check report for BioC 3.15 |
|
This page was generated on 2022-03-18 11:08:29 -0400 (Fri, 18 Mar 2022).
| Hostname | OS | Arch (*) | R version | Installed pkgs |
|---|---|---|---|---|
| nebbiolo1 | Linux (Ubuntu 20.04.4 LTS) | x86_64 | R Under development (unstable) (2022-02-17 r81757) -- "Unsuffered Consequences" | 4334 |
| riesling1 | Windows Server 2019 Standard | x64 | R Under development (unstable) (2021-11-21 r81221) -- "Unsuffered Consequences" | 4097 |
| palomino3 | Windows Server 2022 Datacenter | x64 | R Under development (unstable) (2022-02-17 r81757 ucrt) -- "Unsuffered Consequences" | 4083 |
| merida1 | macOS 10.14.6 Mojave | x86_64 | R Under development (unstable) (2022-03-02 r81842) -- "Unsuffered Consequences" | 4134 |
| Click on any hostname to see more info about the system (e.g. compilers) (*) as reported by 'uname -p', except on Windows and Mac OS X | ||||
|
To the developers/maintainers of the RiboCrypt package: - Please allow up to 24 hours (and sometimes 48 hours) for your latest push to git@git.bioconductor.org:packages/RiboCrypt.git to reflect on this report. See How and When does the builder pull? When will my changes propagate? here for more information. - Make sure to use the following settings in order to reproduce any error or warning you see on this page. |
| Package 1611/2090 | Hostname | OS / Arch | INSTALL | BUILD | CHECK | BUILD BIN | ||||||||
| RiboCrypt 1.1.0 (landing page) Michal Swirski
| nebbiolo1 | Linux (Ubuntu 20.04.4 LTS) / x86_64 | OK | OK | OK | |||||||||
| riesling1 | Windows Server 2019 Standard / x64 | OK | OK | OK | OK | |||||||||
| palomino3 | Windows Server 2022 Datacenter / x64 | OK | OK | OK | OK | |||||||||
| merida1 | macOS 10.14.6 Mojave / x86_64 | OK | OK | OK | OK | |||||||||
| Package: RiboCrypt |
| Version: 1.1.0 |
| Command: D:\biocbuild\bbs-3.15-bioc\R\bin\R.exe CMD check --no-multiarch --install=check:RiboCrypt.install-out.txt --library=D:\biocbuild\bbs-3.15-bioc\R\library --no-vignettes --timings RiboCrypt_1.1.0.tar.gz |
| StartedAt: 2022-03-17 20:04:12 -0400 (Thu, 17 Mar 2022) |
| EndedAt: 2022-03-17 20:09:14 -0400 (Thu, 17 Mar 2022) |
| EllapsedTime: 302.5 seconds |
| RetCode: 0 |
| Status: OK |
| CheckDir: RiboCrypt.Rcheck |
| Warnings: 0 |
##############################################################################
##############################################################################
###
### Running command:
###
### D:\biocbuild\bbs-3.15-bioc\R\bin\R.exe CMD check --no-multiarch --install=check:RiboCrypt.install-out.txt --library=D:\biocbuild\bbs-3.15-bioc\R\library --no-vignettes --timings RiboCrypt_1.1.0.tar.gz
###
##############################################################################
##############################################################################
* using log directory 'D:/biocbuild/bbs-3.15-bioc/meat/RiboCrypt.Rcheck'
* using R Under development (unstable) (2021-11-21 r81221)
* using platform: x86_64-w64-mingw32 (64-bit)
* using session charset: ISO8859-1
* using option '--no-vignettes'
* checking for file 'RiboCrypt/DESCRIPTION' ... OK
* checking extension type ... Package
* this is package 'RiboCrypt' version '1.1.0'
* package encoding: UTF-8
* checking package namespace information ... OK
* checking package dependencies ... OK
* checking if this is a source package ... OK
* checking if there is a namespace ... OK
* checking for hidden files and directories ... OK
* checking for portable file names ... OK
* checking whether package 'RiboCrypt' can be installed ... OK
* checking installed package size ... OK
* checking package directory ... OK
* checking 'build' directory ... OK
* checking DESCRIPTION meta-information ... OK
* checking top-level files ... OK
* checking for left-over files ... OK
* checking index information ... OK
* checking package subdirectories ... OK
* checking R files for non-ASCII characters ... OK
* checking R files for syntax errors ... OK
* checking whether the package can be loaded ... OK
* checking whether the package can be loaded with stated dependencies ... OK
* checking whether the package can be unloaded cleanly ... OK
* checking whether the namespace can be loaded with stated dependencies ... OK
* checking whether the namespace can be unloaded cleanly ... OK
* checking dependencies in R code ... OK
* checking S3 generic/method consistency ... OK
* checking replacement functions ... OK
* checking foreign function calls ... OK
* checking R code for possible problems ... NOTE
createSinglePlot: no visible binding for global variable 'position'
createSinglePlot: no visible binding for global variable 'frame'
getIndexes: no visible global function definition for 'nrun'
getPlotAnimate: no visible binding for global variable 'position'
getPlotAnimate: no visible binding for global variable 'frame'
getRelativeFrames: no visible binding for global variable 'cum_width'
getRelativeFrames: no visible binding for global variable 'rel_frame'
getRiboProfile: no visible binding for global variable 'frame'
getStackProfile: no visible global function definition for '.'
getStackProfile: no visible binding for global variable 'position'
getStackProfile: no visible binding for global variable 'frame'
multiOmicsPlot_animate: no visible global function definition for
'wmsg'
multiOmicsPlot_animate: no visible global function definition for 'is'
multiOmicsPlot_list: no visible global function definition for 'wmsg'
multiOmicsPlot_list: no visible global function definition for 'is'
nt_bar: no visible binding for global variable 'y'
Undefined global functions or variables:
. cum_width frame is nrun position rel_frame wmsg y
Consider adding
importFrom("graphics", "frame")
importFrom("methods", "is")
to your NAMESPACE file (and ensure that your DESCRIPTION Imports field
contains 'methods').
* checking Rd files ... OK
* checking Rd metadata ... OK
* checking Rd cross-references ... OK
* checking for missing documentation entries ... OK
* checking for code/documentation mismatches ... OK
* checking Rd \usage sections ... OK
* checking Rd contents ... OK
* checking for unstated dependencies in examples ... OK
* checking files in 'vignettes' ... OK
* checking examples ... OK
Examples with CPU (user + system) or elapsed time > 5s
user system elapsed
multiOmicsPlot_ORFikExp 4.02 0.06 28.33
multiOmicsPlot_animate 2.75 0.19 26.67
multiOmicsPlot_list 2.50 0.07 27.53
* checking for unstated dependencies in vignettes ... OK
* checking package vignettes in 'inst/doc' ... OK
* checking running R code from vignettes ... SKIPPED
* checking re-building of vignette outputs ... SKIPPED
* checking PDF version of manual ... OK
* DONE
Status: 1 NOTE
See
'D:/biocbuild/bbs-3.15-bioc/meat/RiboCrypt.Rcheck/00check.log'
for details.
RiboCrypt.Rcheck/00install.out
##############################################################################
##############################################################################
###
### Running command:
###
### D:\biocbuild\bbs-3.15-bioc\R\bin\R.exe CMD INSTALL RiboCrypt
###
##############################################################################
##############################################################################
* installing to library 'D:/biocbuild/bbs-3.15-bioc/R/library'
* installing *source* package 'RiboCrypt' ...
** using staged installation
** R
** inst
** byte-compile and prepare package for lazy loading
** help
*** installing help indices
converting help for package 'RiboCrypt'
finding HTML links ... done
RiboCrypt.template.experiment html
antisense html
createSeqPanel html
getCoverageProfile html
getIndexes html
ggplotlyHover html
matchMultiplePatterns html
matchToGRanges html
multiOmicsPlot_ORFikExp html
multiOmicsPlot_animate html
multiOmicsPlot_list html
trimOverlaps html
** building package indices
** installing vignettes
** testing if installed package can be loaded from temporary location
** testing if installed package can be loaded from final location
** testing if installed package keeps a record of temporary installation path
* DONE (RiboCrypt)
Making 'packages.html' ...Warning in packageDescription(i, lib.loc = lib, fields = "Title", encoding = "UTF-8") :
DESCRIPTION file of package 'GA4GHclient' is missing or broken
Warning in packageDescription(i, lib.loc = lib, fields = "Title", encoding = "UTF-8") :
DESCRIPTION file of package 'scoreInvHap' is missing or broken
done
RiboCrypt.Rcheck/RiboCrypt-Ex.timings
| name | user | system | elapsed | |
| RiboCrypt.template.experiment | 0.34 | 0.02 | 0.36 | |
| multiOmicsPlot_ORFikExp | 4.02 | 0.06 | 28.33 | |
| multiOmicsPlot_animate | 2.75 | 0.19 | 26.67 | |
| multiOmicsPlot_list | 2.50 | 0.07 | 27.53 | |