| Back to Multiple platform build/check report for BioC 3.15 |
|
This page was generated on 2022-10-19 13:22:10 -0400 (Wed, 19 Oct 2022).
| Hostname | OS | Arch (*) | R version | Installed pkgs |
|---|---|---|---|---|
| nebbiolo1 | Linux (Ubuntu 20.04.5 LTS) | x86_64 | 4.2.1 (2022-06-23) -- "Funny-Looking Kid" | 4386 |
| palomino3 | Windows Server 2022 Datacenter | x64 | 4.2.1 (2022-06-23 ucrt) -- "Funny-Looking Kid" | 4138 |
| merida1 | macOS 10.14.6 Mojave | x86_64 | 4.2.1 (2022-06-23) -- "Funny-Looking Kid" | 4205 |
| Click on any hostname to see more info about the system (e.g. compilers) (*) as reported by 'uname -p', except on Windows and Mac OS X | ||||
|
To the developers/maintainers of the RJMCMCNucleosomes package: - Please allow up to 24 hours (and sometimes 48 hours) for your latest push to git@git.bioconductor.org:packages/RJMCMCNucleosomes.git to reflect on this report. See How and When does the builder pull? When will my changes propagate? for more information. - Make sure to use the following settings in order to reproduce any error or warning you see on this page. |
| Package 1661/2140 | Hostname | OS / Arch | INSTALL | BUILD | CHECK | BUILD BIN | ||||||||
| RJMCMCNucleosomes 1.20.0 (landing page) Astrid DeschĂȘnes
| nebbiolo1 | Linux (Ubuntu 20.04.5 LTS) / x86_64 | OK | OK | OK | |||||||||
| palomino3 | Windows Server 2022 Datacenter / x64 | OK | OK | OK | OK | |||||||||
| merida1 | macOS 10.14.6 Mojave / x86_64 | OK | OK | OK | OK | |||||||||
| Package: RJMCMCNucleosomes |
| Version: 1.20.0 |
| Command: F:\biocbuild\bbs-3.15-bioc\R\bin\R.exe CMD check --no-multiarch --install=check:RJMCMCNucleosomes.install-out.txt --library=F:\biocbuild\bbs-3.15-bioc\R\library --no-vignettes --timings RJMCMCNucleosomes_1.20.0.tar.gz |
| StartedAt: 2022-10-19 03:32:37 -0400 (Wed, 19 Oct 2022) |
| EndedAt: 2022-10-19 03:36:38 -0400 (Wed, 19 Oct 2022) |
| EllapsedTime: 241.2 seconds |
| RetCode: 0 |
| Status: OK |
| CheckDir: RJMCMCNucleosomes.Rcheck |
| Warnings: 0 |
############################################################################## ############################################################################## ### ### Running command: ### ### F:\biocbuild\bbs-3.15-bioc\R\bin\R.exe CMD check --no-multiarch --install=check:RJMCMCNucleosomes.install-out.txt --library=F:\biocbuild\bbs-3.15-bioc\R\library --no-vignettes --timings RJMCMCNucleosomes_1.20.0.tar.gz ### ############################################################################## ############################################################################## * using log directory 'F:/biocbuild/bbs-3.15-bioc/meat/RJMCMCNucleosomes.Rcheck' * using R version 4.2.1 (2022-06-23 ucrt) * using platform: x86_64-w64-mingw32 (64-bit) * using session charset: UTF-8 * using option '--no-vignettes' * checking for file 'RJMCMCNucleosomes/DESCRIPTION' ... OK * this is package 'RJMCMCNucleosomes' version '1.20.0' * package encoding: UTF-8 * checking package namespace information ... OK * checking package dependencies ... OK * checking if this is a source package ... OK * checking if there is a namespace ... OK * checking for hidden files and directories ... OK * checking for portable file names ... OK * checking whether package 'RJMCMCNucleosomes' can be installed ... OK * checking installed package size ... OK * checking package directory ... OK * checking 'build' directory ... OK * checking DESCRIPTION meta-information ... OK * checking top-level files ... OK * checking for left-over files ... OK * checking index information ... OK * checking package subdirectories ... OK * checking R files for non-ASCII characters ... OK * checking R files for syntax errors ... OK * checking whether the package can be loaded ... OK * checking whether the package can be loaded with stated dependencies ... OK * checking whether the package can be unloaded cleanly ... OK * checking whether the namespace can be loaded with stated dependencies ... OK * checking whether the namespace can be unloaded cleanly ... OK * checking dependencies in R code ... OK * checking S3 generic/method consistency ... OK * checking replacement functions ... OK * checking foreign function calls ... OK * checking R code for possible problems ... OK * checking Rd files ... OK * checking Rd metadata ... OK * checking Rd cross-references ... OK * checking for missing documentation entries ... OK * checking for code/documentation mismatches ... OK * checking Rd \usage sections ... OK * checking Rd contents ... OK * checking for unstated dependencies in examples ... OK * checking contents of 'data' directory ... OK * checking data for non-ASCII characters ... OK * checking data for ASCII and uncompressed saves ... OK * checking line endings in C/C++/Fortran sources/headers ... OK * checking line endings in Makefiles ... OK * checking compilation flags in Makevars ... OK * checking for GNU extensions in Makefiles ... OK * checking for portable use of $(BLAS_LIBS) and $(LAPACK_LIBS) ... OK * checking use of PKG_*FLAGS in Makefiles ... OK * checking compiled code ... NOTE Note: information on .o files for x64 is not available File 'F:/biocbuild/bbs-3.15-bioc/R/library/RJMCMCNucleosomes/libs/x64/RJMCMCNucleosomes.dll': Found 'abort', possibly from 'abort' (C), 'runtime' (Fortran) Found 'exit', possibly from 'exit' (C), 'stop' (Fortran) Compiled code should not call entry points which might terminate R nor write to stdout/stderr instead of to the console, nor use Fortran I/O nor system RNGs. The detected symbols are linked into the code but might come from libraries and not actually be called. See 'Writing portable packages' in the 'Writing R Extensions' manual. * checking files in 'vignettes' ... OK * checking examples ... OK * checking for unstated dependencies in 'tests' ... OK * checking tests ... Running 'runTests.R' OK * checking for unstated dependencies in vignettes ... OK * checking package vignettes in 'inst/doc' ... OK * checking running R code from vignettes ... SKIPPED * checking re-building of vignette outputs ... SKIPPED * checking PDF version of manual ... OK * DONE Status: 1 NOTE See 'F:/biocbuild/bbs-3.15-bioc/meat/RJMCMCNucleosomes.Rcheck/00check.log' for details.
RJMCMCNucleosomes.Rcheck/00install.out
############################################################################## ############################################################################## ### ### Running command: ### ### F:\biocbuild\bbs-3.15-bioc\R\bin\R.exe CMD INSTALL RJMCMCNucleosomes ### ############################################################################## ############################################################################## * installing to library 'F:/biocbuild/bbs-3.15-bioc/R/library' * installing *source* package 'RJMCMCNucleosomes' ... ** using staged installation ** libs g++ -std=gnu++11 -I"F:/biocbuild/bbs-3.15-bioc/R/include" -DNDEBUG -I/x64/include -I'F:/biocbuild/bbs-3.15-bioc/R/library/Rcpp/include' -I"C:/rtools42/x86_64-w64-mingw32.static.posix/include" -O2 -Wall -mfpmath=sse -msse2 -mstackrealign -c NucleoDirichlet.cpp -o NucleoDirichlet.o g++ -std=gnu++11 -I"F:/biocbuild/bbs-3.15-bioc/R/include" -DNDEBUG -I/x64/include -I'F:/biocbuild/bbs-3.15-bioc/R/library/Rcpp/include' -I"C:/rtools42/x86_64-w64-mingw32.static.posix/include" -O2 -Wall -mfpmath=sse -msse2 -mstackrealign -c NucleoDirichletPA.cpp -o NucleoDirichletPA.o g++ -std=gnu++11 -I"F:/biocbuild/bbs-3.15-bioc/R/include" -DNDEBUG -I/x64/include -I'F:/biocbuild/bbs-3.15-bioc/R/library/Rcpp/include' -I"C:/rtools42/x86_64-w64-mingw32.static.posix/include" -O2 -Wall -mfpmath=sse -msse2 -mstackrealign -c Nucleosome.cpp -o Nucleosome.o gcc -I"F:/biocbuild/bbs-3.15-bioc/R/include" -DNDEBUG -I/x64/include -I'F:/biocbuild/bbs-3.15-bioc/R/library/Rcpp/include' -I"C:/rtools42/x86_64-w64-mingw32.static.posix/include" -O2 -Wall -std=gnu99 -mfpmath=sse -msse2 -mstackrealign -c RJMCMCNucleosomes_init.c -o RJMCMCNucleosomes_init.o g++ -std=gnu++11 -I"F:/biocbuild/bbs-3.15-bioc/R/include" -DNDEBUG -I/x64/include -I'F:/biocbuild/bbs-3.15-bioc/R/library/Rcpp/include' -I"C:/rtools42/x86_64-w64-mingw32.static.posix/include" -O2 -Wall -mfpmath=sse -msse2 -mstackrealign -c RcppExports.cpp -o RcppExports.o g++ -std=gnu++11 -I"F:/biocbuild/bbs-3.15-bioc/R/include" -DNDEBUG -I/x64/include -I'F:/biocbuild/bbs-3.15-bioc/R/library/Rcpp/include' -I"C:/rtools42/x86_64-w64-mingw32.static.posix/include" -O2 -Wall -mfpmath=sse -msse2 -mstackrealign -c SegmentSeq.cpp -o SegmentSeq.o g++ -std=gnu++11 -I"F:/biocbuild/bbs-3.15-bioc/R/include" -DNDEBUG -I/x64/include -I'F:/biocbuild/bbs-3.15-bioc/R/library/Rcpp/include' -I"C:/rtools42/x86_64-w64-mingw32.static.posix/include" -O2 -Wall -mfpmath=sse -msse2 -mstackrealign -c rjmcmcNucleo.cpp -o rjmcmcNucleo.o g++ -std=gnu++11 -shared -s -static-libgcc -o RJMCMCNucleosomes.dll tmp.def NucleoDirichlet.o NucleoDirichletPA.o Nucleosome.o RJMCMCNucleosomes_init.o RcppExports.o SegmentSeq.o rjmcmcNucleo.o -L/x64/lib -lgsl -LC:/rtools42/x86_64-w64-mingw32.static.posix/lib/x64 -LC:/rtools42/x86_64-w64-mingw32.static.posix/lib -LF:/biocbuild/bbs-3.15-bioc/R/bin/x64 -lR installing to F:/biocbuild/bbs-3.15-bioc/R/library/00LOCK-RJMCMCNucleosomes/00new/RJMCMCNucleosomes/libs/x64 ** R ** data ** inst ** byte-compile and prepare package for lazy loading ** help *** installing help indices ** building package indices ** installing vignettes ** testing if installed package can be loaded from temporary location ** testing if installed package can be loaded from final location ** testing if installed package keeps a record of temporary installation path * DONE (RJMCMCNucleosomes)
RJMCMCNucleosomes.Rcheck/tests/runTests.Rout
R version 4.2.1 (2022-06-23 ucrt) -- "Funny-Looking Kid"
Copyright (C) 2022 The R Foundation for Statistical Computing
Platform: x86_64-w64-mingw32/x64 (64-bit)
R is free software and comes with ABSOLUTELY NO WARRANTY.
You are welcome to redistribute it under certain conditions.
Type 'license()' or 'licence()' for distribution details.
R is a collaborative project with many contributors.
Type 'contributors()' for more information and
'citation()' on how to cite R or R packages in publications.
Type 'demo()' for some demos, 'help()' for on-line help, or
'help.start()' for an HTML browser interface to help.
Type 'q()' to quit R.
> ## Run all tests presnt in the package
> BiocGenerics:::testPackage("RJMCMCNucleosomes")
Attaching package: 'BiocGenerics'
The following objects are masked from 'package:stats':
IQR, mad, sd, var, xtabs
The following objects are masked from 'package:base':
Filter, Find, Map, Position, Reduce, anyDuplicated, append,
as.data.frame, basename, cbind, colnames, dirname, do.call,
duplicated, eval, evalq, get, grep, grepl, intersect, is.unsorted,
lapply, mapply, match, mget, order, paste, pmax, pmax.int, pmin,
pmin.int, rank, rbind, rownames, sapply, setdiff, sort, table,
tapply, union, unique, unsplit, which.max, which.min
Attaching package: 'S4Vectors'
The following objects are masked from 'package:base':
I, expand.grid, unname
Attaching package: 'IRanges'
The following object is masked from 'package:grDevices':
windows
RJMCMCNucleosomes - Predicted nucleosomes
Call:
rjmcmc(reads = reads_demo_02, seqName = "chr_SYNTHETIC", nbrIterations = 1e+05,
kMax = 30, lambda = 2, minInterval = 146, maxInterval = 490,
minReads = 3, vSeed = 32)
Number of nucleosomes:
[1] 6
Nucleosomes positions:
GRanges object with 6 ranges and 0 metadata columns:
seqnames ranges strand
<Rle> <IRanges> <Rle>
[1] chr_SYNTHETIC 10072 *
[2] chr_SYNTHETIC 10241 *
[3] chr_SYNTHETIC 10574 *
[4] chr_SYNTHETIC 10656 *
[5] chr_SYNTHETIC 10669 *
[6] chr_SYNTHETIC 10744 *
-------
seqinfo: 1 sequence from an unspecified genome; no seqlengths
[1] "Doing: out/results/rjmcmc_seg_1.rds"
[1] "Done: out/results/rjmcmc_seg_1.rds"
[1] "Doing: out/results/rjmcmc_seg_2.rds"
[1] "Done: out/results/rjmcmc_seg_2.rds"
[1] "Doing: out/results/rjmcmc_seg_3.rds"
[1] "Done: out/results/rjmcmc_seg_3.rds"
[1] "Doing: out/results/rjmcmc_seg_4.rds"
[1] "Done: out/results/rjmcmc_seg_4.rds"
[1] "Doing: out/results/rjmcmc_seg_5.rds"
[1] "Done: out/results/rjmcmc_seg_5.rds"
[1] "Doing: out/results/rjmcmc_seg_6.rds"
[1] "Done: out/results/rjmcmc_seg_6.rds"
[1] "Doing: out/results/rjmcmc_seg_7.rds"
[1] "Done: out/results/rjmcmc_seg_7.rds"
[1] "Doing: out/results/rjmcmc_seg_8.rds"
[1] "Done: out/results/rjmcmc_seg_8.rds"
[1] "Doing: out/results/rjmcmc_seg_9.rds"
[1] "Done: out/results/rjmcmc_seg_9.rds"
[1] "Doing: out/results/rjmcmc_seg_10.rds"
[1] "Done: out/results/rjmcmc_seg_10.rds"
[1] "Doing: out/results/rjmcmc_seg_11.rds"
[1] "Done: out/results/rjmcmc_seg_11.rds"
[1] "Doing: out/results/rjmcmc_seg_12.rds"
[1] "Done: out/results/rjmcmc_seg_12.rds"
[1] "Doing: out/results/rjmcmc_seg_13.rds"
[1] "Done: out/results/rjmcmc_seg_13.rds"
[1] "Doing: out/results/rjmcmc_seg_14.rds"
[1] "Done: out/results/rjmcmc_seg_14.rds"
[1] "Doing: out/results/rjmcmc_seg_15.rds"
[1] "Done: out/results/rjmcmc_seg_15.rds"
[1] "Doing: out/results/rjmcmc_seg_16.rds"
[1] "Done: out/results/rjmcmc_seg_16.rds"
[1] "Doing: out/results/rjmcmc_seg_17.rds"
[1] "Done: out/results/rjmcmc_seg_17.rds"
[1] "Doing: out/results/rjmcmc_seg_18.rds"
[1] "Done: out/results/rjmcmc_seg_18.rds"
[1] "Doing: out/results/rjmcmc_seg_19.rds"
[1] "Done: out/results/rjmcmc_seg_19.rds"
[1] "Doing: out/results/rjmcmc_seg_20.rds"
[1] "Done: out/results/rjmcmc_seg_20.rds"
[1] "Doing: out/results/rjmcmc_seg_21.rds"
[1] "Done: out/results/rjmcmc_seg_21.rds"
[1] "Doing: out/results/rjmcmc_seg_22.rds"
[1] "Done: out/results/rjmcmc_seg_22.rds"
[1] "Doing: out/results/rjmcmc_seg_23.rds"
[1] "Done: out/results/rjmcmc_seg_23.rds"
[1] "Doing: out/results/rjmcmc_seg_24.rds"
[1] "Done: out/results/rjmcmc_seg_24.rds"
[1] "Doing: out/results/rjmcmc_seg_25.rds"
[1] "Done: out/results/rjmcmc_seg_25.rds"
[1] "Doing: out/results/rjmcmc_seg_26.rds"
[1] "Done: out/results/rjmcmc_seg_26.rds"
[1] "Doing: out/results/rjmcmc_seg_27.rds"
[1] "Done: out/results/rjmcmc_seg_27.rds"
[1] "Doing: out/results/rjmcmc_seg_28.rds"
[1] "Done: out/results/rjmcmc_seg_28.rds"
[1] "Doing: out/results/rjmcmc_seg_29.rds"
[1] "Done: out/results/rjmcmc_seg_29.rds"
[1] "Doing: out/results/rjmcmc_seg_30.rds"
[1] "Done: out/results/rjmcmc_seg_30.rds"
[1] "Doing: out/results/rjmcmc_seg_31.rds"
[1] "Done: out/results/rjmcmc_seg_31.rds"
[1] "Doing: out/results/rjmcmc_seg_32.rds"
[1] "Done: out/results/rjmcmc_seg_32.rds"
[1] "Doing: out/results/rjmcmc_seg_33.rds"
[1] "Done: out/results/rjmcmc_seg_33.rds"
[1] "Doing: out/results/rjmcmc_seg_34.rds"
[1] "Done: out/results/rjmcmc_seg_34.rds"
[1] "Doing: out/results/rjmcmc_seg_35.rds"
[1] "Done: out/results/rjmcmc_seg_35.rds"
[1] "Doing: out/results/rjmcmc_seg_36.rds"
[1] "Done: out/results/rjmcmc_seg_36.rds"
[1] "Doing: out/results/rjmcmc_seg_37.rds"
[1] "Done: out/results/rjmcmc_seg_37.rds"
[1] "Doing: out/results/rjmcmc_seg_38.rds"
[1] "Done: out/results/rjmcmc_seg_38.rds"
[1] "Doing: out/results/rjmcmc_seg_39.rds"
[1] "Done: out/results/rjmcmc_seg_39.rds"
[1] "Doing: out/results/rjmcmc_seg_40.rds"
[1] "Done: out/results/rjmcmc_seg_40.rds"
[1] "Doing: out/results/rjmcmc_seg_41.rds"
[1] "Done: out/results/rjmcmc_seg_41.rds"
[1] "Doing: out/results/rjmcmc_seg_42.rds"
[1] "Done: out/results/rjmcmc_seg_42.rds"
[1] "Doing: out/results/rjmcmc_seg_43.rds"
[1] "Done: out/results/rjmcmc_seg_43.rds"
[1] "Doing: out/results/rjmcmc_seg_44.rds"
[1] "Done: out/results/rjmcmc_seg_44.rds"
[1] "Doing: out/results/rjmcmc_seg_45.rds"
[1] "Done: out/results/rjmcmc_seg_45.rds"
[1] "Doing: out/results/rjmcmc_seg_46.rds"
[1] "Done: out/results/rjmcmc_seg_46.rds"
[1] "Doing: out/results/rjmcmc_seg_47.rds"
[1] "Done: out/results/rjmcmc_seg_47.rds"
[1] "Doing: out/results/rjmcmc_seg_48.rds"
[1] "Done: out/results/rjmcmc_seg_48.rds"
[1] "Doing: out/results/rjmcmc_seg_49.rds"
[1] "Done: out/results/rjmcmc_seg_49.rds"
[1] "Doing: out/results/rjmcmc_seg_50.rds"
[1] "Done: out/results/rjmcmc_seg_50.rds"
[1] "Doing: out/results/rjmcmc_seg_51.rds"
[1] "Done: out/results/rjmcmc_seg_51.rds"
[1] "Doing: out/results/rjmcmc_seg_52.rds"
[1] "Done: out/results/rjmcmc_seg_52.rds"
[1] "Doing: out/results/rjmcmc_seg_53.rds"
[1] "Done: out/results/rjmcmc_seg_53.rds"
[1] "Doing: out/results/rjmcmc_seg_54.rds"
[1] "Done: out/results/rjmcmc_seg_54.rds"
[1] "Doing: out/results/rjmcmc_seg_55.rds"
[1] "Done: out/results/rjmcmc_seg_55.rds"
[1] "Doing: out/results/rjmcmc_seg_56.rds"
[1] "Done: out/results/rjmcmc_seg_56.rds"
RJMCMCNucleosomes - Predicted nucleosomes Before and After Post-Treatment
BEFORE POST-TREATMENT
Number of nucleosomes:
[1] 102
Nucleosomes positions:
GRanges object with 102 ranges and 0 metadata columns:
seqnames ranges strand
<Rle> <IRanges> <Rle>
[1] chr_SYNTHETIC 1255 *
[2] chr_SYNTHETIC 2259 *
[3] chr_SYNTHETIC 3623 *
[4] chr_SYNTHETIC 4259 *
[5] chr_SYNTHETIC 5348 *
... ... ... ...
[98] chr_SYNTHETIC 53427 *
[99] chr_SYNTHETIC 54220 *
[100] chr_SYNTHETIC 54771 *
[101] chr_SYNTHETIC 55358 *
[102] chr_SYNTHETIC 55936 *
-------
seqinfo: 1 sequence from an unspecified genome; no seqlengths
AFTER POST-TREATMENT
Number of nucleosomes:
[1] 89
Nucleosomes positions:
GRanges object with 89 ranges and 0 metadata columns:
seqnames ranges strand
<Rle> <IRanges> <Rle>
[1] chr_SYNTHETIC 1255 *
[2] chr_SYNTHETIC 2259 *
[3] chr_SYNTHETIC 3623 *
[4] chr_SYNTHETIC 4259 *
[5] chr_SYNTHETIC 5348 *
... ... ... ...
[85] chr_SYNTHETIC 53286 *
[86] chr_SYNTHETIC 54220 *
[87] chr_SYNTHETIC 54771 *
[88] chr_SYNTHETIC 55358 *
[89] chr_SYNTHETIC 55936 *
-------
seqinfo: 1 sequence from an unspecified genome; no seqlengths
RJMCMCNucleosomes - Predicted nucleosomes
Number of nucleosomes:
[1] 11
Nucleosomes positions:
GRanges object with 11 ranges and 0 metadata columns:
seqnames ranges strand
<Rle> <IRanges> <Rle>
[1] chr_SYNTHETIC 10077 *
[2] chr_SYNTHETIC 10236 *
[3] chr_SYNTHETIC 10406 *
[4] chr_SYNTHETIC 10571 *
[5] chr_SYNTHETIC 10744 *
[6] chr_SYNTHETIC 10842 *
[7] chr_SYNTHETIC 10846 *
[8] chr_SYNTHETIC 10896 *
[9] chr_SYNTHETIC 10906 *
[10] chr_SYNTHETIC 11410 *
[11] chr_SYNTHETIC 11580 *
-------
seqinfo: 1 sequence from an unspecified genome; no seqlengths
[1] "Doing: test_rjmcmcCHR_good_01/results/rjmcmc_seg_2.rds"
[1] "Done: test_rjmcmcCHR_good_01/results/rjmcmc_seg_2.rds"
[1] "Doing: test_rjmcmcCHR_good_01/results/rjmcmc_seg_1.rds"
[1] "Done: test_rjmcmcCHR_good_01/results/rjmcmc_seg_1.rds"
[1] "Doing: test_rjmcmcCHR_good_02/results/rjmcmc_seg_1.rds"
[1] "Done: test_rjmcmcCHR_good_02/results/rjmcmc_seg_1.rds"
RUNIT TEST PROTOCOL -- Wed Oct 19 03:36:24 2022
***********************************************
Number of test functions: 86
Number of errors: 0
Number of failures: 0
1 Test Suite :
RJMCMCNucleosomes RUnit Tests - 86 test functions, 0 errors, 0 failures
Number of test functions: 86
Number of errors: 0
Number of failures: 0
>
> proc.time()
user system elapsed
18.92 0.89 41.01
RJMCMCNucleosomes.Rcheck/RJMCMCNucleosomes-Ex.timings
| name | user | system | elapsed | |
| RJMCMC_result | 0.61 | 0.00 | 0.61 | |
| mergeAllRDSFiles | 0.09 | 0.00 | 0.09 | |
| mergeAllRDSFilesFromDirectory | 0.08 | 0.00 | 0.08 | |
| mergeRDSFiles | 0.08 | 0.00 | 0.08 | |
| plotNucleosomes | 0.39 | 0.00 | 0.43 | |
| postMerge | 0.87 | 0.00 | 0.88 | |
| postTreatment | 0.33 | 0.00 | 0.33 | |
| print.rjmcmcNucleosomes | 0 | 0 | 0 | |
| print.rjmcmcNucleosomesBeforeAndAfterPostTreatment | 0.05 | 0.02 | 0.06 | |
| print.rjmcmcNucleosomesMerge | 0.08 | 0.00 | 0.08 | |
| reads_demo_01 | 0.03 | 0.00 | 0.03 | |
| reads_demo_02 | 0.05 | 0.01 | 0.06 | |
| rjmcmc | 0.07 | 0.02 | 0.10 | |
| rjmcmcCHR | 0.05 | 0.00 | 0.05 | |
| rjmcmcNucleo | 0.08 | 0.01 | 0.09 | |
| runCHR | 0.08 | 0.00 | 0.08 | |
| segmentation | 0.07 | 0.02 | 0.09 | |
| validateDirectoryParameters | 0 | 0 | 0 | |
| validatePlotNucleosomesParameters | 0.00 | 0.02 | 0.02 | |
| validatePrepMergeParameters | 0.02 | 0.00 | 0.01 | |
| validateRDSFilesParameters | 0 | 0 | 0 | |
| validateRJMCMCParameters | 0.00 | 0.01 | 0.02 | |
| validateSegmentationParameters | 0.02 | 0.00 | 0.01 | |