| Back to Multiple platform build/check report for BioC 3.15 |
|
This page was generated on 2022-03-18 11:08:26 -0400 (Fri, 18 Mar 2022).
| Hostname | OS | Arch (*) | R version | Installed pkgs |
|---|---|---|---|---|
| nebbiolo1 | Linux (Ubuntu 20.04.4 LTS) | x86_64 | R Under development (unstable) (2022-02-17 r81757) -- "Unsuffered Consequences" | 4334 |
| riesling1 | Windows Server 2019 Standard | x64 | R Under development (unstable) (2021-11-21 r81221) -- "Unsuffered Consequences" | 4097 |
| palomino3 | Windows Server 2022 Datacenter | x64 | R Under development (unstable) (2022-02-17 r81757 ucrt) -- "Unsuffered Consequences" | 4083 |
| merida1 | macOS 10.14.6 Mojave | x86_64 | R Under development (unstable) (2022-03-02 r81842) -- "Unsuffered Consequences" | 4134 |
| Click on any hostname to see more info about the system (e.g. compilers) (*) as reported by 'uname -p', except on Windows and Mac OS X | ||||
|
To the developers/maintainers of the RCX package: - Please allow up to 24 hours (and sometimes 48 hours) for your latest push to git@git.bioconductor.org:packages/RCX.git to reflect on this report. See How and When does the builder pull? When will my changes propagate? here for more information. - Make sure to use the following settings in order to reproduce any error or warning you see on this page. |
| Package 1558/2090 | Hostname | OS / Arch | INSTALL | BUILD | CHECK | BUILD BIN | ||||||||
| RCX 0.99.2 (landing page) Florian Auer
| nebbiolo1 | Linux (Ubuntu 20.04.4 LTS) / x86_64 | OK | OK | OK | |||||||||
| riesling1 | Windows Server 2019 Standard / x64 | OK | OK | OK | OK | |||||||||
| palomino3 | Windows Server 2022 Datacenter / x64 | OK | OK | OK | OK | |||||||||
| merida1 | macOS 10.14.6 Mojave / x86_64 | OK | OK | OK | OK | |||||||||
| Package: RCX |
| Version: 0.99.2 |
| Command: D:\biocbuild\bbs-3.15-bioc\R\bin\R.exe CMD INSTALL RCX |
| StartedAt: 2022-03-17 15:27:21 -0400 (Thu, 17 Mar 2022) |
| EndedAt: 2022-03-17 15:28:27 -0400 (Thu, 17 Mar 2022) |
| EllapsedTime: 65.9 seconds |
| RetCode: 0 |
| Status: OK |
##############################################################################
##############################################################################
###
### Running command:
###
### D:\biocbuild\bbs-3.15-bioc\R\bin\R.exe CMD INSTALL RCX
###
##############################################################################
##############################################################################
* installing to library 'D:/biocbuild/bbs-3.15-bioc/R/library'
* installing *source* package 'RCX' ...
** using staged installation
** R
** inst
** byte-compile and prepare package for lazy loading
** help
*** installing help indices
converting help for package 'RCX'
finding HTML links ... done
CartesianLayout html
Convert-Names-and-Classes html
CyGroups html
CyHiddenAttributes html
CyNetworkRelations html
CySubNetworks html
CyTableColumn html
CyVisualProperties html
CyVisualProperty html
CyVisualPropertyDependencies html
CyVisualPropertyMappings html
CyVisualPropertyProperties html
EdgeAttributes html
Edges html
Igraph html
Meta-data html
NetworkAttributes html
NodeAttributes html
Nodes html
RCX-object html
RCX html
aspectClasses html
checks html
convert-data-types-and-values html
convert2json html
countElements html
custom-print html
dot-addAspectNameToJson html
dot-addAttributeData html
dot-aspectClass html
dot-convertRawList html
dot-createAttributeAspect html
dot-createCyVpPorD html
dot-errorCodes html
dot-filterBy html
dot-format html
dot-infer html
dot-json2RDataType html
dot-jsonL html
dot-jsonV html
dot-log html
dot-mergeAttributesAspect html
dot-mergeIdAspect html
dot-modClass html
dot-pasteC html
dot-renameDF html
dot-stop html
dot-summaryAspect html
dot-transformListLength-set html
dot-transformVLD html
dot-validateAttributesAspect html
dot-validateCyVisualPropertyPandD html
dot_test html
getCyVisualProperty html
graphNEL html
hasIds html
idProperty html
jsonToRCX html
finding level-2 HTML links ... done
markAttributeColumn html
markRefColumn html
maxId html
rcxToJson html
readCX html
referredBy html
refersTo html
summary html
toCX html
updateCartesianLayout html
updateCyGroups html
updateCyHiddenAttributes html
updateCyNetworkRelations html
updateCySubNetworks html
updateCyTableColumn html
updateCyVisualProperties html
updateCyVisualProperty html
updateEdgeAttributes html
updateEdges html
updateMetaDataProperties html
updateNetworkAttributes html
updateNodeAttributes html
updateNodes html
validate html
visualize html
writeCX html
writeHTML html
** building package indices
** installing vignettes
** testing if installed package can be loaded from temporary location
** testing if installed package can be loaded from final location
** testing if installed package keeps a record of temporary installation path
* DONE (RCX)
Making 'packages.html' ... done