| Back to Multiple platform build/check report for BioC 3.15 |
|
This page was generated on 2022-10-19 13:23:30 -0400 (Wed, 19 Oct 2022).
| Hostname | OS | Arch (*) | R version | Installed pkgs |
|---|---|---|---|---|
| nebbiolo1 | Linux (Ubuntu 20.04.5 LTS) | x86_64 | 4.2.1 (2022-06-23) -- "Funny-Looking Kid" | 4386 |
| palomino3 | Windows Server 2022 Datacenter | x64 | 4.2.1 (2022-06-23 ucrt) -- "Funny-Looking Kid" | 4138 |
| merida1 | macOS 10.14.6 Mojave | x86_64 | 4.2.1 (2022-06-23) -- "Funny-Looking Kid" | 4205 |
| Click on any hostname to see more info about the system (e.g. compilers) (*) as reported by 'uname -p', except on Windows and Mac OS X | ||||
|
To the developers/maintainers of the ProteoMM package: - Please allow up to 24 hours (and sometimes 48 hours) for your latest push to git@git.bioconductor.org:packages/ProteoMM.git to reflect on this report. See How and When does the builder pull? When will my changes propagate? for more information. - Make sure to use the following settings in order to reproduce any error or warning you see on this page. |
| Package 1514/2140 | Hostname | OS / Arch | INSTALL | BUILD | CHECK | BUILD BIN | ||||||||
| ProteoMM 1.14.0 (landing page) Yuliya V Karpievitch
| nebbiolo1 | Linux (Ubuntu 20.04.5 LTS) / x86_64 | OK | OK | OK | |||||||||
| palomino3 | Windows Server 2022 Datacenter / x64 | OK | OK | OK | OK | |||||||||
| merida1 | macOS 10.14.6 Mojave / x86_64 | OK | OK | OK | OK | |||||||||
| Package: ProteoMM |
| Version: 1.14.0 |
| Command: /Library/Frameworks/R.framework/Resources/bin/R CMD check --install=check:ProteoMM.install-out.txt --library=/Library/Frameworks/R.framework/Resources/library --no-vignettes --timings ProteoMM_1.14.0.tar.gz |
| StartedAt: 2022-10-19 06:27:59 -0400 (Wed, 19 Oct 2022) |
| EndedAt: 2022-10-19 06:31:59 -0400 (Wed, 19 Oct 2022) |
| EllapsedTime: 240.0 seconds |
| RetCode: 0 |
| Status: OK |
| CheckDir: ProteoMM.Rcheck |
| Warnings: 0 |
##############################################################################
##############################################################################
###
### Running command:
###
### /Library/Frameworks/R.framework/Resources/bin/R CMD check --install=check:ProteoMM.install-out.txt --library=/Library/Frameworks/R.framework/Resources/library --no-vignettes --timings ProteoMM_1.14.0.tar.gz
###
##############################################################################
##############################################################################
* using log directory ‘/Users/biocbuild/bbs-3.15-bioc/meat/ProteoMM.Rcheck’
* using R version 4.2.1 (2022-06-23)
* using platform: x86_64-apple-darwin17.0 (64-bit)
* using session charset: UTF-8
* using option ‘--no-vignettes’
* checking for file ‘ProteoMM/DESCRIPTION’ ... OK
* this is package ‘ProteoMM’ version ‘1.14.0’
* package encoding: UTF-8
* checking package namespace information ... OK
* checking package dependencies ... OK
* checking if this is a source package ... OK
* checking if there is a namespace ... OK
* checking for hidden files and directories ... OK
* checking for portable file names ... OK
* checking for sufficient/correct file permissions ... OK
* checking whether package ‘ProteoMM’ can be installed ... OK
* checking installed package size ... OK
* checking package directory ... OK
* checking ‘build’ directory ... OK
* checking DESCRIPTION meta-information ... NOTE
License components which are templates and need '+ file LICENSE':
MIT
* checking top-level files ... OK
* checking for left-over files ... OK
* checking index information ... OK
* checking package subdirectories ... OK
* checking R files for non-ASCII characters ... OK
* checking R files for syntax errors ... OK
* checking whether the package can be loaded ... OK
* checking whether the package can be loaded with stated dependencies ... OK
* checking whether the package can be unloaded cleanly ... OK
* checking whether the namespace can be loaded with stated dependencies ... OK
* checking whether the namespace can be unloaded cleanly ... OK
* checking dependencies in R code ... OK
* checking S3 generic/method consistency ... OK
* checking replacement functions ... OK
* checking foreign function calls ... OK
* checking R code for possible problems ... OK
* checking Rd files ... OK
* checking Rd metadata ... OK
* checking Rd cross-references ... OK
* checking for missing documentation entries ... OK
* checking for code/documentation mismatches ... OK
* checking Rd \usage sections ... OK
* checking Rd contents ... OK
* checking for unstated dependencies in examples ... OK
* checking contents of ‘data’ directory ... OK
* checking data for non-ASCII characters ... OK
* checking LazyData ... OK
* checking data for ASCII and uncompressed saves ... OK
* checking files in ‘vignettes’ ... OK
* checking examples ... OK
Examples with CPU (user + system) or elapsed time > 5s
user system elapsed
prot_level_multi_part 44.802 0.124 44.991
prot_level_multiMat_PresAbs 16.463 0.054 16.537
subset_proteins 16.247 0.058 16.330
peptideLevel_PresAbsDE 13.258 0.046 13.322
get_presAbs_prots 12.951 0.053 13.019
plot_volcano_wLab 10.431 0.044 10.491
MBimpute 9.933 0.115 10.071
plot_volcano 9.983 0.032 10.025
peptideLevel_DE 9.860 0.039 9.916
eig_norm1 7.635 0.041 7.683
eig_norm2 7.588 0.035 7.630
plot_3_pep_trends_NOfile 6.829 0.032 6.875
* checking for unstated dependencies in vignettes ... OK
* checking package vignettes in ‘inst/doc’ ... OK
* checking running R code from vignettes ... SKIPPED
* checking re-building of vignette outputs ... SKIPPED
* checking PDF version of manual ... OK
* DONE
Status: 1 NOTE
See
‘/Users/biocbuild/bbs-3.15-bioc/meat/ProteoMM.Rcheck/00check.log’
for details.
ProteoMM.Rcheck/00install.out
############################################################################## ############################################################################## ### ### Running command: ### ### /Library/Frameworks/R.framework/Resources/bin/R CMD INSTALL ProteoMM ### ############################################################################## ############################################################################## * installing to library ‘/Library/Frameworks/R.framework/Versions/4.2/Resources/library’ * installing *source* package ‘ProteoMM’ ... ** using staged installation ** R ** data *** moving datasets to lazyload DB ** byte-compile and prepare package for lazy loading ** help *** installing help indices ** building package indices ** installing vignettes ** testing if installed package can be loaded from temporary location ** testing if installed package can be loaded from final location ** testing if installed package keeps a record of temporary installation path * DONE (ProteoMM)
ProteoMM.Rcheck/ProteoMM-Ex.timings
| name | user | system | elapsed | |
| MBimpute | 9.933 | 0.115 | 10.071 | |
| convert_log2 | 0.013 | 0.002 | 0.015 | |
| eig_norm1 | 7.635 | 0.041 | 7.683 | |
| eig_norm2 | 7.588 | 0.035 | 7.630 | |
| eigen_pi | 0.026 | 0.004 | 0.029 | |
| g.test | 0.005 | 0.000 | 0.004 | |
| get_presAbs_prots | 12.951 | 0.053 | 13.019 | |
| makeLMFormula | 0.000 | 0.001 | 0.001 | |
| make_intencities | 0.009 | 0.002 | 0.011 | |
| make_meta | 0.009 | 0.002 | 0.011 | |
| peptideLevel_DE | 9.860 | 0.039 | 9.916 | |
| peptideLevel_PresAbsDE | 13.258 | 0.046 | 13.322 | |
| plot_3_pep_trends_NOfile | 6.829 | 0.032 | 6.875 | |
| plot_volcano | 9.983 | 0.032 | 10.025 | |
| plot_volcano_wLab | 10.431 | 0.044 | 10.491 | |
| prot_level_multiMat_PresAbs | 16.463 | 0.054 | 16.537 | |
| prot_level_multi_part | 44.802 | 0.124 | 44.991 | |
| subset_proteins | 16.247 | 0.058 | 16.330 | |