| Back to Multiple platform build/check report for BioC 3.15 |
|
This page was generated on 2022-10-19 13:20:40 -0400 (Wed, 19 Oct 2022).
| Hostname | OS | Arch (*) | R version | Installed pkgs |
|---|---|---|---|---|
| nebbiolo1 | Linux (Ubuntu 20.04.5 LTS) | x86_64 | 4.2.1 (2022-06-23) -- "Funny-Looking Kid" | 4386 |
| palomino3 | Windows Server 2022 Datacenter | x64 | 4.2.1 (2022-06-23 ucrt) -- "Funny-Looking Kid" | 4138 |
| merida1 | macOS 10.14.6 Mojave | x86_64 | 4.2.1 (2022-06-23) -- "Funny-Looking Kid" | 4205 |
| Click on any hostname to see more info about the system (e.g. compilers) (*) as reported by 'uname -p', except on Windows and Mac OS X | ||||
|
To the developers/maintainers of the PhenStat package: - Please allow up to 24 hours (and sometimes 48 hours) for your latest push to git@git.bioconductor.org:packages/PhenStat.git to reflect on this report. See How and When does the builder pull? When will my changes propagate? for more information. - Make sure to use the following settings in order to reproduce any error or warning you see on this page. |
| Package 1447/2140 | Hostname | OS / Arch | INSTALL | BUILD | CHECK | BUILD BIN | ||||||||
| PhenStat 2.32.0 (landing page) Hamed Haselimashhadi
| nebbiolo1 | Linux (Ubuntu 20.04.5 LTS) / x86_64 | OK | OK | OK | |||||||||
| palomino3 | Windows Server 2022 Datacenter / x64 | OK | OK | OK | OK | |||||||||
| merida1 | macOS 10.14.6 Mojave / x86_64 | OK | OK | OK | OK | |||||||||
| Package: PhenStat |
| Version: 2.32.0 |
| Command: /home/biocbuild/bbs-3.15-bioc/R/bin/R CMD check --install=check:PhenStat.install-out.txt --library=/home/biocbuild/bbs-3.15-bioc/R/library --no-vignettes --timings PhenStat_2.32.0.tar.gz |
| StartedAt: 2022-10-18 21:07:03 -0400 (Tue, 18 Oct 2022) |
| EndedAt: 2022-10-18 21:08:57 -0400 (Tue, 18 Oct 2022) |
| EllapsedTime: 113.5 seconds |
| RetCode: 0 |
| Status: OK |
| CheckDir: PhenStat.Rcheck |
| Warnings: 0 |
############################################################################## ############################################################################## ### ### Running command: ### ### /home/biocbuild/bbs-3.15-bioc/R/bin/R CMD check --install=check:PhenStat.install-out.txt --library=/home/biocbuild/bbs-3.15-bioc/R/library --no-vignettes --timings PhenStat_2.32.0.tar.gz ### ############################################################################## ############################################################################## * using log directory ‘/home/biocbuild/bbs-3.15-bioc/meat/PhenStat.Rcheck’ * using R version 4.2.1 (2022-06-23) * using platform: x86_64-pc-linux-gnu (64-bit) * using session charset: UTF-8 * using option ‘--no-vignettes’ * checking for file ‘PhenStat/DESCRIPTION’ ... OK * checking extension type ... Package * this is package ‘PhenStat’ version ‘2.32.0’ * checking package namespace information ... OK * checking package dependencies ... OK * checking if this is a source package ... OK * checking if there is a namespace ... OK * checking for hidden files and directories ... OK * checking for portable file names ... OK * checking for sufficient/correct file permissions ... OK * checking whether package ‘PhenStat’ can be installed ... OK * checking installed package size ... OK * checking package directory ... OK * checking ‘build’ directory ... OK * checking DESCRIPTION meta-information ... OK * checking top-level files ... OK * checking for left-over files ... OK * checking index information ... OK * checking package subdirectories ... OK * checking R files for non-ASCII characters ... OK * checking R files for syntax errors ... OK * checking whether the package can be loaded ... OK * checking whether the package can be loaded with stated dependencies ... OK * checking whether the package can be unloaded cleanly ... OK * checking whether the namespace can be loaded with stated dependencies ... OK * checking whether the namespace can be unloaded cleanly ... OK * checking dependencies in R code ... NOTE Namespace in Imports field not imported from: ‘SmoothWin’ All declared Imports should be used. * checking S3 generic/method consistency ... OK * checking replacement functions ... OK * checking foreign function calls ... OK * checking R code for possible problems ... OK * checking Rd files ... OK * checking Rd metadata ... OK * checking Rd cross-references ... OK * checking for missing documentation entries ... OK * checking for code/documentation mismatches ... OK * checking Rd \usage sections ... OK * checking Rd contents ... OK * checking for unstated dependencies in examples ... OK * checking installed files from ‘inst/doc’ ... OK * checking files in ‘vignettes’ ... OK * checking examples ... OK * checking for unstated dependencies in ‘tests’ ... OK * checking tests ... Running ‘runTests.R’ OK * checking for unstated dependencies in vignettes ... OK * checking package vignettes in ‘inst/doc’ ... OK * checking running R code from vignettes ... SKIPPED * checking re-building of vignette outputs ... SKIPPED * checking PDF version of manual ... OK * DONE Status: 1 NOTE See ‘/home/biocbuild/bbs-3.15-bioc/meat/PhenStat.Rcheck/00check.log’ for details.
PhenStat.Rcheck/00install.out
############################################################################## ############################################################################## ### ### Running command: ### ### /home/biocbuild/bbs-3.15-bioc/R/bin/R CMD INSTALL PhenStat ### ############################################################################## ############################################################################## * installing to library ‘/home/biocbuild/bbs-3.15-bioc/R/library’ * installing *source* package ‘PhenStat’ ... ** using staged installation ** R ** inst ** byte-compile and prepare package for lazy loading ** help *** installing help indices ** building package indices ** installing vignettes ** testing if installed package can be loaded from temporary location ** testing if installed package can be loaded from final location ** testing if installed package keeps a record of temporary installation path * DONE (PhenStat)
PhenStat.Rcheck/tests/runTests.Rout
R version 4.2.1 (2022-06-23) -- "Funny-Looking Kid"
Copyright (C) 2022 The R Foundation for Statistical Computing
Platform: x86_64-pc-linux-gnu (64-bit)
R is free software and comes with ABSOLUTELY NO WARRANTY.
You are welcome to redistribute it under certain conditions.
Type 'license()' or 'licence()' for distribution details.
R is a collaborative project with many contributors.
Type 'contributors()' for more information and
'citation()' on how to cite R or R packages in publications.
Type 'demo()' for some demos, 'help()' for on-line help, or
'help.start()' for an HTML browser interface to help.
Type 'q()' to quit R.
> BiocGenerics:::testPackage("PhenStat")
>=========================================================================<
This version of PhenStat includes *FEWER* functions than the previous ones
You *still* can use the previous functions by using `:::`. For example :
PhenStat:::boxplotSexGenotype or PhenStat:::FisherExactTest
*** Want to know what is new in this version? run PhenStat:::WhatIsNew()
>=========================================================================<
RUNIT TEST PROTOCOL -- Tue Oct 18 21:08:52 2022
***********************************************
Number of test functions: 0
Number of errors: 0
Number of failures: 0
1 Test Suite :
PhenStat RUnit Tests - 0 test functions, 0 errors, 0 failures
Number of test functions: 0
Number of errors: 0
Number of failures: 0
>
> proc.time()
user system elapsed
3.429 0.221 3.633
PhenStat.Rcheck/PhenStat-Ex.timings
| name | user | system | elapsed | |
| FisherExactTest | 0.109 | 0.032 | 0.143 | |
| JSONOutput | 0.754 | 0.000 | 0.754 | |
| LRDataset | 0.040 | 0.000 | 0.041 | |
| PhenList-class | 0.199 | 0.004 | 0.205 | |
| PhenList | 0.169 | 0.000 | 0.170 | |
| PhenStatReport | 0.031 | 0.004 | 0.035 | |
| PhenTestResult-class | 0.624 | 0.008 | 0.631 | |
| PhenTestResult | 0.515 | 0.004 | 0.521 | |
| RRTest | 0.089 | 0.016 | 0.105 | |
| TFDataset | 0.188 | 0.024 | 0.212 | |
| analysedDataset | 0.562 | 0.008 | 0.570 | |
| analysisResults | 0.618 | 0.016 | 0.634 | |
| boxplotResidualBatch | 0.689 | 0.004 | 0.694 | |
| boxplotSexGenotype | 0.08 | 0.00 | 0.08 | |
| boxplotSexGenotypeBatch | 0.143 | 0.004 | 0.147 | |
| boxplotSexGenotypeBatchAdjusted | 0.057 | 0.012 | 0.069 | |
| boxplotSexGenotypeResult | 0.775 | 0.004 | 0.778 | |
| boxplotSexGenotypeWeightBatchAdjusted | 0.056 | 0.000 | 0.056 | |
| categoricalBarplot | 0.122 | 0.000 | 0.122 | |
| checkDataset | 0.033 | 0.000 | 0.033 | |
| classificationTag | 0.616 | 0.008 | 0.624 | |
| determiningLambda | 0.882 | 0.072 | 0.954 | |
| dim | 0.035 | 0.000 | 0.035 | |
| finalLRModel | 0.471 | 0.024 | 0.495 | |
| finalModel | 0.495 | 0.004 | 0.499 | |
| finalTFModel | 0.379 | 0.004 | 0.384 | |
| htestPhenStat-class | 0.112 | 0.000 | 0.112 | |
| modelFormula | 0.001 | 0.000 | 0.001 | |
| modelFormulaLR | 0 | 0 | 0 | |
| parserOutputSummary | 0.587 | 0.000 | 0.586 | |
| parserOutputSummaryLR | 0.396 | 0.012 | 0.408 | |
| parserOutputTFSummary | 0.081 | 0.000 | 0.081 | |
| performReverseTransformation | 0.001 | 0.000 | 0.000 | |
| performTransformation | 0.001 | 0.000 | 0.000 | |
| plot.PhenList | 2.061 | 0.024 | 2.084 | |
| plot.PhenTestResult | 1.991 | 0.060 | 2.050 | |
| plotResidualPredicted | 0.645 | 0.004 | 0.650 | |
| printLROutput | 0.392 | 0.004 | 0.395 | |
| printTabStyle | 0.001 | 0.000 | 0.001 | |
| qqplotGenotype | 0.611 | 0.004 | 0.614 | |
| qqplotRandomEffects | 0.602 | 0.004 | 0.606 | |
| qqplotRotatedResiduals | 3.456 | 0.056 | 3.513 | |
| recommendMethod | 0.167 | 0.008 | 0.175 | |
| scatterplotGenotypeWeight | 0.139 | 0.000 | 0.139 | |
| scatterplotGenotypeWeightResult | 0.812 | 0.000 | 0.813 | |
| scatterplotSexGenotypeBatch | 0.076 | 0.016 | 0.091 | |
| scatterplotSexGenotypeBatchResult | 0.772 | 0.032 | 0.804 | |
| startLRModel | 0.368 | 0.004 | 0.371 | |
| startModel | 0.45 | 0.00 | 0.45 | |
| startTFModel | 0.315 | 0.008 | 0.322 | |
| summaryOutput | 0.724 | 0.014 | 0.738 | |
| summaryPhenListResult | 0.721 | 0.005 | 0.726 | |
| testDataset | 2.399 | 0.040 | 2.438 | |
| testFinalLRModel | 0.378 | 0.004 | 0.382 | |
| testFinalModel | 0.714 | 0.000 | 0.714 | |
| vectorOutput | 0.674 | 0.007 | 0.682 | |
| vectorOutputMatrices | 0.100 | 0.000 | 0.099 | |