| Back to Multiple platform build/check report for BioC 3.15 |
|
This page was generated on 2022-03-18 11:08:12 -0400 (Fri, 18 Mar 2022).
| Hostname | OS | Arch (*) | R version | Installed pkgs |
|---|---|---|---|---|
| nebbiolo1 | Linux (Ubuntu 20.04.4 LTS) | x86_64 | R Under development (unstable) (2022-02-17 r81757) -- "Unsuffered Consequences" | 4334 |
| riesling1 | Windows Server 2019 Standard | x64 | R Under development (unstable) (2021-11-21 r81221) -- "Unsuffered Consequences" | 4097 |
| palomino3 | Windows Server 2022 Datacenter | x64 | R Under development (unstable) (2022-02-17 r81757 ucrt) -- "Unsuffered Consequences" | 4083 |
| merida1 | macOS 10.14.6 Mojave | x86_64 | R Under development (unstable) (2022-03-02 r81842) -- "Unsuffered Consequences" | 4134 |
| Click on any hostname to see more info about the system (e.g. compilers) (*) as reported by 'uname -p', except on Windows and Mac OS X | ||||
|
To the developers/maintainers of the OmaDB package: - Please allow up to 24 hours (and sometimes 48 hours) for your latest push to git@git.bioconductor.org:packages/OmaDB.git to reflect on this report. See How and When does the builder pull? When will my changes propagate? here for more information. - Make sure to use the following settings in order to reproduce any error or warning you see on this page. |
| Package 1329/2090 | Hostname | OS / Arch | INSTALL | BUILD | CHECK | BUILD BIN | ||||||||
| OmaDB 2.11.1 (landing page) Klara Kaleb
| nebbiolo1 | Linux (Ubuntu 20.04.4 LTS) / x86_64 | OK | OK | OK | |||||||||
| riesling1 | Windows Server 2019 Standard / x64 | OK | OK | OK | OK | |||||||||
| palomino3 | Windows Server 2022 Datacenter / x64 | OK | OK | OK | OK | |||||||||
| merida1 | macOS 10.14.6 Mojave / x86_64 | OK | OK | OK | OK | |||||||||
| Package: OmaDB |
| Version: 2.11.1 |
| Command: D:\biocbuild\bbs-3.15-bioc\R\bin\R.exe CMD check --no-multiarch --install=check:OmaDB.install-out.txt --library=D:\biocbuild\bbs-3.15-bioc\R\library --no-vignettes --timings OmaDB_2.11.1.tar.gz |
| StartedAt: 2022-03-17 19:46:06 -0400 (Thu, 17 Mar 2022) |
| EndedAt: 2022-03-17 19:57:08 -0400 (Thu, 17 Mar 2022) |
| EllapsedTime: 661.9 seconds |
| RetCode: 0 |
| Status: OK |
| CheckDir: OmaDB.Rcheck |
| Warnings: 0 |
##############################################################################
##############################################################################
###
### Running command:
###
### D:\biocbuild\bbs-3.15-bioc\R\bin\R.exe CMD check --no-multiarch --install=check:OmaDB.install-out.txt --library=D:\biocbuild\bbs-3.15-bioc\R\library --no-vignettes --timings OmaDB_2.11.1.tar.gz
###
##############################################################################
##############################################################################
* using log directory 'D:/biocbuild/bbs-3.15-bioc/meat/OmaDB.Rcheck'
* using R Under development (unstable) (2021-11-21 r81221)
* using platform: x86_64-w64-mingw32 (64-bit)
* using session charset: ISO8859-1
* using option '--no-vignettes'
* checking for file 'OmaDB/DESCRIPTION' ... OK
* this is package 'OmaDB' version '2.11.1'
* package encoding: UTF-8
* checking package namespace information ... OK
* checking package dependencies ... OK
* checking if this is a source package ... OK
* checking if there is a namespace ... OK
* checking for hidden files and directories ... OK
* checking for portable file names ... OK
* checking whether package 'OmaDB' can be installed ... OK
* checking installed package size ... OK
* checking package directory ... OK
* checking 'build' directory ... OK
* checking DESCRIPTION meta-information ... OK
* checking top-level files ... OK
* checking for left-over files ... OK
* checking index information ... OK
* checking package subdirectories ... OK
* checking R files for non-ASCII characters ... OK
* checking R files for syntax errors ... OK
* checking whether the package can be loaded ... OK
* checking whether the package can be loaded with stated dependencies ... OK
* checking whether the package can be unloaded cleanly ... OK
* checking whether the namespace can be loaded with stated dependencies ... OK
* checking whether the namespace can be unloaded cleanly ... OK
* checking dependencies in R code ... OK
* checking S3 generic/method consistency ... OK
* checking replacement functions ... OK
* checking foreign function calls ... OK
* checking R code for possible problems ... OK
* checking Rd files ... OK
* checking Rd metadata ... OK
* checking Rd cross-references ... OK
* checking for missing documentation entries ... OK
* checking for code/documentation mismatches ... OK
* checking Rd \usage sections ... OK
* checking Rd contents ... OK
* checking for unstated dependencies in examples ... OK
* checking contents of 'data' directory ... OK
* checking data for non-ASCII characters ... OK
* checking LazyData ... OK
* checking data for ASCII and uncompressed saves ... OK
* checking files in 'vignettes' ... OK
* checking examples ... OK
Examples with CPU (user + system) or elapsed time > 5s
user system elapsed
getGenome 178.45 1.31 311.95
getGenomePairs 11.75 0.45 28.33
getOMAGroup 1.05 0.05 7.97
searchProtein 0.01 0.00 187.56
* checking for unstated dependencies in 'tests' ... OK
* checking tests ...
Running 'testthat.R'
OK
* checking for unstated dependencies in vignettes ... OK
* checking package vignettes in 'inst/doc' ... OK
* checking running R code from vignettes ... SKIPPED
* checking re-building of vignette outputs ... SKIPPED
* checking PDF version of manual ... OK
* DONE
Status: OK
OmaDB.Rcheck/00install.out
##############################################################################
##############################################################################
###
### Running command:
###
### D:\biocbuild\bbs-3.15-bioc\R\bin\R.exe CMD INSTALL OmaDB
###
##############################################################################
##############################################################################
* installing to library 'D:/biocbuild/bbs-3.15-bioc/R/library'
* installing *source* package 'OmaDB' ...
** using staged installation
** R
** data
*** moving datasets to lazyload DB
** inst
** byte-compile and prepare package for lazy loading
** help
*** installing help indices
converting help for package 'OmaDB'
finding HTML links ... done
OmaDB-deprecated html
OmaDB-package html
annotateSequence html
cash-.omadb_obj html
formatTopGO html
getAnnotation-deprecated html
getAttribute html
getData-deprecated html
getGenome html
getGenomeAlignment-deprecated html
getGenomePairs html
getHOG html
getLocus html
getOMAGroup html
getObjectAttributes html
getProtein html
getTaxonomy html
getTopGO html
getTree html
getVersion html
getXref-deprecated html
group html
hog html
mapSequence html
orthologs html
pairs html
protein html
resolveURL html
searchProtein html
sequence_annotation html
sequence_map html
setAPI html
taxonomy html
xref html
** building package indices
** installing vignettes
** testing if installed package can be loaded from temporary location
** testing if installed package can be loaded from final location
** testing if installed package keeps a record of temporary installation path
* DONE (OmaDB)
Making 'packages.html' ...Warning in packageDescription(i, lib.loc = lib, fields = "Title", encoding = "UTF-8") :
DESCRIPTION file of package 'Modstrings' is missing or broken
done
OmaDB.Rcheck/tests/testthat.Rout
R Under development (unstable) (2021-11-21 r81221) -- "Unsuffered Consequences"
Copyright (C) 2021 The R Foundation for Statistical Computing
Platform: x86_64-w64-mingw32/x64 (64-bit)
R is free software and comes with ABSOLUTELY NO WARRANTY.
You are welcome to redistribute it under certain conditions.
Type 'license()' or 'licence()' for distribution details.
R is a collaborative project with many contributors.
Type 'contributors()' for more information and
'citation()' on how to cite R or R packages in publications.
Type 'demo()' for some demos, 'help()' for on-line help, or
'help.start()' for an HTML browser interface to help.
Type 'q()' to quit R.
> library(testthat)
>
> test_that("Testing the URL validity", {
+ expect_equal(httr::status_code(httr::GET("https://omabrowser.org/api")), 200 ) #checking that the server is live and accesible
+
+ })
Test passed
>
>
>
>
> proc.time()
user system elapsed
0.57 0.10 2.01
OmaDB.Rcheck/OmaDB-Ex.timings
| name | user | system | elapsed | |
| annotateSequence | 0.23 | 0.02 | 2.15 | |
| formatTopGO | 0.47 | 0.00 | 1.02 | |
| getAttribute | 0.44 | 0.11 | 2.95 | |
| getGenome | 178.45 | 1.31 | 311.95 | |
| getGenomePairs | 11.75 | 0.45 | 28.33 | |
| getHOG | 0.07 | 0.00 | 0.77 | |
| getLocus | 0.37 | 0.00 | 2.70 | |
| getOMAGroup | 1.05 | 0.05 | 7.97 | |
| getObjectAttributes | 0.37 | 0.00 | 2.72 | |
| getProtein | 0.1 | 0.0 | 1.2 | |
| getTaxonomy | 0.03 | 0.00 | 0.69 | |
| getTopGO | 0.59 | 0.08 | 1.28 | |
| getTree | 0.00 | 0.00 | 0.18 | |
| getVersion | 0.00 | 0.01 | 0.14 | |
| mapSequence | 0.76 | 0.00 | 4.89 | |
| resolveURL | 0.04 | 0.00 | 0.42 | |
| searchProtein | 0.01 | 0.00 | 187.56 | |