| Back to Multiple platform build/check report for BioC 3.15 |
|
This page was generated on 2022-10-19 13:20:38 -0400 (Wed, 19 Oct 2022).
| Hostname | OS | Arch (*) | R version | Installed pkgs |
|---|---|---|---|---|
| nebbiolo1 | Linux (Ubuntu 20.04.5 LTS) | x86_64 | 4.2.1 (2022-06-23) -- "Funny-Looking Kid" | 4386 |
| palomino3 | Windows Server 2022 Datacenter | x64 | 4.2.1 (2022-06-23 ucrt) -- "Funny-Looking Kid" | 4138 |
| merida1 | macOS 10.14.6 Mojave | x86_64 | 4.2.1 (2022-06-23) -- "Funny-Looking Kid" | 4205 |
| Click on any hostname to see more info about the system (e.g. compilers) (*) as reported by 'uname -p', except on Windows and Mac OS X | ||||
|
To the developers/maintainers of the OUTRIDER package: - Please allow up to 24 hours (and sometimes 48 hours) for your latest push to git@git.bioconductor.org:packages/OUTRIDER.git to reflect on this report. See How and When does the builder pull? When will my changes propagate? for more information. - Make sure to use the following settings in order to reproduce any error or warning you see on this page. |
| Package 1393/2140 | Hostname | OS / Arch | INSTALL | BUILD | CHECK | BUILD BIN | ||||||||
| OUTRIDER 1.14.0 (landing page) Christian Mertes
| nebbiolo1 | Linux (Ubuntu 20.04.5 LTS) / x86_64 | OK | OK | OK | |||||||||
| palomino3 | Windows Server 2022 Datacenter / x64 | OK | OK | OK | OK | |||||||||
| merida1 | macOS 10.14.6 Mojave / x86_64 | OK | OK | OK | OK | |||||||||
| Package: OUTRIDER |
| Version: 1.14.0 |
| Command: /home/biocbuild/bbs-3.15-bioc/R/bin/R CMD check --install=check:OUTRIDER.install-out.txt --library=/home/biocbuild/bbs-3.15-bioc/R/library --no-vignettes --timings OUTRIDER_1.14.0.tar.gz |
| StartedAt: 2022-10-18 20:59:30 -0400 (Tue, 18 Oct 2022) |
| EndedAt: 2022-10-18 21:07:05 -0400 (Tue, 18 Oct 2022) |
| EllapsedTime: 455.6 seconds |
| RetCode: 0 |
| Status: OK |
| CheckDir: OUTRIDER.Rcheck |
| Warnings: 0 |
##############################################################################
##############################################################################
###
### Running command:
###
### /home/biocbuild/bbs-3.15-bioc/R/bin/R CMD check --install=check:OUTRIDER.install-out.txt --library=/home/biocbuild/bbs-3.15-bioc/R/library --no-vignettes --timings OUTRIDER_1.14.0.tar.gz
###
##############################################################################
##############################################################################
* using log directory ‘/home/biocbuild/bbs-3.15-bioc/meat/OUTRIDER.Rcheck’
* using R version 4.2.1 (2022-06-23)
* using platform: x86_64-pc-linux-gnu (64-bit)
* using session charset: UTF-8
* using option ‘--no-vignettes’
* checking for file ‘OUTRIDER/DESCRIPTION’ ... OK
* checking extension type ... Package
* this is package ‘OUTRIDER’ version ‘1.14.0’
* package encoding: UTF-8
* checking package namespace information ... OK
* checking package dependencies ... OK
* checking if this is a source package ... OK
* checking if there is a namespace ... OK
* checking for hidden files and directories ... OK
* checking for portable file names ... OK
* checking for sufficient/correct file permissions ... OK
* checking whether package ‘OUTRIDER’ can be installed ... OK
* checking installed package size ... OK
* checking package directory ... OK
* checking ‘build’ directory ... OK
* checking DESCRIPTION meta-information ... OK
* checking top-level files ... OK
* checking for left-over files ... OK
* checking index information ... OK
* checking package subdirectories ... OK
* checking R files for non-ASCII characters ... OK
* checking R files for syntax errors ... OK
* checking whether the package can be loaded ... OK
* checking whether the package can be loaded with stated dependencies ... OK
* checking whether the package can be unloaded cleanly ... OK
* checking whether the namespace can be loaded with stated dependencies ... OK
* checking whether the namespace can be unloaded cleanly ... OK
* checking dependencies in R code ... NOTE
Namespace in Imports field not imported from: ‘Rcpp’
All declared Imports should be used.
* checking S3 generic/method consistency ... OK
* checking replacement functions ... OK
* checking foreign function calls ... OK
* checking R code for possible problems ... OK
* checking Rd files ... OK
* checking Rd metadata ... OK
* checking Rd cross-references ... OK
* checking for missing documentation entries ... OK
* checking for code/documentation mismatches ... OK
* checking Rd \usage sections ... OK
* checking Rd contents ... OK
* checking for unstated dependencies in examples ... OK
* checking line endings in C/C++/Fortran sources/headers ... OK
* checking line endings in Makefiles ... OK
* checking compilation flags in Makevars ... OK
* checking for GNU extensions in Makefiles ... OK
* checking for portable use of $(BLAS_LIBS) and $(LAPACK_LIBS) ... OK
* checking use of PKG_*FLAGS in Makefiles ... OK
* checking compiled code ... NOTE
Note: information on .o files is not available
* checking files in ‘vignettes’ ... OK
* checking examples ... OK
Examples with CPU (user + system) or elapsed time > 5s
user system elapsed
findEncodingDim 9.378 0.039 9.418
plotFunctions 7.693 0.207 7.844
aberrant 5.706 2.191 2.924
OUTRIDER 4.458 0.786 4.525
* checking for unstated dependencies in ‘tests’ ... OK
* checking tests ...
Running ‘testthat.R’
OK
* checking for unstated dependencies in vignettes ... OK
* checking package vignettes in ‘inst/doc’ ... OK
* checking running R code from vignettes ... SKIPPED
* checking re-building of vignette outputs ... SKIPPED
* checking PDF version of manual ... OK
* DONE
Status: 2 NOTEs
See
‘/home/biocbuild/bbs-3.15-bioc/meat/OUTRIDER.Rcheck/00check.log’
for details.
OUTRIDER.Rcheck/00install.out
############################################################################## ############################################################################## ### ### Running command: ### ### /home/biocbuild/bbs-3.15-bioc/R/bin/R CMD INSTALL OUTRIDER ### ############################################################################## ############################################################################## * installing to library ‘/home/biocbuild/bbs-3.15-bioc/R/library’ * installing *source* package ‘OUTRIDER’ ... ** using staged installation ** libs g++ -std=gnu++11 -I"/home/biocbuild/bbs-3.15-bioc/R/include" -DNDEBUG -I'/home/biocbuild/bbs-3.15-bioc/R/library/Rcpp/include' -I'/home/biocbuild/bbs-3.15-bioc/R/library/RcppArmadillo/include' -I/usr/local/include -fopenmp -DARMA_DONT_USE_OPENMP -fpic -g -O2 -Wall -c RcppExports.cpp -o RcppExports.o g++ -std=gnu++11 -I"/home/biocbuild/bbs-3.15-bioc/R/include" -DNDEBUG -I'/home/biocbuild/bbs-3.15-bioc/R/library/Rcpp/include' -I'/home/biocbuild/bbs-3.15-bioc/R/library/RcppArmadillo/include' -I/usr/local/include -fopenmp -DARMA_DONT_USE_OPENMP -fpic -g -O2 -Wall -c loss_n_gradient_functions.cpp -o loss_n_gradient_functions.o g++ -std=gnu++11 -shared -L/home/biocbuild/bbs-3.15-bioc/R/lib -L/usr/local/lib -o OUTRIDER.so RcppExports.o loss_n_gradient_functions.o -fopenmp -L/home/biocbuild/bbs-3.15-bioc/R/lib -lRlapack -L/home/biocbuild/bbs-3.15-bioc/R/lib -lRblas -lgfortran -lm -lquadmath -L/home/biocbuild/bbs-3.15-bioc/R/lib -lR installing to /home/biocbuild/bbs-3.15-bioc/R/library/00LOCK-OUTRIDER/00new/OUTRIDER/libs ** R ** inst ** byte-compile and prepare package for lazy loading ** help *** installing help indices ** building package indices ** installing vignettes ** testing if installed package can be loaded from temporary location ** checking absolute paths in shared objects and dynamic libraries ** testing if installed package can be loaded from final location ** testing if installed package keeps a record of temporary installation path * DONE (OUTRIDER)
OUTRIDER.Rcheck/tests/testthat.Rout
R version 4.2.1 (2022-06-23) -- "Funny-Looking Kid"
Copyright (C) 2022 The R Foundation for Statistical Computing
Platform: x86_64-pc-linux-gnu (64-bit)
R is free software and comes with ABSOLUTELY NO WARRANTY.
You are welcome to redistribute it under certain conditions.
Type 'license()' or 'licence()' for distribution details.
R is a collaborative project with many contributors.
Type 'contributors()' for more information and
'citation()' on how to cite R or R packages in publications.
Type 'demo()' for some demos, 'help()' for on-line help, or
'help.start()' for an HTML browser interface to help.
Type 'q()' to quit R.
> library(testthat)
> library(OUTRIDER)
Loading required package: BiocParallel
Loading required package: GenomicFeatures
Loading required package: BiocGenerics
Attaching package: 'BiocGenerics'
The following objects are masked from 'package:stats':
IQR, mad, sd, var, xtabs
The following objects are masked from 'package:base':
Filter, Find, Map, Position, Reduce, anyDuplicated, append,
as.data.frame, basename, cbind, colnames, dirname, do.call,
duplicated, eval, evalq, get, grep, grepl, intersect, is.unsorted,
lapply, mapply, match, mget, order, paste, pmax, pmax.int, pmin,
pmin.int, rank, rbind, rownames, sapply, setdiff, sort, table,
tapply, union, unique, unsplit, which.max, which.min
Loading required package: S4Vectors
Loading required package: stats4
Attaching package: 'S4Vectors'
The following objects are masked from 'package:base':
I, expand.grid, unname
Loading required package: IRanges
Loading required package: GenomeInfoDb
Loading required package: GenomicRanges
Loading required package: AnnotationDbi
Loading required package: Biobase
Welcome to Bioconductor
Vignettes contain introductory material; view with
'browseVignettes()'. To cite Bioconductor, see
'citation("Biobase")', and for packages 'citation("pkgname")'.
Loading required package: SummarizedExperiment
Loading required package: MatrixGenerics
Loading required package: matrixStats
Attaching package: 'matrixStats'
The following objects are masked from 'package:Biobase':
anyMissing, rowMedians
Attaching package: 'MatrixGenerics'
The following objects are masked from 'package:matrixStats':
colAlls, colAnyNAs, colAnys, colAvgsPerRowSet, colCollapse,
colCounts, colCummaxs, colCummins, colCumprods, colCumsums,
colDiffs, colIQRDiffs, colIQRs, colLogSumExps, colMadDiffs,
colMads, colMaxs, colMeans2, colMedians, colMins, colOrderStats,
colProds, colQuantiles, colRanges, colRanks, colSdDiffs, colSds,
colSums2, colTabulates, colVarDiffs, colVars, colWeightedMads,
colWeightedMeans, colWeightedMedians, colWeightedSds,
colWeightedVars, rowAlls, rowAnyNAs, rowAnys, rowAvgsPerColSet,
rowCollapse, rowCounts, rowCummaxs, rowCummins, rowCumprods,
rowCumsums, rowDiffs, rowIQRDiffs, rowIQRs, rowLogSumExps,
rowMadDiffs, rowMads, rowMaxs, rowMeans2, rowMedians, rowMins,
rowOrderStats, rowProds, rowQuantiles, rowRanges, rowRanks,
rowSdDiffs, rowSds, rowSums2, rowTabulates, rowVarDiffs, rowVars,
rowWeightedMads, rowWeightedMeans, rowWeightedMedians,
rowWeightedSds, rowWeightedVars
The following object is masked from 'package:Biobase':
rowMedians
Loading required package: data.table
Attaching package: 'data.table'
The following object is masked from 'package:SummarizedExperiment':
shift
The following object is masked from 'package:GenomicRanges':
shift
The following object is masked from 'package:IRanges':
shift
The following objects are masked from 'package:S4Vectors':
first, second
>
> register(SerialParam())
>
> test_check("OUTRIDER")
[1] "Tue Oct 18 21:06:13 2022: Initial PCA loss: 6.1186450404342"
[1] "Tue Oct 18 21:06:14 2022: Iteration: 1 loss: 4.50226591031231"
[1] "Tue Oct 18 21:06:15 2022: Iteration: 2 loss: 4.4289999882735"
[1] "Tue Oct 18 21:06:15 2022: Iteration: 3 loss: 4.39104022291827"
[1] "Tue Oct 18 21:06:16 2022: Iteration: 4 loss: 4.36845065936598"
[1] "Tue Oct 18 21:06:17 2022: Iteration: 5 loss: 4.35293711272106"
[1] "Tue Oct 18 21:06:17 2022: Iteration: 6 loss: 4.35088652012603"
Time difference of 3.682914 secs
[1] "Tue Oct 18 21:06:17 2022: 6 Final nb-AE loss: 4.35088652012603"
[1] "Tue Oct 18 21:06:18 2022: Initial PCA loss: 6.1186450404342"
[1] "Tue Oct 18 21:06:19 2022: Iteration: 1 loss: 4.50226591031231"
[1] "Tue Oct 18 21:06:20 2022: Iteration: 2 loss: 4.4289999882735"
[1] "Tue Oct 18 21:06:21 2022: Iteration: 3 loss: 4.39104022291827"
[1] "Tue Oct 18 21:06:21 2022: Iteration: 4 loss: 4.36845065936598"
[1] "Tue Oct 18 21:06:22 2022: Iteration: 5 loss: 4.35293711272106"
[1] "Tue Oct 18 21:06:23 2022: Iteration: 6 loss: 4.35088652012603"
Time difference of 3.799239 secs
[1] "Tue Oct 18 21:06:23 2022: 6 Final nb-AE loss: 4.35088652012603"
class: OutriderDataSet
class: RangedSummarizedExperiment
dim: 100 50
metadata(1): version
assays(1): counts
rownames(100): ENSG00000223972.4 ENSG00000227232.4 ...
ENSG00000107404.13 ENSG00000162576.12
rowData names(0):
colnames(50): GTEX.UPK5.0426.SM.3GAEK GTEX.WFG7.2026.SM.3GIL7 ...
GTEX.11UD2.2526.SM.5CVNU GTEX.13O61.1426.SM.5KM3D
colData names(1): sampleID
[1] "Tue Oct 18 21:06:35 2022: Initial PCA loss: 4.50150992640788"
[1] "Tue Oct 18 21:06:37 2022: Iteration: 1 loss: 4.12419840092322"
[1] "Tue Oct 18 21:06:37 2022: Iteration: 2 loss: 4.11223492641563"
Time difference of 1.252208 secs
[1] "Tue Oct 18 21:06:37 2022: 2 Final nb-AE loss: 4.11223492641563"
[1] "Evaluation loss: 0.794826822449799 for q=3"
[1] "Tue Oct 18 21:06:38 2022: Initial PCA loss: 4.47508106189278"
[1] "Tue Oct 18 21:06:39 2022: Iteration: 1 loss: 4.05253200941568"
[1] "Tue Oct 18 21:06:40 2022: Iteration: 2 loss: 4.03969409619095"
Time difference of 1.237355 secs
[1] "Tue Oct 18 21:06:40 2022: 2 Final nb-AE loss: 4.03969409619095"
[1] "Evaluation loss: 0.78568452876866 for q=4"
[1] "Tue Oct 18 21:06:40 2022: Initial PCA loss: 4.45352641196053"
[1] "Tue Oct 18 21:06:42 2022: Iteration: 1 loss: 3.97005299900914"
[1] "Tue Oct 18 21:06:42 2022: Iteration: 2 loss: 3.94830832796538"
Time difference of 1.239798 secs
[1] "Tue Oct 18 21:06:42 2022: 2 Final nb-AE loss: 3.94830832796538"
[1] "Evaluation loss: 0.792641802279913 for q=5"
[1] "Tue Oct 18 21:06:50 2022: Initial PCA loss: 6.46616282459584"
[1] "Tue Oct 18 21:06:51 2022: Iteration: 1 loss: 4.8154560320664"
[1] "Tue Oct 18 21:06:52 2022: Iteration: 2 loss: 4.78986580095756"
Time difference of 1.53043 secs
[1] "Tue Oct 18 21:06:52 2022: 2 Final nb-AE loss: 4.78986580095756"
[ FAIL 0 | WARN 33 | SKIP 0 | PASS 103 ]
[ FAIL 0 | WARN 33 | SKIP 0 | PASS 103 ]
>
> proc.time()
user system elapsed
63.121 1.434 64.466
OUTRIDER.Rcheck/OUTRIDER-Ex.timings
| name | user | system | elapsed | |
| OUTRIDER | 4.458 | 0.786 | 4.525 | |
| OutriderDataSet-class | 0.713 | 0.020 | 0.734 | |
| aberrant | 5.706 | 2.191 | 2.924 | |
| computeGeneLength | 1.357 | 0.087 | 1.444 | |
| computeLatentSpace | 0.747 | 0.004 | 0.752 | |
| computePvalues | 1.342 | 0.635 | 1.131 | |
| computeZscores | 0.764 | 0.072 | 0.836 | |
| controlForConfounders | 1.112 | 0.064 | 1.176 | |
| counts | 0.505 | 0.003 | 0.509 | |
| estimateBestQ | 0.372 | 0.000 | 0.373 | |
| filterExpression | 1.279 | 0.016 | 1.296 | |
| findEncodingDim | 9.378 | 0.039 | 9.418 | |
| fit | 0.788 | 0.004 | 0.791 | |
| fpkm | 0.685 | 0.019 | 0.706 | |
| getter_setter_functions | 2.687 | 0.009 | 2.695 | |
| makeExampleOutriderDataSet | 0.974 | 0.000 | 0.974 | |
| normalizationFactors | 0.644 | 0.004 | 0.647 | |
| plotFunctions | 7.693 | 0.207 | 7.844 | |
| results | 2.549 | 0.023 | 2.572 | |
| sampleExclusionMask | 0.447 | 0.004 | 0.451 | |
| sizeFactors | 0.577 | 0.000 | 0.577 | |