| Back to Multiple platform build/check report for BioC 3.15 |
|
This page was generated on 2022-03-18 11:08:14 -0400 (Fri, 18 Mar 2022).
| Hostname | OS | Arch (*) | R version | Installed pkgs |
|---|---|---|---|---|
| nebbiolo1 | Linux (Ubuntu 20.04.4 LTS) | x86_64 | R Under development (unstable) (2022-02-17 r81757) -- "Unsuffered Consequences" | 4334 |
| riesling1 | Windows Server 2019 Standard | x64 | R Under development (unstable) (2021-11-21 r81221) -- "Unsuffered Consequences" | 4097 |
| palomino3 | Windows Server 2022 Datacenter | x64 | R Under development (unstable) (2022-02-17 r81757 ucrt) -- "Unsuffered Consequences" | 4083 |
| merida1 | macOS 10.14.6 Mojave | x86_64 | R Under development (unstable) (2022-03-02 r81842) -- "Unsuffered Consequences" | 4134 |
| Click on any hostname to see more info about the system (e.g. compilers) (*) as reported by 'uname -p', except on Windows and Mac OS X | ||||
|
To the developers/maintainers of the OTUbase package: - Please allow up to 24 hours (and sometimes 48 hours) for your latest push to git@git.bioconductor.org:packages/OTUbase.git to reflect on this report. See How and When does the builder pull? When will my changes propagate? here for more information. - Make sure to use the following settings in order to reproduce any error or warning you see on this page. |
| Package 1363/2090 | Hostname | OS / Arch | INSTALL | BUILD | CHECK | BUILD BIN | ||||||||
| OTUbase 1.45.0 (landing page) Daniel Beck
| nebbiolo1 | Linux (Ubuntu 20.04.4 LTS) / x86_64 | OK | OK | OK | |||||||||
| riesling1 | Windows Server 2019 Standard / x64 | OK | OK | OK | OK | |||||||||
| palomino3 | Windows Server 2022 Datacenter / x64 | OK | OK | OK | OK | |||||||||
| merida1 | macOS 10.14.6 Mojave / x86_64 | OK | OK | OK | OK | |||||||||
| Package: OTUbase |
| Version: 1.45.0 |
| Command: D:\biocbuild\bbs-3.15-bioc\R\bin\R.exe CMD check --no-multiarch --install=check:OTUbase.install-out.txt --library=D:\biocbuild\bbs-3.15-bioc\R\library --no-vignettes --timings OTUbase_1.45.0.tar.gz |
| StartedAt: 2022-03-17 19:48:04 -0400 (Thu, 17 Mar 2022) |
| EndedAt: 2022-03-17 19:51:03 -0400 (Thu, 17 Mar 2022) |
| EllapsedTime: 178.7 seconds |
| RetCode: 0 |
| Status: OK |
| CheckDir: OTUbase.Rcheck |
| Warnings: 0 |
##############################################################################
##############################################################################
###
### Running command:
###
### D:\biocbuild\bbs-3.15-bioc\R\bin\R.exe CMD check --no-multiarch --install=check:OTUbase.install-out.txt --library=D:\biocbuild\bbs-3.15-bioc\R\library --no-vignettes --timings OTUbase_1.45.0.tar.gz
###
##############################################################################
##############################################################################
* using log directory 'D:/biocbuild/bbs-3.15-bioc/meat/OTUbase.Rcheck'
* using R Under development (unstable) (2021-11-21 r81221)
* using platform: x86_64-w64-mingw32 (64-bit)
* using session charset: ISO8859-1
* using option '--no-vignettes'
* checking for file 'OTUbase/DESCRIPTION' ... OK
* checking extension type ... Package
* this is package 'OTUbase' version '1.45.0'
* checking package namespace information ... OK
* checking package dependencies ... OK
* checking if this is a source package ... OK
* checking if there is a namespace ... OK
* checking for hidden files and directories ... OK
* checking for portable file names ... OK
* checking whether package 'OTUbase' can be installed ... OK
* checking installed package size ... OK
* checking package directory ... OK
* checking 'build' directory ... OK
* checking DESCRIPTION meta-information ... NOTE
Malformed Description field: should contain one or more complete sentences.
* checking top-level files ... OK
* checking for left-over files ... OK
* checking index information ... OK
* checking package subdirectories ... OK
* checking R files for non-ASCII characters ... OK
* checking R files for syntax errors ... OK
* checking whether the package can be loaded ... OK
* checking whether the package can be loaded with stated dependencies ... OK
* checking whether the package can be unloaded cleanly ... OK
* checking whether the namespace can be loaded with stated dependencies ... OK
* checking whether the namespace can be unloaded cleanly ... OK
* checking dependencies in R code ... NOTE
Package in Depends field not imported from: 'vegan'
These packages need to be imported from (in the NAMESPACE file)
for when this namespace is loaded but not attached.
* checking S3 generic/method consistency ... OK
* checking replacement functions ... OK
* checking foreign function calls ... OK
* checking R code for possible problems ... NOTE
.onAttach: warning in packageDescription("OTUbase", field = "Version"):
partial argument match of 'field' to 'fields'
.readADF: warning in read.table(file.path(dirPath, ADF), sep = "\t",
head = T): partial argument match of 'head' to 'header'
.readRDP: warning in read.table(file.path(dirPath, ADF), head = F, sep
= "\t", stringsAsFactors = F): partial argument match of 'head' to
'header'
.readrdpfix: warning in read.table(file.path(dirPath, rdpfile), head =
F, stringsAsFactors = F, sep = "\t"): partial argument match of
'head' to 'header'
readTAXset: warning in read.table(file.path(dirPath, namefile), head =
F, stringsAsFactors = F, sep = "\t"): partial argument match of
'head' to 'header'
o_diversity: no visible global function definition for 'diversity'
o_estimateR : <anonymous>: no visible global function definition for
'estimateR'
clusterSamples,.OTUset: no visible global function definition for
'vegdist'
clusterSamples,.TAXset: no visible global function definition for
'vegdist'
Undefined global functions or variables:
diversity estimateR vegdist
* checking Rd files ... OK
* checking Rd metadata ... OK
* checking Rd cross-references ... OK
* checking for missing documentation entries ... OK
* checking for code/documentation mismatches ... OK
* checking Rd \usage sections ... OK
* checking Rd contents ... OK
* checking for unstated dependencies in examples ... OK
* checking files in 'vignettes' ... OK
* checking examples ... OK
* checking for unstated dependencies in vignettes ... OK
* checking package vignettes in 'inst/doc' ... OK
* checking running R code from vignettes ... SKIPPED
* checking re-building of vignette outputs ... SKIPPED
* checking PDF version of manual ... OK
* DONE
Status: 3 NOTEs
See
'D:/biocbuild/bbs-3.15-bioc/meat/OTUbase.Rcheck/00check.log'
for details.
OTUbase.Rcheck/00install.out
##############################################################################
##############################################################################
###
### Running command:
###
### D:\biocbuild\bbs-3.15-bioc\R\bin\R.exe CMD INSTALL OTUbase
###
##############################################################################
##############################################################################
* installing to library 'D:/biocbuild/bbs-3.15-bioc/R/library'
* installing *source* package 'OTUbase' ...
** using staged installation
** R
** inst
** byte-compile and prepare package for lazy loading
** help
*** installing help indices
converting help for package 'OTUbase'
finding HTML links ... done
OTUbase-package html
OTUset-class html
TAXset-class html
abundance html
accessors html
finding level-2 HTML links ... done
assignmentData html
clusterSamples html
other_functions html
other_generics html
readOTUset html
readTAXset html
sampleData html
subOTUset html
subTAXset html
** building package indices
** installing vignettes
** testing if installed package can be loaded from temporary location
** testing if installed package can be loaded from final location
** testing if installed package keeps a record of temporary installation path
* DONE (OTUbase)
Making 'packages.html' ...Warning in packageDescription(i, lib.loc = lib, fields = "Title", encoding = "UTF-8") :
DESCRIPTION file of package 'MouseFM' is missing or broken
Warning in packageDescription(i, lib.loc = lib, fields = "Title", encoding = "UTF-8") :
DESCRIPTION file of package 'SMAD' is missing or broken
done
OTUbase.Rcheck/OTUbase-Ex.timings
| name | user | system | elapsed | |
| OTUset-class | 0.45 | 0.05 | 0.50 | |
| TAXset-class | 0.39 | 0.00 | 0.39 | |
| abundance | 0.18 | 0.01 | 0.20 | |
| accessors | 0.08 | 0.02 | 0.09 | |
| assignmentData | 0.08 | 0.00 | 0.08 | |
| clusterSamples | 0.09 | 0.00 | 0.11 | |
| other_functions | 0.07 | 0.00 | 0.08 | |
| other_generics | 0.06 | 0.01 | 0.08 | |
| readOTUset | 0.08 | 0.00 | 0.09 | |
| readTAXset | 0.08 | 0.00 | 0.08 | |
| sampleData | 0.06 | 0.00 | 0.06 | |
| subOTUset | 0.09 | 0.00 | 0.09 | |
| subTAXset | 0.08 | 0.00 | 0.08 | |