| Back to Multiple platform build/check report for BioC 3.15 |
|
This page was generated on 2022-03-18 11:08:10 -0400 (Fri, 18 Mar 2022).
| Hostname | OS | Arch (*) | R version | Installed pkgs |
|---|---|---|---|---|
| nebbiolo1 | Linux (Ubuntu 20.04.4 LTS) | x86_64 | R Under development (unstable) (2022-02-17 r81757) -- "Unsuffered Consequences" | 4334 |
| riesling1 | Windows Server 2019 Standard | x64 | R Under development (unstable) (2021-11-21 r81221) -- "Unsuffered Consequences" | 4097 |
| palomino3 | Windows Server 2022 Datacenter | x64 | R Under development (unstable) (2022-02-17 r81757 ucrt) -- "Unsuffered Consequences" | 4083 |
| merida1 | macOS 10.14.6 Mojave | x86_64 | R Under development (unstable) (2022-03-02 r81842) -- "Unsuffered Consequences" | 4134 |
| Click on any hostname to see more info about the system (e.g. compilers) (*) as reported by 'uname -p', except on Windows and Mac OS X | ||||
|
To the developers/maintainers of the NewWave package: - Please allow up to 24 hours (and sometimes 48 hours) for your latest push to git@git.bioconductor.org:packages/NewWave.git to reflect on this report. See How and When does the builder pull? When will my changes propagate? here for more information. - Make sure to use the following settings in order to reproduce any error or warning you see on this page. |
| Package 1301/2090 | Hostname | OS / Arch | INSTALL | BUILD | CHECK | BUILD BIN | ||||||||
| NewWave 1.5.0 (landing page) Federico Agostinis
| nebbiolo1 | Linux (Ubuntu 20.04.4 LTS) / x86_64 | OK | OK | OK | |||||||||
| riesling1 | Windows Server 2019 Standard / x64 | OK | OK | OK | OK | |||||||||
| palomino3 | Windows Server 2022 Datacenter / x64 | OK | OK | OK | OK | |||||||||
| merida1 | macOS 10.14.6 Mojave / x86_64 | OK | OK | OK | OK | |||||||||
| Package: NewWave |
| Version: 1.5.0 |
| Command: D:\biocbuild\bbs-3.15-bioc\R\bin\R.exe CMD check --no-multiarch --install=check:NewWave.install-out.txt --library=D:\biocbuild\bbs-3.15-bioc\R\library --no-vignettes --timings NewWave_1.5.0.tar.gz |
| StartedAt: 2022-03-17 19:44:23 -0400 (Thu, 17 Mar 2022) |
| EndedAt: 2022-03-17 19:47:07 -0400 (Thu, 17 Mar 2022) |
| EllapsedTime: 164.1 seconds |
| RetCode: 0 |
| Status: OK |
| CheckDir: NewWave.Rcheck |
| Warnings: 0 |
############################################################################## ############################################################################## ### ### Running command: ### ### D:\biocbuild\bbs-3.15-bioc\R\bin\R.exe CMD check --no-multiarch --install=check:NewWave.install-out.txt --library=D:\biocbuild\bbs-3.15-bioc\R\library --no-vignettes --timings NewWave_1.5.0.tar.gz ### ############################################################################## ############################################################################## * using log directory 'D:/biocbuild/bbs-3.15-bioc/meat/NewWave.Rcheck' * using R Under development (unstable) (2021-11-21 r81221) * using platform: x86_64-w64-mingw32 (64-bit) * using session charset: ISO8859-1 * using option '--no-vignettes' * checking for file 'NewWave/DESCRIPTION' ... OK * checking extension type ... Package * this is package 'NewWave' version '1.5.0' * package encoding: UTF-8 * checking package namespace information ... OK * checking package dependencies ... OK * checking if this is a source package ... OK * checking if there is a namespace ... OK * checking for hidden files and directories ... OK * checking for portable file names ... OK * checking whether package 'NewWave' can be installed ... OK * checking installed package size ... OK * checking package directory ... OK * checking 'build' directory ... OK * checking DESCRIPTION meta-information ... OK * checking top-level files ... OK * checking for left-over files ... OK * checking index information ... OK * checking package subdirectories ... OK * checking R files for non-ASCII characters ... OK * checking R files for syntax errors ... OK * checking whether the package can be loaded ... OK * checking whether the package can be loaded with stated dependencies ... OK * checking whether the package can be unloaded cleanly ... OK * checking whether the namespace can be loaded with stated dependencies ... OK * checking whether the namespace can be unloaded cleanly ... OK * checking dependencies in R code ... OK * checking S3 generic/method consistency ... OK * checking replacement functions ... OK * checking foreign function calls ... OK * checking R code for possible problems ... OK * checking Rd files ... OK * checking Rd metadata ... OK * checking Rd cross-references ... OK * checking for missing documentation entries ... OK * checking for code/documentation mismatches ... OK * checking Rd \usage sections ... OK * checking Rd contents ... OK * checking for unstated dependencies in examples ... OK * checking files in 'vignettes' ... OK * checking examples ... OK * checking for unstated dependencies in 'tests' ... OK * checking tests ... Running 'testthat.R' OK * checking for unstated dependencies in vignettes ... OK * checking package vignettes in 'inst/doc' ... OK * checking running R code from vignettes ... SKIPPED * checking re-building of vignette outputs ... SKIPPED * checking PDF version of manual ... OK * DONE Status: OK
NewWave.Rcheck/00install.out
##############################################################################
##############################################################################
###
### Running command:
###
### D:\biocbuild\bbs-3.15-bioc\R\bin\R.exe CMD INSTALL NewWave
###
##############################################################################
##############################################################################
* installing to library 'D:/biocbuild/bbs-3.15-bioc/R/library'
* installing *source* package 'NewWave' ...
** using staged installation
** R
** byte-compile and prepare package for lazy loading
** help
*** installing help indices
converting help for package 'NewWave'
finding HTML links ... done
delayed_initialization html
delayed_optimization html
initialization html
nb.loglik.matrix html
newAIC html
newAlpha html
newBIC html
newBeta html
newEpsilon_W html
newEpsilon_alpha html
newEpsilon_beta html
newEpsilon_gamma html
newEpsilon_zeta html
newFit html
newGamma html
newLogMu html
newMu html
newPhi html
newSim html
newTheta html
newV html
newW html
newWave html
newX html
newZeta html
newloglik html
newmodel-class html
newmodel html
newpenalty html
numberFactors html
numberFeatures html
numberParams html
numberSamples html
optimization html
setup html
** building package indices
** installing vignettes
** testing if installed package can be loaded from temporary location
** testing if installed package can be loaded from final location
** testing if installed package keeps a record of temporary installation path
* DONE (NewWave)
Making 'packages.html' ... done
NewWave.Rcheck/tests/testthat.Rout
R Under development (unstable) (2021-11-21 r81221) -- "Unsuffered Consequences"
Copyright (C) 2021 The R Foundation for Statistical Computing
Platform: x86_64-w64-mingw32/x64 (64-bit)
R is free software and comes with ABSOLUTELY NO WARRANTY.
You are welcome to redistribute it under certain conditions.
Type 'license()' or 'licence()' for distribution details.
R is a collaborative project with many contributors.
Type 'contributors()' for more information and
'citation()' on how to cite R or R packages in publications.
Type 'demo()' for some demos, 'help()' for on-line help, or
'help.start()' for an HTML browser interface to help.
Type 'q()' to quit R.
> library(testthat)
> library(NewWave)
Loading required package: SummarizedExperiment
Loading required package: MatrixGenerics
Loading required package: matrixStats
Attaching package: 'MatrixGenerics'
The following objects are masked from 'package:matrixStats':
colAlls, colAnyNAs, colAnys, colAvgsPerRowSet, colCollapse,
colCounts, colCummaxs, colCummins, colCumprods, colCumsums,
colDiffs, colIQRDiffs, colIQRs, colLogSumExps, colMadDiffs,
colMads, colMaxs, colMeans2, colMedians, colMins, colOrderStats,
colProds, colQuantiles, colRanges, colRanks, colSdDiffs, colSds,
colSums2, colTabulates, colVarDiffs, colVars, colWeightedMads,
colWeightedMeans, colWeightedMedians, colWeightedSds,
colWeightedVars, rowAlls, rowAnyNAs, rowAnys, rowAvgsPerColSet,
rowCollapse, rowCounts, rowCummaxs, rowCummins, rowCumprods,
rowCumsums, rowDiffs, rowIQRDiffs, rowIQRs, rowLogSumExps,
rowMadDiffs, rowMads, rowMaxs, rowMeans2, rowMedians, rowMins,
rowOrderStats, rowProds, rowQuantiles, rowRanges, rowRanks,
rowSdDiffs, rowSds, rowSums2, rowTabulates, rowVarDiffs, rowVars,
rowWeightedMads, rowWeightedMeans, rowWeightedMedians,
rowWeightedSds, rowWeightedVars
Loading required package: GenomicRanges
Loading required package: stats4
Loading required package: BiocGenerics
Attaching package: 'BiocGenerics'
The following objects are masked from 'package:stats':
IQR, mad, sd, var, xtabs
The following objects are masked from 'package:base':
Filter, Find, Map, Position, Reduce, anyDuplicated, append,
as.data.frame, basename, cbind, colnames, dirname, do.call,
duplicated, eval, evalq, get, grep, grepl, intersect, is.unsorted,
lapply, mapply, match, mget, order, paste, pmax, pmax.int, pmin,
pmin.int, rank, rbind, rownames, sapply, setdiff, sort, table,
tapply, union, unique, unsplit, which.max, which.min
Loading required package: S4Vectors
Attaching package: 'S4Vectors'
The following objects are masked from 'package:base':
I, expand.grid, unname
Loading required package: IRanges
Attaching package: 'IRanges'
The following object is masked from 'package:grDevices':
windows
Loading required package: GenomeInfoDb
Loading required package: Biobase
Welcome to Bioconductor
Vignettes contain introductory material; view with
'browseVignettes()'. To cite Bioconductor, see
'citation("Biobase")', and for packages 'citation("pkgname")'.
Attaching package: 'Biobase'
The following object is masked from 'package:MatrixGenerics':
rowMedians
The following objects are masked from 'package:matrixStats':
anyMissing, rowMedians
> Sys.setenv("R_TESTS" = "")
> test_check("NewWave")
Time of setup
user system elapsed
0.00 0.00 0.33
Time of initialization
user system elapsed
0.00 0.00 0.01
Time of dispersion optimization
user system elapsed
0 0 0
Time of right optimization
user system elapsed
0.00 0.00 0.14
Time of left optimization
user system elapsed
0.00 0.00 0.01
Time of dispersion optimization
user system elapsed
0 0 0
Time of right optimization
user system elapsed
0.00 0.00 0.02
Time of left optimization
user system elapsed
0.00 0.00 0.02
[ FAIL 0 | WARN 0 | SKIP 1 | PASS 53 ]
== Skipped tests ===============================================================
* empty test (1)
[ FAIL 0 | WARN 0 | SKIP 1 | PASS 53 ]
>
> proc.time()
user system elapsed
8.62 0.59 34.34
NewWave.Rcheck/NewWave-Ex.timings
| name | user | system | elapsed | |
| newAIC | 0.01 | 0.00 | 0.02 | |
| newAlpha | 0 | 0 | 0 | |
| newBIC | 0.02 | 0.00 | 0.02 | |
| newBeta | 0.01 | 0.00 | 0.01 | |
| newEpsilon_W | 0 | 0 | 0 | |
| newEpsilon_alpha | 0 | 0 | 0 | |
| newEpsilon_beta | 0 | 0 | 0 | |
| newEpsilon_gamma | 0 | 0 | 0 | |
| newEpsilon_zeta | 0 | 0 | 0 | |
| newFit | 0.16 | 0.06 | 1.55 | |
| newGamma | 0 | 0 | 0 | |
| newLogMu | 0 | 0 | 0 | |
| newMu | 0 | 0 | 0 | |
| newPhi | 0 | 0 | 0 | |
| newSim | 0 | 0 | 0 | |
| newTheta | 0 | 0 | 0 | |
| newV | 0.01 | 0.00 | 0.01 | |
| newW | 0 | 0 | 0 | |
| newWave | 0.33 | 0.00 | 0.91 | |
| newX | 0 | 0 | 0 | |
| newZeta | 0 | 0 | 0 | |
| newloglik | 0 | 0 | 0 | |
| newmodel | 0 | 0 | 0 | |
| newpenalty | 0.01 | 0.00 | 0.01 | |
| numberFactors | 0 | 0 | 0 | |
| numberFeatures | 0 | 0 | 0 | |
| numberParams | 0 | 0 | 0 | |
| numberSamples | 0 | 0 | 0 | |