| Back to Multiple platform build/check report for BioC 3.15 |
|
This page was generated on 2022-03-18 11:08:09 -0400 (Fri, 18 Mar 2022).
| Hostname | OS | Arch (*) | R version | Installed pkgs |
|---|---|---|---|---|
| nebbiolo1 | Linux (Ubuntu 20.04.4 LTS) | x86_64 | R Under development (unstable) (2022-02-17 r81757) -- "Unsuffered Consequences" | 4334 |
| riesling1 | Windows Server 2019 Standard | x64 | R Under development (unstable) (2021-11-21 r81221) -- "Unsuffered Consequences" | 4097 |
| palomino3 | Windows Server 2022 Datacenter | x64 | R Under development (unstable) (2022-02-17 r81757 ucrt) -- "Unsuffered Consequences" | 4083 |
| merida1 | macOS 10.14.6 Mojave | x86_64 | R Under development (unstable) (2022-03-02 r81842) -- "Unsuffered Consequences" | 4134 |
| Click on any hostname to see more info about the system (e.g. compilers) (*) as reported by 'uname -p', except on Windows and Mac OS X | ||||
|
To the developers/maintainers of the NanoTube package: - Please allow up to 24 hours (and sometimes 48 hours) for your latest push to git@git.bioconductor.org:packages/NanoTube.git to reflect on this report. See How and When does the builder pull? When will my changes propagate? here for more information. - Make sure to use the following settings in order to reproduce any error or warning you see on this page. |
| Package 1275/2090 | Hostname | OS / Arch | INSTALL | BUILD | CHECK | BUILD BIN | ||||||||
| NanoTube 1.1.0 (landing page) Caleb Class
| nebbiolo1 | Linux (Ubuntu 20.04.4 LTS) / x86_64 | OK | OK | OK | |||||||||
| riesling1 | Windows Server 2019 Standard / x64 | OK | OK | OK | OK | |||||||||
| palomino3 | Windows Server 2022 Datacenter / x64 | OK | OK | OK | OK | |||||||||
| merida1 | macOS 10.14.6 Mojave / x86_64 | OK | OK | OK | OK | |||||||||
| Package: NanoTube |
| Version: 1.1.0 |
| Command: D:\biocbuild\bbs-3.15-bioc\R\bin\R.exe CMD check --no-multiarch --install=check:NanoTube.install-out.txt --library=D:\biocbuild\bbs-3.15-bioc\R\library --no-vignettes --timings NanoTube_1.1.0.tar.gz |
| StartedAt: 2022-03-17 19:43:08 -0400 (Thu, 17 Mar 2022) |
| EndedAt: 2022-03-17 19:46:05 -0400 (Thu, 17 Mar 2022) |
| EllapsedTime: 176.3 seconds |
| RetCode: 0 |
| Status: OK |
| CheckDir: NanoTube.Rcheck |
| Warnings: 0 |
##############################################################################
##############################################################################
###
### Running command:
###
### D:\biocbuild\bbs-3.15-bioc\R\bin\R.exe CMD check --no-multiarch --install=check:NanoTube.install-out.txt --library=D:\biocbuild\bbs-3.15-bioc\R\library --no-vignettes --timings NanoTube_1.1.0.tar.gz
###
##############################################################################
##############################################################################
* using log directory 'D:/biocbuild/bbs-3.15-bioc/meat/NanoTube.Rcheck'
* using R Under development (unstable) (2021-11-21 r81221)
* using platform: x86_64-w64-mingw32 (64-bit)
* using session charset: ISO8859-1
* using option '--no-vignettes'
* checking for file 'NanoTube/DESCRIPTION' ... OK
* checking extension type ... Package
* this is package 'NanoTube' version '1.1.0'
* package encoding: UTF-8
* checking package namespace information ... OK
* checking package dependencies ... OK
* checking if this is a source package ... OK
* checking if there is a namespace ... OK
* checking for hidden files and directories ... OK
* checking for portable file names ... OK
* checking whether package 'NanoTube' can be installed ... OK
* checking installed package size ... OK
* checking package directory ... OK
* checking 'build' directory ... OK
* checking DESCRIPTION meta-information ... OK
* checking top-level files ... OK
* checking for left-over files ... OK
* checking index information ... OK
* checking package subdirectories ... OK
* checking R files for non-ASCII characters ... OK
* checking R files for syntax errors ... OK
* checking whether the package can be loaded ... OK
* checking whether the package can be loaded with stated dependencies ... OK
* checking whether the package can be unloaded cleanly ... OK
* checking whether the namespace can be loaded with stated dependencies ... OK
* checking whether the namespace can be unloaded cleanly ... OK
* checking dependencies in R code ... OK
* checking S3 generic/method consistency ... OK
* checking replacement functions ... OK
* checking foreign function calls ... OK
* checking R code for possible problems ... OK
* checking Rd files ... OK
* checking Rd metadata ... OK
* checking Rd cross-references ... OK
* checking for missing documentation entries ... OK
* checking for code/documentation mismatches ... OK
* checking Rd \usage sections ... OK
* checking Rd contents ... OK
* checking for unstated dependencies in examples ... OK
* checking contents of 'data' directory ... OK
* checking data for non-ASCII characters ... OK
* checking data for ASCII and uncompressed saves ... OK
* checking files in 'vignettes' ... OK
* checking examples ... OK
Examples with CPU (user + system) or elapsed time > 5s
user system elapsed
limmaToFGSEA 1.22 0.08 24.38
fgseaPostprocessing 0.99 0.03 13.59
groupedGSEAtoStackedReport 0.67 0.02 13.81
fgseaPostprocessingXLSX 0.61 0.02 13.80
fgseaToLEdge 0.61 0.01 12.64
groupFGSEA 0.50 0.00 13.77
* checking for unstated dependencies in 'tests' ... OK
* checking tests ...
Running 'testthat.R'
OK
* checking for unstated dependencies in vignettes ... OK
* checking package vignettes in 'inst/doc' ... OK
* checking running R code from vignettes ... SKIPPED
* checking re-building of vignette outputs ... SKIPPED
* checking PDF version of manual ... OK
* DONE
Status: OK
NanoTube.Rcheck/00install.out
##############################################################################
##############################################################################
###
### Running command:
###
### D:\biocbuild\bbs-3.15-bioc\R\bin\R.exe CMD INSTALL NanoTube
###
##############################################################################
##############################################################################
* installing to library 'D:/biocbuild/bbs-3.15-bioc/R/library'
* installing *source* package 'NanoTube' ...
** using staged installation
** R
** data
** inst
** byte-compile and prepare package for lazy loading
** help
*** installing help indices
converting help for package 'NanoTube'
finding HTML links ... done
ExamplePathways html
ExampleResults html
NanoTube html
deVolcano html
fgseaPostprocessing html
fgseaPostprocessingXLSX html
fgseaToLEdge html
gm_mean html
groupFGSEA html
groupedGSEAtoStackedReport html
limmaToFGSEA html
makeDiffExprFile html
makeFGSEAmasterTable html
makeNanoStringSetFromEset html
nanostringPCA html
negativeQC html
normalize_housekeeping html
normalize_pos_controls html
nsdiffToFGSEA html
positiveQC html
processNanostringData html
read_cpdb_sourceDBs html
read_cpdb_tab html
read_merge_rcc html
read_rcc html
read_sampleData html
remove_background html
runLimmaAnalysis html
unzip_dirs html
** building package indices
** installing vignettes
** testing if installed package can be loaded from temporary location
** testing if installed package can be loaded from final location
** testing if installed package keeps a record of temporary installation path
* DONE (NanoTube)
Making 'packages.html' ...Warning in packageDescription(i, lib.loc = lib, fields = "Title", encoding = "UTF-8") :
DESCRIPTION file of package 'IRanges' is missing or broken
Warning in packageDescription(i, lib.loc = lib, fields = "Title", encoding = "UTF-8") :
DESCRIPTION file of package 'PLPE' is missing or broken
Warning in packageDescription(i, lib.loc = lib, fields = "Title", encoding = "UTF-8") :
DESCRIPTION file of package 'savR' is missing or broken
done
NanoTube.Rcheck/tests/testthat.Rout
R Under development (unstable) (2021-11-21 r81221) -- "Unsuffered Consequences"
Copyright (C) 2021 The R Foundation for Statistical Computing
Platform: x86_64-w64-mingw32/x64 (64-bit)
R is free software and comes with ABSOLUTELY NO WARRANTY.
You are welcome to redistribute it under certain conditions.
Type 'license()' or 'licence()' for distribution details.
R is a collaborative project with many contributors.
Type 'contributors()' for more information and
'citation()' on how to cite R or R packages in publications.
Type 'demo()' for some demos, 'help()' for on-line help, or
'help.start()' for an HTML browser interface to help.
Type 'q()' to quit R.
> library(testthat)
> library(NanoTube)
Loading required package: Biobase
Loading required package: BiocGenerics
Attaching package: 'BiocGenerics'
The following objects are masked from 'package:stats':
IQR, mad, sd, var, xtabs
The following objects are masked from 'package:base':
Filter, Find, Map, Position, Reduce, anyDuplicated, append,
as.data.frame, basename, cbind, colnames, dirname, do.call,
duplicated, eval, evalq, get, grep, grepl, intersect, is.unsorted,
lapply, mapply, match, mget, order, paste, pmax, pmax.int, pmin,
pmin.int, rank, rbind, rownames, sapply, setdiff, sort, table,
tapply, union, unique, unsplit, which.max, which.min
Welcome to Bioconductor
Vignettes contain introductory material; view with
'browseVignettes()'. To cite Bioconductor, see
'citation("Biobase")', and for packages 'citation("pkgname")'.
Loading required package: ggplot2
>
> test_check("NanoTube")
[ FAIL 0 | WARN 0 | SKIP 0 | PASS 1 ]
>
> proc.time()
user system elapsed
2.65 0.32 2.95
NanoTube.Rcheck/NanoTube-Ex.timings
| name | user | system | elapsed | |
| deVolcano | 0.23 | 0.01 | 0.25 | |
| fgseaPostprocessing | 0.99 | 0.03 | 13.59 | |
| fgseaPostprocessingXLSX | 0.61 | 0.02 | 13.80 | |
| fgseaToLEdge | 0.61 | 0.01 | 12.64 | |
| gm_mean | 0 | 0 | 0 | |
| groupFGSEA | 0.50 | 0.00 | 13.77 | |
| groupedGSEAtoStackedReport | 0.67 | 0.02 | 13.81 | |
| limmaToFGSEA | 1.22 | 0.08 | 24.38 | |
| makeDiffExprFile | 0.01 | 0.00 | 0.01 | |
| makeNanoStringSetFromEset | 0.28 | 0.01 | 0.30 | |
| nanostringPCA | 0.61 | 0.12 | 0.74 | |
| negativeQC | 0.31 | 0.00 | 0.31 | |
| normalize_housekeeping | 0.33 | 0.00 | 0.33 | |
| normalize_pos_controls | 0.13 | 0.00 | 0.12 | |
| nsdiffToFGSEA | 0 | 0 | 0 | |
| positiveQC | 2.51 | 0.03 | 2.55 | |
| processNanostringData | 0.32 | 0.04 | 0.35 | |
| read_merge_rcc | 0.06 | 0.01 | 0.07 | |
| read_rcc | 0 | 0 | 0 | |
| read_sampleData | 0.05 | 0.05 | 0.10 | |
| remove_background | 0.17 | 0.00 | 0.17 | |
| runLimmaAnalysis | 0.14 | 0.00 | 0.14 | |