| Back to Multiple platform build/check report for BioC 3.15 |
|
This page was generated on 2022-03-18 11:08:02 -0400 (Fri, 18 Mar 2022).
| Hostname | OS | Arch (*) | R version | Installed pkgs |
|---|---|---|---|---|
| nebbiolo1 | Linux (Ubuntu 20.04.4 LTS) | x86_64 | R Under development (unstable) (2022-02-17 r81757) -- "Unsuffered Consequences" | 4334 |
| riesling1 | Windows Server 2019 Standard | x64 | R Under development (unstable) (2021-11-21 r81221) -- "Unsuffered Consequences" | 4097 |
| palomino3 | Windows Server 2022 Datacenter | x64 | R Under development (unstable) (2022-02-17 r81757 ucrt) -- "Unsuffered Consequences" | 4083 |
| merida1 | macOS 10.14.6 Mojave | x86_64 | R Under development (unstable) (2022-03-02 r81842) -- "Unsuffered Consequences" | 4134 |
| Click on any hostname to see more info about the system (e.g. compilers) (*) as reported by 'uname -p', except on Windows and Mac OS X | ||||
|
To the developers/maintainers of the MineICA package: - Please allow up to 24 hours (and sometimes 48 hours) for your latest push to git@git.bioconductor.org:packages/MineICA.git to reflect on this report. See How and When does the builder pull? When will my changes propagate? here for more information. - Make sure to use the following settings in order to reproduce any error or warning you see on this page. |
| Package 1159/2090 | Hostname | OS / Arch | INSTALL | BUILD | CHECK | BUILD BIN | ||||||||
| MineICA 1.35.0 (landing page) Anne Biton
| nebbiolo1 | Linux (Ubuntu 20.04.4 LTS) / x86_64 | OK | OK | WARNINGS | |||||||||
| riesling1 | Windows Server 2019 Standard / x64 | OK | OK | WARNINGS | OK | |||||||||
| palomino3 | Windows Server 2022 Datacenter / x64 | OK | OK | WARNINGS | OK | |||||||||
| merida1 | macOS 10.14.6 Mojave / x86_64 | OK | ERROR | skipped | skipped | |||||||||
| Package: MineICA |
| Version: 1.35.0 |
| Command: D:\biocbuild\bbs-3.15-bioc\R\bin\R.exe CMD INSTALL MineICA |
| StartedAt: 2022-03-17 16:15:49 -0400 (Thu, 17 Mar 2022) |
| EndedAt: 2022-03-17 16:17:29 -0400 (Thu, 17 Mar 2022) |
| EllapsedTime: 100.5 seconds |
| RetCode: 0 |
| Status: OK |
##############################################################################
##############################################################################
###
### Running command:
###
### D:\biocbuild\bbs-3.15-bioc\R\bin\R.exe CMD INSTALL MineICA
###
##############################################################################
##############################################################################
* installing to library 'D:/biocbuild/bbs-3.15-bioc/R/library'
* installing *source* package 'MineICA' ...
** using staged installation
** R
** data
** byte-compile and prepare package for lazy loading
Creating a new generic function for 'sampleNames<-' in package 'MineICA'
** help
*** installing help indices
converting help for package 'MineICA'
finding HTML links ... done
A html
Alist html
finding level-2 HTML links ... done
Rd warning: D:/biocbuild/bbs-3.15-bioc/meat/MineICA/man/Alist.Rd:26: missing link 'class-IcaSet'
Slist html
Rd warning: D:/biocbuild/bbs-3.15-bioc/meat/MineICA/man/Slist.Rd:28: missing link 'class-IcaSet'
addGenesToGoReport html
annot2Color html
annotCarbayo html
annotFeatures html
annotFeaturesComp html
annotFeaturesWithBiomaRt html
annotInGene html
annotReciprocal html
buildIcaSet html
buildMineICAParams html
build_sortHeatmap html
class-IcaSet html
Rd warning: D:/biocbuild/bbs-3.15-bioc/meat/MineICA/man/class-IcaSet.Rd:321: missing link 'class-IcaSet'
class-MineICAParams html
clusVarAnalysis html
clusterFastICARuns html
clusterSamplesByComp html
clusterSamplesByComp_multiple html
compareAn html
compareAn2graphfile html
compareGenes html
cor2An html
correl2Comp html
dat html
dataCarbayo html
doEnrichment html
getComp html
Rd warning: D:/biocbuild/bbs-3.15-bioc/meat/MineICA/man/getComp.Rd:33: missing link 'class-IcaSet'
getProj html
getSdExpr html
hgOver html
hypergeoAn html
icaSetCarbayo html
icaSetKim html
icaSetRiester html
icaSetStransky html
indComp html
mergeGostatsResults html
nbOccByGeneInComp html
nbOccInComp html
nbOccInComp_simple html
nodeAttrs html
plotAllMix html
plotCorGraph html
plotDens2classInComp_plotOnly html
plotDensAllAnnotInAllComp html
plotDensOneAnnotInAllComp html
plotMclust html
plotMix html
plotPosAnnotInComp html
plotPosOneAnnotInComp_ggplot html
plotPosOneAnnotLevInComp_ggplot html
plotPosSamplesInComp html
plot_heatmapsOnSel html
qualVarAnalysis html
quantVarAnalysis html
readA html
readS html
relativePath html
runAn html
runCompareIcaSets html
runEnrich html
runICA html
selectContrib html
selectFeatures_IQR html
selectWitnessGenes html
wilcoxOrKruskalOnA html
writeGenes html
writeGostatsHtmltable html
writeHtmlResTestsByAnnot html
writeProjByComp html
writeRnkFiles html
** building package indices
** installing vignettes
** testing if installed package can be loaded from temporary location
** testing if installed package can be loaded from final location
** testing if installed package keeps a record of temporary installation path
* DONE (MineICA)
Making 'packages.html' ... done