| Back to Multiple platform build/check report for BioC 3.15 |
|
This page was generated on 2022-03-18 11:08:00 -0400 (Fri, 18 Mar 2022).
| Hostname | OS | Arch (*) | R version | Installed pkgs |
|---|---|---|---|---|
| nebbiolo1 | Linux (Ubuntu 20.04.4 LTS) | x86_64 | R Under development (unstable) (2022-02-17 r81757) -- "Unsuffered Consequences" | 4334 |
| riesling1 | Windows Server 2019 Standard | x64 | R Under development (unstable) (2021-11-21 r81221) -- "Unsuffered Consequences" | 4097 |
| palomino3 | Windows Server 2022 Datacenter | x64 | R Under development (unstable) (2022-02-17 r81757 ucrt) -- "Unsuffered Consequences" | 4083 |
| merida1 | macOS 10.14.6 Mojave | x86_64 | R Under development (unstable) (2022-03-02 r81842) -- "Unsuffered Consequences" | 4134 |
| Click on any hostname to see more info about the system (e.g. compilers) (*) as reported by 'uname -p', except on Windows and Mac OS X | ||||
|
To the developers/maintainers of the Mfuzz package: - Please allow up to 24 hours (and sometimes 48 hours) for your latest push to git@git.bioconductor.org:packages/Mfuzz.git to reflect on this report. See How and When does the builder pull? When will my changes propagate? here for more information. - Make sure to use the following settings in order to reproduce any error or warning you see on this page. |
| Package 1138/2090 | Hostname | OS / Arch | INSTALL | BUILD | CHECK | BUILD BIN | ||||||||
| Mfuzz 2.55.0 (landing page) Matthias Futschik
| nebbiolo1 | Linux (Ubuntu 20.04.4 LTS) / x86_64 | OK | OK | OK | |||||||||
| riesling1 | Windows Server 2019 Standard / x64 | OK | OK | OK | OK | |||||||||
| palomino3 | Windows Server 2022 Datacenter / x64 | OK | OK | OK | OK | |||||||||
| merida1 | macOS 10.14.6 Mojave / x86_64 | OK | OK | OK | OK | |||||||||
| Package: Mfuzz |
| Version: 2.55.0 |
| Command: D:\biocbuild\bbs-3.15-bioc\R\bin\R.exe CMD check --no-multiarch --install=check:Mfuzz.install-out.txt --library=D:\biocbuild\bbs-3.15-bioc\R\library --no-vignettes --timings Mfuzz_2.55.0.tar.gz |
| StartedAt: 2022-03-17 19:33:47 -0400 (Thu, 17 Mar 2022) |
| EndedAt: 2022-03-17 19:34:30 -0400 (Thu, 17 Mar 2022) |
| EllapsedTime: 42.6 seconds |
| RetCode: 0 |
| Status: OK |
| CheckDir: Mfuzz.Rcheck |
| Warnings: 0 |
##############################################################################
##############################################################################
###
### Running command:
###
### D:\biocbuild\bbs-3.15-bioc\R\bin\R.exe CMD check --no-multiarch --install=check:Mfuzz.install-out.txt --library=D:\biocbuild\bbs-3.15-bioc\R\library --no-vignettes --timings Mfuzz_2.55.0.tar.gz
###
##############################################################################
##############################################################################
* using log directory 'D:/biocbuild/bbs-3.15-bioc/meat/Mfuzz.Rcheck'
* using R Under development (unstable) (2021-11-21 r81221)
* using platform: x86_64-w64-mingw32 (64-bit)
* using session charset: ISO8859-1
* using option '--no-vignettes'
* checking for file 'Mfuzz/DESCRIPTION' ... OK
* this is package 'Mfuzz' version '2.55.0'
* checking package namespace information ... OK
* checking package dependencies ... OK
* checking if this is a source package ... OK
* checking if there is a namespace ... OK
* checking for hidden files and directories ... OK
* checking for portable file names ... OK
* checking whether package 'Mfuzz' can be installed ... OK
* checking installed package size ... OK
* checking package directory ... OK
* checking 'build' directory ... OK
* checking DESCRIPTION meta-information ... NOTE
Malformed Description field: should contain one or more complete sentences.
* checking top-level files ... OK
* checking for left-over files ... OK
* checking index information ... OK
* checking package subdirectories ... OK
* checking R files for non-ASCII characters ... OK
* checking R files for syntax errors ... OK
* checking whether the package can be loaded ... OK
* checking whether the package can be loaded with stated dependencies ... OK
* checking whether the package can be unloaded cleanly ... OK
* checking whether the namespace can be loaded with stated dependencies ... OK
* checking whether the namespace can be unloaded cleanly ... OK
* checking dependencies in R code ... NOTE
'library' or 'require' call to 'marray' in package code.
Please use :: or requireNamespace() instead.
See section 'Suggested packages' in the 'Writing R Extensions' manual.
Packages in Depends field not imported from:
'Biobase' 'e1071'
These packages need to be imported from (in the NAMESPACE file)
for when this namespace is loaded but not attached.
* checking S3 generic/method consistency ... OK
* checking replacement functions ... OK
* checking foreign function calls ... OK
* checking R code for possible problems ... NOTE
Dmin: warning in mfuzz(eset, c = i, m = m): partial argument match of
'c' to 'centers'
Mfuzzgui : objectBrowser2 : viewEnv: warning in ls(env = env, all =
TRUE): partial argument match of 'env' to 'envir'
Mfuzzgui : objectBrowser2 : viewEnv: warning in ls(env = env, all =
TRUE): partial argument match of 'all' to 'all.names'
kmeans2.plot: no visible global function definition for 'X11'
mfuzz: no visible global function definition for 'cmeans'
mfuzz.plot: no visible global function definition for 'X11'
mfuzz.plot2: no visible global function definition for 'rgb'
mfuzz.plot2: no visible global function definition for 'X11'
mfuzzColorBar: no visible global function definition for 'rgb'
mfuzzColorBar: no visible global function definition for 'maColorBar'
Undefined global functions or variables:
X11 cmeans maColorBar rgb
Consider adding
importFrom("grDevices", "X11", "rgb")
to your NAMESPACE file.
* checking Rd files ... OK
* checking Rd metadata ... OK
* checking Rd cross-references ... OK
* checking for missing documentation entries ... OK
* checking for code/documentation mismatches ... OK
* checking Rd \usage sections ... OK
* checking Rd contents ... OK
* checking for unstated dependencies in examples ... OK
* checking contents of 'data' directory ... OK
* checking data for non-ASCII characters ... OK
* checking data for ASCII and uncompressed saves ... OK
* checking files in 'vignettes' ... OK
* checking examples ... OK
* checking for unstated dependencies in vignettes ... OK
* checking package vignettes in 'inst/doc' ... OK
* checking running R code from vignettes ... SKIPPED
* checking re-building of vignette outputs ... SKIPPED
* checking PDF version of manual ... OK
* DONE
Status: 3 NOTEs
See
'D:/biocbuild/bbs-3.15-bioc/meat/Mfuzz.Rcheck/00check.log'
for details.
Mfuzz.Rcheck/00install.out
##############################################################################
##############################################################################
###
### Running command:
###
### D:\biocbuild\bbs-3.15-bioc\R\bin\R.exe CMD INSTALL Mfuzz
###
##############################################################################
##############################################################################
* installing to library 'D:/biocbuild/bbs-3.15-bioc/R/library'
* installing *source* package 'Mfuzz' ...
** using staged installation
** R
** data
** inst
** byte-compile and prepare package for lazy loading
** help
*** installing help indices
converting help for package 'Mfuzz'
finding HTML links ... done
Dmin html
Mfuzzgui html
acore html
cselection html
fill.NA html
filter.NA html
filter.std html
kmeans2 html
kmeans2.plot html
membership html
mestimate html
mfuzz html
mfuzz.plot html
mfuzz.plot2 html
mfuzzColorBar html
overlap html
overlap.plot html
partcoef html
randomise html
standardise html
standardise2 html
table2eset html
top.count html
yeast html
yeast.table html
yeast.table2 html
** building package indices
** installing vignettes
** testing if installed package can be loaded from temporary location
** testing if installed package can be loaded from final location
** testing if installed package keeps a record of temporary installation path
* DONE (Mfuzz)
Making 'packages.html' ...Warning in packageDescription(i, lib.loc = lib, fields = "Title", encoding = "UTF-8") :
DESCRIPTION file of package 'SQLDataFrame' is missing or broken
done
Mfuzz.Rcheck/Mfuzz-Ex.timings
| name | user | system | elapsed | |
| Dmin | 0 | 0 | 0 | |
| acore | 0 | 0 | 0 | |
| cselection | 0 | 0 | 0 | |
| fill.NA | 0 | 0 | 0 | |
| filter.NA | 0 | 0 | 0 | |
| filter.std | 0.25 | 0.02 | 0.27 | |
| kmeans2 | 0 | 0 | 0 | |
| kmeans2.plot | 0 | 0 | 0 | |
| membership | 0 | 0 | 0 | |
| mestimate | 0 | 0 | 0 | |
| mfuzz | 0 | 0 | 0 | |
| mfuzz.plot | 0 | 0 | 0 | |
| mfuzz.plot2 | 0.01 | 0.00 | 0.01 | |
| mfuzzColorBar | 0 | 0 | 0 | |
| overlap | 0 | 0 | 0 | |
| overlap.plot | 0 | 0 | 0 | |
| partcoef | 0 | 0 | 0 | |
| randomise | 0.06 | 0.00 | 0.07 | |
| standardise | 0 | 0 | 0 | |
| standardise2 | 0 | 0 | 0 | |
| top.count | 0 | 0 | 0 | |