| Back to Multiple platform build/check report for BioC 3.15 |
|
This page was generated on 2022-03-18 11:08:01 -0400 (Fri, 18 Mar 2022).
| Hostname | OS | Arch (*) | R version | Installed pkgs |
|---|---|---|---|---|
| nebbiolo1 | Linux (Ubuntu 20.04.4 LTS) | x86_64 | R Under development (unstable) (2022-02-17 r81757) -- "Unsuffered Consequences" | 4334 |
| riesling1 | Windows Server 2019 Standard | x64 | R Under development (unstable) (2021-11-21 r81221) -- "Unsuffered Consequences" | 4097 |
| palomino3 | Windows Server 2022 Datacenter | x64 | R Under development (unstable) (2022-02-17 r81757 ucrt) -- "Unsuffered Consequences" | 4083 |
| merida1 | macOS 10.14.6 Mojave | x86_64 | R Under development (unstable) (2022-03-02 r81842) -- "Unsuffered Consequences" | 4134 |
| Click on any hostname to see more info about the system (e.g. compilers) (*) as reported by 'uname -p', except on Windows and Mac OS X | ||||
|
To the developers/maintainers of the MIGSA package: - Please allow up to 24 hours (and sometimes 48 hours) for your latest push to git@git.bioconductor.org:packages/MIGSA.git to reflect on this report. See How and When does the builder pull? When will my changes propagate? here for more information. - Make sure to use the following settings in order to reproduce any error or warning you see on this page. |
| Package 1154/2090 | Hostname | OS / Arch | INSTALL | BUILD | CHECK | BUILD BIN | ||||||||
| MIGSA 1.19.0 (landing page) Juan C. Rodriguez
| nebbiolo1 | Linux (Ubuntu 20.04.4 LTS) / x86_64 | OK | OK | OK | |||||||||
| riesling1 | Windows Server 2019 Standard / x64 | OK | OK | OK | OK | |||||||||
| palomino3 | Windows Server 2022 Datacenter / x64 | OK | OK | OK | OK | |||||||||
| merida1 | macOS 10.14.6 Mojave / x86_64 | OK | OK | OK | OK | |||||||||
| Package: MIGSA |
| Version: 1.19.0 |
| Command: rm -rf MIGSA.buildbin-libdir && mkdir MIGSA.buildbin-libdir && D:\biocbuild\bbs-3.15-bioc\R\bin\R.exe CMD INSTALL --build --library=MIGSA.buildbin-libdir MIGSA_1.19.0.tar.gz |
| StartedAt: 2022-03-17 21:21:03 -0400 (Thu, 17 Mar 2022) |
| EndedAt: 2022-03-17 21:22:45 -0400 (Thu, 17 Mar 2022) |
| EllapsedTime: 101.7 seconds |
| RetCode: 0 |
| Status: OK |
| PackageFile: MIGSA_1.19.0.zip |
| PackageFileSize: 3.08 MiB |
##############################################################################
##############################################################################
###
### Running command:
###
### rm -rf MIGSA.buildbin-libdir && mkdir MIGSA.buildbin-libdir && D:\biocbuild\bbs-3.15-bioc\R\bin\R.exe CMD INSTALL --build --library=MIGSA.buildbin-libdir MIGSA_1.19.0.tar.gz
###
##############################################################################
##############################################################################
* installing *source* package 'MIGSA' ...
** using staged installation
** R
** data
** inst
** byte-compile and prepare package for lazy loading
** help
*** installing help indices
converting help for package 'MIGSA'
finding HTML links ... done
ExprData-class html
FitOptions-class html
GSEAparams-class html
Genesets-as.Genesets html
Genesets-enrichr html
Genesets-geneSetsFromFile html
Genesets-loadGo html
IGSAinput-class html
IGSAinput-getDEGenes html
IGSAinput-getterSetters html
REDIRECT:topic Previous alias or file overwritten by alias: D:/biocbuild/bbs-3.15-bioc/meat/MIGSA.buildbin-libdir/00LOCK-MIGSA/00new/MIGSA/help/fitOptions.html
REDIRECT:topic Previous alias or file overwritten by alias: D:/biocbuild/bbs-3.15-bioc/meat/MIGSA.buildbin-libdir/00LOCK-MIGSA/00new/MIGSA/help/gseaParams.html
MIGSA html
MIGSAPackage html
MIGSAmGSZ html
MIGSAres-GoAnalysis html
MIGSAres-class html
MIGSAres-common html
MIGSAres-genesManipulation html
MIGSAres-getAdditionalInfo html
MIGSAres-plots html
MIGSAres-setEnrCutoff html
SEAparams-class html
REDIRECT:topic Previous alias or file overwritten by alias: D:/biocbuild/bbs-3.15-bioc/meat/MIGSA.buildbin-libdir/00LOCK-MIGSA/00new/MIGSA/help/SEAparams.html
bcMigsaRes html
migsaRes html
summaryFunctions html
** building package indices
** installing vignettes
** testing if installed package can be loaded from temporary location
** testing if installed package can be loaded from final location
** testing if installed package keeps a record of temporary installation path
* MD5 sums
packaged installation of 'MIGSA' as MIGSA_1.19.0.zip
* DONE (MIGSA)