| Back to Multiple platform build/check report for BioC 3.15 |
|
This page was generated on 2022-10-19 13:21:45 -0400 (Wed, 19 Oct 2022).
| Hostname | OS | Arch (*) | R version | Installed pkgs |
|---|---|---|---|---|
| nebbiolo1 | Linux (Ubuntu 20.04.5 LTS) | x86_64 | 4.2.1 (2022-06-23) -- "Funny-Looking Kid" | 4386 |
| palomino3 | Windows Server 2022 Datacenter | x64 | 4.2.1 (2022-06-23 ucrt) -- "Funny-Looking Kid" | 4138 |
| merida1 | macOS 10.14.6 Mojave | x86_64 | 4.2.1 (2022-06-23) -- "Funny-Looking Kid" | 4205 |
| Click on any hostname to see more info about the system (e.g. compilers) (*) as reported by 'uname -p', except on Windows and Mac OS X | ||||
|
To the developers/maintainers of the MAGeCKFlute package: - Please allow up to 24 hours (and sometimes 48 hours) for your latest push to git@git.bioconductor.org:packages/MAGeCKFlute.git to reflect on this report. See How and When does the builder pull? When will my changes propagate? for more information. - Make sure to use the following settings in order to reproduce any error or warning you see on this page. |
| Package 1063/2140 | Hostname | OS / Arch | INSTALL | BUILD | CHECK | BUILD BIN | ||||||||
| MAGeCKFlute 2.0.0 (landing page) Wubing Zhang
| nebbiolo1 | Linux (Ubuntu 20.04.5 LTS) / x86_64 | OK | OK | OK | |||||||||
| palomino3 | Windows Server 2022 Datacenter / x64 | OK | OK | OK | OK | |||||||||
| merida1 | macOS 10.14.6 Mojave / x86_64 | OK | OK | OK | OK | |||||||||
| Package: MAGeCKFlute |
| Version: 2.0.0 |
| Command: F:\biocbuild\bbs-3.15-bioc\R\bin\R.exe CMD check --no-multiarch --install=check:MAGeCKFlute.install-out.txt --library=F:\biocbuild\bbs-3.15-bioc\R\library --no-vignettes --timings MAGeCKFlute_2.0.0.tar.gz |
| StartedAt: 2022-10-19 01:29:24 -0400 (Wed, 19 Oct 2022) |
| EndedAt: 2022-10-19 01:34:25 -0400 (Wed, 19 Oct 2022) |
| EllapsedTime: 301.2 seconds |
| RetCode: 0 |
| Status: OK |
| CheckDir: MAGeCKFlute.Rcheck |
| Warnings: 0 |
##############################################################################
##############################################################################
###
### Running command:
###
### F:\biocbuild\bbs-3.15-bioc\R\bin\R.exe CMD check --no-multiarch --install=check:MAGeCKFlute.install-out.txt --library=F:\biocbuild\bbs-3.15-bioc\R\library --no-vignettes --timings MAGeCKFlute_2.0.0.tar.gz
###
##############################################################################
##############################################################################
* using log directory 'F:/biocbuild/bbs-3.15-bioc/meat/MAGeCKFlute.Rcheck'
* using R version 4.2.1 (2022-06-23 ucrt)
* using platform: x86_64-w64-mingw32 (64-bit)
* using session charset: UTF-8
* using option '--no-vignettes'
* checking for file 'MAGeCKFlute/DESCRIPTION' ... OK
* checking extension type ... Package
* this is package 'MAGeCKFlute' version '2.0.0'
* package encoding: UTF-8
* checking package namespace information ... OK
* checking package dependencies ... OK
* checking if this is a source package ... OK
* checking if there is a namespace ... OK
* checking for hidden files and directories ... OK
* checking for portable file names ... OK
* checking whether package 'MAGeCKFlute' can be installed ... OK
* checking installed package size ... NOTE
installed size is 20.7Mb
sub-directories of 1Mb or more:
extdata 20.3Mb
* checking package directory ... OK
* checking 'build' directory ... OK
* checking DESCRIPTION meta-information ... OK
* checking top-level files ... OK
* checking for left-over files ... OK
* checking index information ... OK
* checking package subdirectories ... OK
* checking R files for non-ASCII characters ... OK
* checking R files for syntax errors ... OK
* checking whether the package can be loaded ... OK
* checking whether the package can be loaded with stated dependencies ... OK
* checking whether the package can be unloaded cleanly ... OK
* checking whether the namespace can be loaded with stated dependencies ... OK
* checking whether the namespace can be unloaded cleanly ... OK
* checking dependencies in R code ... OK
* checking S3 generic/method consistency ... OK
* checking replacement functions ... OK
* checking foreign function calls ... OK
* checking R code for possible problems ... OK
* checking Rd files ... OK
* checking Rd metadata ... OK
* checking Rd cross-references ... OK
* checking for missing documentation entries ... OK
* checking for code/documentation mismatches ... OK
* checking Rd \usage sections ... OK
* checking Rd contents ... OK
* checking for unstated dependencies in examples ... OK
* checking files in 'vignettes' ... OK
* checking examples ... OK
Examples with CPU (user + system) or elapsed time > 5s
user system elapsed
MAView 26.42 0.13 26.56
enrich.ORT 5.18 0.05 5.97
* checking for unstated dependencies in vignettes ... OK
* checking package vignettes in 'inst/doc' ... OK
* checking running R code from vignettes ... SKIPPED
* checking re-building of vignette outputs ... SKIPPED
* checking PDF version of manual ... OK
* DONE
Status: 1 NOTE
See
'F:/biocbuild/bbs-3.15-bioc/meat/MAGeCKFlute.Rcheck/00check.log'
for details.
MAGeCKFlute.Rcheck/00install.out
############################################################################## ############################################################################## ### ### Running command: ### ### F:\biocbuild\bbs-3.15-bioc\R\bin\R.exe CMD INSTALL MAGeCKFlute ### ############################################################################## ############################################################################## * installing to library 'F:/biocbuild/bbs-3.15-bioc/R/library' * installing *source* package 'MAGeCKFlute' ... ** using staged installation ** R ** inst ** byte-compile and prepare package for lazy loading snapshotDate(): 2022-04-26 ** help *** installing help indices ** building package indices ** installing vignettes ** testing if installed package can be loaded from temporary location snapshotDate(): 2022-04-26 ** testing if installed package can be loaded from final location snapshotDate(): 2022-04-26 ** testing if installed package keeps a record of temporary installation path * DONE (MAGeCKFlute)
MAGeCKFlute.Rcheck/MAGeCKFlute-Ex.timings
| name | user | system | elapsed | |
| BarView | 0.33 | 0.02 | 0.34 | |
| BatchRemove | 2.48 | 0.04 | 2.55 | |
| ConsistencyView | 1.17 | 0.11 | 1.28 | |
| CutoffCalling | 0 | 0 | 0 | |
| DensityDiffView | 1 | 0 | 1 | |
| DensityView | 0.8 | 0.0 | 0.8 | |
| EnrichAnalyzer | 0.00 | 0.00 | 0.06 | |
| EnrichedFilter | 0.00 | 0.02 | 0.02 | |
| EnrichedGeneView | 0.00 | 0.01 | 0.01 | |
| EnrichedView | 0.00 | 0.02 | 0.02 | |
| FluteMLE | 0 | 0 | 0 | |
| FluteRRA | 0 | 0 | 0 | |
| HeatmapView | 0.49 | 0.00 | 0.48 | |
| IdentBarView | 0.11 | 0.00 | 0.11 | |
| IncorporateDepmap | 0.2 | 0.0 | 0.2 | |
| MAView | 26.42 | 0.13 | 26.56 | |
| MapRatesView | 0.41 | 0.00 | 0.41 | |
| NormalizeBeta | 1 | 0 | 1 | |
| OmitCommonEssential | 0 | 0 | 0 | |
| RankView | 0.78 | 0.03 | 0.81 | |
| ReadBeta | 0.37 | 0.02 | 0.39 | |
| ReadRRA | 0.24 | 0.01 | 0.25 | |
| ReadsgRRA | 0.01 | 0.00 | 0.02 | |
| ResembleDepmap | 0.21 | 0.00 | 0.20 | |
| ScatterView | 3.36 | 0.00 | 3.36 | |
| Selector | 1.35 | 0.01 | 1.38 | |
| SquareView | 1.58 | 0.02 | 1.59 | |
| TransGeneID | 1.64 | 0.05 | 2.56 | |
| ViolinView | 1.55 | 0.06 | 1.61 | |
| VolcanoView | 2.06 | 0.06 | 2.13 | |
| arrangePathview | 0.52 | 0.02 | 0.53 | |
| enrich.GSE | 0.01 | 0.00 | 0.02 | |
| enrich.HGT | 2.14 | 0.07 | 2.23 | |
| enrich.ORT | 5.18 | 0.05 | 5.97 | |
| getCols | 0 | 0 | 0 | |
| getGeneAnn | 0 | 0 | 0 | |
| getOrg | 0 | 0 | 0 | |
| getOrtAnn | 0 | 0 | 0 | |
| gsGetter | 0.23 | 0.00 | 0.35 | |
| hclustView | 0.41 | 0.01 | 0.42 | |
| loadDepmap | 0 | 0 | 0 | |
| normalize.loess | 0.90 | 0.00 | 0.91 | |
| sgRankView | 0.14 | 0.00 | 0.14 | |
| writeGMT | 0.04 | 0.02 | 0.04 | |