| Back to Multiple platform build/check report for BioC 3.15 |
|
This page was generated on 2022-10-19 13:21:43 -0400 (Wed, 19 Oct 2022).
| Hostname | OS | Arch (*) | R version | Installed pkgs |
|---|---|---|---|---|
| nebbiolo1 | Linux (Ubuntu 20.04.5 LTS) | x86_64 | 4.2.1 (2022-06-23) -- "Funny-Looking Kid" | 4386 |
| palomino3 | Windows Server 2022 Datacenter | x64 | 4.2.1 (2022-06-23 ucrt) -- "Funny-Looking Kid" | 4138 |
| merida1 | macOS 10.14.6 Mojave | x86_64 | 4.2.1 (2022-06-23) -- "Funny-Looking Kid" | 4205 |
| Click on any hostname to see more info about the system (e.g. compilers) (*) as reported by 'uname -p', except on Windows and Mac OS X | ||||
|
To the developers/maintainers of the LiquidAssociation package: - Please allow up to 24 hours (and sometimes 48 hours) for your latest push to git@git.bioconductor.org:packages/LiquidAssociation.git to reflect on this report. See How and When does the builder pull? When will my changes propagate? for more information. - Make sure to use the following settings in order to reproduce any error or warning you see on this page. |
| Package 1030/2140 | Hostname | OS / Arch | INSTALL | BUILD | CHECK | BUILD BIN | ||||||||
| LiquidAssociation 1.50.0 (landing page) Yen-Yi Ho
| nebbiolo1 | Linux (Ubuntu 20.04.5 LTS) / x86_64 | OK | OK | OK | |||||||||
| palomino3 | Windows Server 2022 Datacenter / x64 | OK | OK | OK | OK | |||||||||
| merida1 | macOS 10.14.6 Mojave / x86_64 | OK | OK | OK | OK | |||||||||
| Package: LiquidAssociation |
| Version: 1.50.0 |
| Command: F:\biocbuild\bbs-3.15-bioc\R\bin\R.exe CMD check --no-multiarch --install=check:LiquidAssociation.install-out.txt --library=F:\biocbuild\bbs-3.15-bioc\R\library --no-vignettes --timings LiquidAssociation_1.50.0.tar.gz |
| StartedAt: 2022-10-19 01:23:45 -0400 (Wed, 19 Oct 2022) |
| EndedAt: 2022-10-19 01:25:52 -0400 (Wed, 19 Oct 2022) |
| EllapsedTime: 127.0 seconds |
| RetCode: 0 |
| Status: OK |
| CheckDir: LiquidAssociation.Rcheck |
| Warnings: 0 |
##############################################################################
##############################################################################
###
### Running command:
###
### F:\biocbuild\bbs-3.15-bioc\R\bin\R.exe CMD check --no-multiarch --install=check:LiquidAssociation.install-out.txt --library=F:\biocbuild\bbs-3.15-bioc\R\library --no-vignettes --timings LiquidAssociation_1.50.0.tar.gz
###
##############################################################################
##############################################################################
* using log directory 'F:/biocbuild/bbs-3.15-bioc/meat/LiquidAssociation.Rcheck'
* using R version 4.2.1 (2022-06-23 ucrt)
* using platform: x86_64-w64-mingw32 (64-bit)
* using session charset: UTF-8
* using option '--no-vignettes'
* checking for file 'LiquidAssociation/DESCRIPTION' ... OK
* checking extension type ... Package
* this is package 'LiquidAssociation' version '1.50.0'
* checking package namespace information ... OK
* checking package dependencies ... OK
* checking if this is a source package ... OK
* checking if there is a namespace ... OK
* checking for hidden files and directories ... OK
* checking for portable file names ... OK
* checking whether package 'LiquidAssociation' can be installed ... OK
* checking installed package size ... OK
* checking package directory ... OK
* checking 'build' directory ... OK
* checking DESCRIPTION meta-information ... NOTE
Package listed in more than one of Depends, Imports, Suggests, Enhances:
'methods'
A package should be listed in only one of these fields.
* checking top-level files ... OK
* checking for left-over files ... OK
* checking index information ... OK
* checking package subdirectories ... OK
* checking R files for non-ASCII characters ... OK
* checking R files for syntax errors ... OK
* checking whether the package can be loaded ... OK
* checking whether the package can be loaded with stated dependencies ... OK
* checking whether the package can be unloaded cleanly ... OK
* checking whether the namespace can be loaded with stated dependencies ... OK
* checking whether the namespace can be unloaded cleanly ... OK
* checking dependencies in R code ... NOTE
Packages in Depends field not imported from:
'geepack' 'org.Sc.sgd.db' 'yeastCC'
These packages need to be imported from (in the NAMESPACE file)
for when this namespace is loaded but not attached.
* checking S3 generic/method consistency ... OK
* checking replacement functions ... OK
* checking foreign function calls ... OK
* checking R code for possible problems ... NOTE
CNM.full,matrix: no visible global function definition for 'geese'
CNM.full,matrix: no visible binding for global variable 'groupid'
CNM.full,matrix: no visible binding for global variable 'visit'
CNM.full,matrix: no visible global function definition for
'geese.control'
CNM.simple,matrix: no visible global function definition for 'geese'
CNM.simple,matrix: no visible binding for global variable 'groupid'
CNM.simple,matrix: no visible binding for global variable 'visit'
CNM.simple,matrix: no visible global function definition for
'geese.control'
Undefined global functions or variables:
geese geese.control groupid visit
* checking Rd files ... OK
* checking Rd metadata ... OK
* checking Rd cross-references ... OK
* checking for missing documentation entries ... OK
* checking for code/documentation mismatches ... OK
* checking Rd \usage sections ... OK
* checking Rd contents ... OK
* checking for unstated dependencies in examples ... OK
* checking sizes of PDF files under 'inst/doc' ... OK
* checking files in 'vignettes' ... OK
* checking examples ... OK
Examples with CPU (user + system) or elapsed time > 5s
user system elapsed
getsGLA-methods 5.14 0.08 5.24
* checking for unstated dependencies in vignettes ... OK
* checking package vignettes in 'inst/doc' ... OK
* checking running R code from vignettes ... SKIPPED
* checking re-building of vignette outputs ... SKIPPED
* checking PDF version of manual ... OK
* DONE
Status: 3 NOTEs
See
'F:/biocbuild/bbs-3.15-bioc/meat/LiquidAssociation.Rcheck/00check.log'
for details.
LiquidAssociation.Rcheck/00install.out
############################################################################## ############################################################################## ### ### Running command: ### ### F:\biocbuild\bbs-3.15-bioc\R\bin\R.exe CMD INSTALL LiquidAssociation ### ############################################################################## ############################################################################## * installing to library 'F:/biocbuild/bbs-3.15-bioc/R/library' * installing *source* package 'LiquidAssociation' ... ** using staged installation ** R ** byte-compile and prepare package for lazy loading ** help *** installing help indices ** building package indices ** installing vignettes ** testing if installed package can be loaded from temporary location ** testing if installed package can be loaded from final location ** testing if installed package keeps a record of temporary installation path * DONE (LiquidAssociation)
LiquidAssociation.Rcheck/LiquidAssociation-Ex.timings
| name | user | system | elapsed | |
| CNM-class | 0 | 0 | 0 | |
| CNM.full-methods | 0.04 | 0.00 | 0.05 | |
| CNM.simple-methods | 0.01 | 0.00 | 0.01 | |
| GLA-methods | 0 | 0 | 0 | |
| LA-methods | 0 | 0 | 0 | |
| LiquidAssociation-package | 0.10 | 0.00 | 0.09 | |
| getsGLA-methods | 5.14 | 0.08 | 5.24 | |
| getsLA-methods | 2.36 | 0.06 | 2.42 | |
| plotGLA-methods | 0.00 | 0.00 | 1.04 | |