| Back to Multiple platform build/check report for BioC 3.15 |
|
This page was generated on 2022-03-18 11:07:50 -0400 (Fri, 18 Mar 2022).
| Hostname | OS | Arch (*) | R version | Installed pkgs |
|---|---|---|---|---|
| nebbiolo1 | Linux (Ubuntu 20.04.4 LTS) | x86_64 | R Under development (unstable) (2022-02-17 r81757) -- "Unsuffered Consequences" | 4334 |
| riesling1 | Windows Server 2019 Standard | x64 | R Under development (unstable) (2021-11-21 r81221) -- "Unsuffered Consequences" | 4097 |
| palomino3 | Windows Server 2022 Datacenter | x64 | R Under development (unstable) (2022-02-17 r81757 ucrt) -- "Unsuffered Consequences" | 4083 |
| merida1 | macOS 10.14.6 Mojave | x86_64 | R Under development (unstable) (2022-03-02 r81842) -- "Unsuffered Consequences" | 4134 |
| Click on any hostname to see more info about the system (e.g. compilers) (*) as reported by 'uname -p', except on Windows and Mac OS X | ||||
|
To the developers/maintainers of the IRISFGM package: - Please allow up to 24 hours (and sometimes 48 hours) for your latest push to git@git.bioconductor.org:packages/IRISFGM.git to reflect on this report. See How and When does the builder pull? When will my changes propagate? here for more information. - Make sure to use the following settings in order to reproduce any error or warning you see on this page. |
| Package 958/2090 | Hostname | OS / Arch | INSTALL | BUILD | CHECK | BUILD BIN | ||||||||
| IRISFGM 1.3.1 (landing page) Yuzhou Chang
| nebbiolo1 | Linux (Ubuntu 20.04.4 LTS) / x86_64 | OK | OK | OK | |||||||||
| riesling1 | Windows Server 2019 Standard / x64 | OK | OK | OK | OK | |||||||||
| palomino3 | Windows Server 2022 Datacenter / x64 | OK | OK | OK | OK | |||||||||
| merida1 | macOS 10.14.6 Mojave / x86_64 | OK | OK | OK | OK | |||||||||
| Package: IRISFGM |
| Version: 1.3.1 |
| Command: rm -rf IRISFGM.buildbin-libdir && mkdir IRISFGM.buildbin-libdir && D:\biocbuild\bbs-3.15-bioc\R\bin\R.exe CMD INSTALL --build --library=IRISFGM.buildbin-libdir IRISFGM_1.3.1.tar.gz |
| StartedAt: 2022-03-17 21:16:11 -0400 (Thu, 17 Mar 2022) |
| EndedAt: 2022-03-17 21:17:30 -0400 (Thu, 17 Mar 2022) |
| EllapsedTime: 78.9 seconds |
| RetCode: 0 |
| Status: OK |
| PackageFile: IRISFGM_1.3.1.zip |
| PackageFileSize: 2.274 MiB |
##############################################################################
##############################################################################
###
### Running command:
###
### rm -rf IRISFGM.buildbin-libdir && mkdir IRISFGM.buildbin-libdir && D:\biocbuild\bbs-3.15-bioc\R\bin\R.exe CMD INSTALL --build --library=IRISFGM.buildbin-libdir IRISFGM_1.3.1.tar.gz
###
##############################################################################
##############################################################################
* installing *source* package 'IRISFGM' ...
** using staged installation
** libs
"C:/rtools40/mingw64/bin/"g++ -std=gnu++11 -I"D:/biocbuild/bbs-3.15-bioc/R/include" -DNDEBUG -I'D:/biocbuild/bbs-3.15-bioc/R/library/Rcpp/include' -I"C:/extsoft/include" -fopenmp -DVER=2.08 -O2 -Wall -mfpmath=sse -msse2 -mstackrealign -fno-reorder-blocks-and-partition -c RcppExports.cpp -o RcppExports.o
"C:/rtools40/mingw64/bin/"g++ -std=gnu++11 -I"D:/biocbuild/bbs-3.15-bioc/R/include" -DNDEBUG -I'D:/biocbuild/bbs-3.15-bioc/R/library/Rcpp/include' -I"C:/extsoft/include" -fopenmp -DVER=2.08 -O2 -Wall -mfpmath=sse -msse2 -mstackrealign -fno-reorder-blocks-and-partition -c cluster.cpp -o cluster.o
"C:/rtools40/mingw64/bin/"g++ -std=gnu++11 -I"D:/biocbuild/bbs-3.15-bioc/R/include" -DNDEBUG -I'D:/biocbuild/bbs-3.15-bioc/R/library/Rcpp/include' -I"C:/extsoft/include" -fopenmp -DVER=2.08 -O2 -Wall -mfpmath=sse -msse2 -mstackrealign -fno-reorder-blocks-and-partition -c expand.cpp -o expand.o
"C:/rtools40/mingw64/bin/"g++ -std=gnu++11 -I"D:/biocbuild/bbs-3.15-bioc/R/include" -DNDEBUG -I'D:/biocbuild/bbs-3.15-bioc/R/library/Rcpp/include' -I"C:/extsoft/include" -fopenmp -DVER=2.08 -O2 -Wall -mfpmath=sse -msse2 -mstackrealign -fno-reorder-blocks-and-partition -c get_options.cpp -o get_options.o
"C:/rtools40/mingw64/bin/"gcc -I"D:/biocbuild/bbs-3.15-bioc/R/include" -DNDEBUG -I'D:/biocbuild/bbs-3.15-bioc/R/library/Rcpp/include' -I"C:/extsoft/include" -O2 -Wall -std=gnu99 -mfpmath=sse -msse2 -mstackrealign -fno-reorder-blocks-and-partition -c getline.c -o getline.o
"C:/rtools40/mingw64/bin/"g++ -std=gnu++11 -I"D:/biocbuild/bbs-3.15-bioc/R/include" -DNDEBUG -I'D:/biocbuild/bbs-3.15-bioc/R/library/Rcpp/include' -I"C:/extsoft/include" -fopenmp -DVER=2.08 -O2 -Wall -mfpmath=sse -msse2 -mstackrealign -fno-reorder-blocks-and-partition -c main.cpp -o main.o
"C:/rtools40/mingw64/bin/"g++ -std=gnu++11 -I"D:/biocbuild/bbs-3.15-bioc/R/include" -DNDEBUG -I'D:/biocbuild/bbs-3.15-bioc/R/library/Rcpp/include' -I"C:/extsoft/include" -fopenmp -DVER=2.08 -O2 -Wall -mfpmath=sse -msse2 -mstackrealign -fno-reorder-blocks-and-partition -c make_graph.cpp -o make_graph.o
"C:/rtools40/mingw64/bin/"g++ -std=gnu++11 -I"D:/biocbuild/bbs-3.15-bioc/R/include" -DNDEBUG -I'D:/biocbuild/bbs-3.15-bioc/R/library/Rcpp/include' -I"C:/extsoft/include" -fopenmp -DVER=2.08 -O2 -Wall -mfpmath=sse -msse2 -mstackrealign -fno-reorder-blocks-and-partition -c rcpp_irisfgm.cpp -o rcpp_irisfgm.o
"C:/rtools40/mingw64/bin/"g++ -std=gnu++11 -I"D:/biocbuild/bbs-3.15-bioc/R/include" -DNDEBUG -I'D:/biocbuild/bbs-3.15-bioc/R/library/Rcpp/include' -I"C:/extsoft/include" -fopenmp -DVER=2.08 -O2 -Wall -mfpmath=sse -msse2 -mstackrealign -fno-reorder-blocks-and-partition -c read_array.cpp -o read_array.o
read_array.cpp: In function 'void discretize_new(const char*)':
read_array.cpp:882:21: warning: format '%d' expects argument of type 'int', but argument 4 has type '__gnu_cxx::__alloc_traits<std::allocator<long long unsigned int>, long long unsigned int>::value_type' {aka 'long long unsigned int'} [-Wformat=]
fprintf(F2, "%s_%d", genes_n[id], eflags[id][i]);
^~~~~~~
read_array.cpp:883:35: warning: comparison of integer expressions of different signedness: 'std::size_t' {aka 'long long unsigned int'} and 'int' [-Wsign-compare]
for (std::size_t j = 0; j < cols; j++) {
~~^~~~~~
read_array.cpp: In function 'void discretize_rpkm(const char*)':
read_array.cpp:1376:21: warning: format '%d' expects argument of type 'int', but argument 4 has type '__gnu_cxx::__alloc_traits<std::allocator<long long unsigned int>, long long unsigned int>::value_type' {aka 'long long unsigned int'} [-Wformat=]
fprintf(F2, "%s_%d", genes_n[id], eflags[id][i]);
^~~~~~~
read_array.cpp:1377:35: warning: comparison of integer expressions of different signedness: 'std::size_t' {aka 'long long unsigned int'} and 'int' [-Wsign-compare]
for (std::size_t j = 0; j < cols; j++) {
~~^~~~~~
"C:/rtools40/mingw64/bin/"g++ -std=gnu++11 -I"D:/biocbuild/bbs-3.15-bioc/R/include" -DNDEBUG -I'D:/biocbuild/bbs-3.15-bioc/R/library/Rcpp/include' -I"C:/extsoft/include" -fopenmp -DVER=2.08 -O2 -Wall -mfpmath=sse -msse2 -mstackrealign -fno-reorder-blocks-and-partition -c struct.cpp -o struct.o
struct.cpp: In function 'void uglyTime(const char*, ...)':
struct.cpp:75:15: warning: variable 'lastTime' set but not used [-Wunused-but-set-variable]
static long lastTime = 0;
^~~~~~~~
"C:/rtools40/mingw64/bin/"g++ -std=gnu++11 -I"D:/biocbuild/bbs-3.15-bioc/R/include" -DNDEBUG -I'D:/biocbuild/bbs-3.15-bioc/R/library/Rcpp/include' -I"C:/extsoft/include" -fopenmp -DVER=2.08 -O2 -Wall -mfpmath=sse -msse2 -mstackrealign -fno-reorder-blocks-and-partition -c write_block.cpp -o write_block.o
C:/rtools40/mingw64/bin/g++ -shared -s -static-libgcc -o IRISFGM.dll tmp.def RcppExports.o cluster.o expand.o get_options.o getline.o main.o make_graph.o rcpp_irisfgm.o read_array.o struct.o write_block.o -fopenmp -LC:/extsoft/lib/x64 -LC:/extsoft/lib -LD:/biocbuild/bbs-3.15-bioc/R/bin/x64 -lR
installing to D:/biocbuild/bbs-3.15-bioc/meat/IRISFGM.buildbin-libdir/00LOCK-IRISFGM/00new/IRISFGM/libs/x64
** R
** data
** inst
** byte-compile and prepare package for lazy loading
Creating a generic function from function 'ReadFrom10X_h5' in package 'IRISFGM'
Creating a generic function from function 'ReadFrom10X_folder' in package 'IRISFGM'
** help
*** installing help indices
converting help for package 'IRISFGM'
finding HTML links ... done
AddMeta html
BIC_LTMG html
BIC_ZIMG html
CLUSTERING html
CalBinaryMultiSignal html
CalBinarySingleSignal html
CreateIRISFGMObject html
DimReduce-class html
DotPlotPathway html
FindClassBasedOnMC html
FindGlobalMarkers html
finding level-2 HTML links ... done
FindMarker html
Fit_LTMG html
GRAPH html
GetBinaryMultiSignal html
GetBinarySingleSignal html
GetLTMGmatrix html
Global_Zcut html
IRISFGM-class html
InverseMillsRatio html
KS_LTMG html
KS_ZIMG html
LTMG html
LogSeparateKRpkmNew html
LogSeparateKRpkmNewLR html
MCL html
MINUS html
MIN_return html
Pi_Zj_Zcut_new html
PlotDimension html
PlotHeatmap html
PlotMarkerHeatmap html
PlotMeta html
PlotModuleNetwork html
PlotNetwork html
ProcessData html
Pure_CDF html
ReadFrom10X_folder html
ReadFrom10X_h5 html
RunBicluster html
RunClassification html
RunDimensionReduction html
RunDiscretization html
RunLTMG html
RunPathway html
SC html
SeparateKRpkmNew html
SeparateKRpkmNew2 html
SeparateKRpkmNewLR html
SeparateKRpkmNewLRPlus html
SeparateKRpkmNewp html
State_return html
SubsetData html
dot-IDConvert html
dot-RunGO html
dot-RunKEGG html
dot-generateNetObject html
dot-getBlock html
dot-runBiclusterBaseOnDiscretization html
dot-runBiclusterBaseOnLTMG html
dot-separateBic html
example_object html
getMeta html
qubic html
** building package indices
** installing vignettes
** testing if installed package can be loaded from temporary location
** testing if installed package can be loaded from final location
** testing if installed package keeps a record of temporary installation path
* MD5 sums
packaged installation of 'IRISFGM' as IRISFGM_1.3.1.zip
* DONE (IRISFGM)