| Back to Multiple platform build/check report for BioC 3.15 |
|
This page was generated on 2022-10-19 13:21:41 -0400 (Wed, 19 Oct 2022).
| Hostname | OS | Arch (*) | R version | Installed pkgs |
|---|---|---|---|---|
| nebbiolo1 | Linux (Ubuntu 20.04.5 LTS) | x86_64 | 4.2.1 (2022-06-23) -- "Funny-Looking Kid" | 4386 |
| palomino3 | Windows Server 2022 Datacenter | x64 | 4.2.1 (2022-06-23 ucrt) -- "Funny-Looking Kid" | 4138 |
| merida1 | macOS 10.14.6 Mojave | x86_64 | 4.2.1 (2022-06-23) -- "Funny-Looking Kid" | 4205 |
| Click on any hostname to see more info about the system (e.g. compilers) (*) as reported by 'uname -p', except on Windows and Mac OS X | ||||
|
To the developers/maintainers of the INSPEcT package: - Please allow up to 24 hours (and sometimes 48 hours) for your latest push to git@git.bioconductor.org:packages/INSPEcT.git to reflect on this report. See How and When does the builder pull? When will my changes propagate? for more information. - Make sure to use the following settings in order to reproduce any error or warning you see on this page. |
| Package 961/2140 | Hostname | OS / Arch | INSTALL | BUILD | CHECK | BUILD BIN | ||||||||
| INSPEcT 1.26.0 (landing page) Stefano de Pretis
| nebbiolo1 | Linux (Ubuntu 20.04.5 LTS) / x86_64 | OK | OK | OK | |||||||||
| palomino3 | Windows Server 2022 Datacenter / x64 | OK | OK | OK | OK | |||||||||
| merida1 | macOS 10.14.6 Mojave / x86_64 | OK | OK | OK | OK | |||||||||
| Package: INSPEcT |
| Version: 1.26.0 |
| Command: F:\biocbuild\bbs-3.15-bioc\R\bin\R.exe CMD check --no-multiarch --install=check:INSPEcT.install-out.txt --library=F:\biocbuild\bbs-3.15-bioc\R\library --no-vignettes --timings INSPEcT_1.26.0.tar.gz |
| StartedAt: 2022-10-19 01:10:21 -0400 (Wed, 19 Oct 2022) |
| EndedAt: 2022-10-19 01:18:37 -0400 (Wed, 19 Oct 2022) |
| EllapsedTime: 495.3 seconds |
| RetCode: 0 |
| Status: OK |
| CheckDir: INSPEcT.Rcheck |
| Warnings: 0 |
##############################################################################
##############################################################################
###
### Running command:
###
### F:\biocbuild\bbs-3.15-bioc\R\bin\R.exe CMD check --no-multiarch --install=check:INSPEcT.install-out.txt --library=F:\biocbuild\bbs-3.15-bioc\R\library --no-vignettes --timings INSPEcT_1.26.0.tar.gz
###
##############################################################################
##############################################################################
* using log directory 'F:/biocbuild/bbs-3.15-bioc/meat/INSPEcT.Rcheck'
* using R version 4.2.1 (2022-06-23 ucrt)
* using platform: x86_64-w64-mingw32 (64-bit)
* using session charset: UTF-8
* using option '--no-vignettes'
* checking for file 'INSPEcT/DESCRIPTION' ... OK
* checking extension type ... Package
* this is package 'INSPEcT' version '1.26.0'
* checking package namespace information ... OK
* checking package dependencies ... OK
* checking if this is a source package ... OK
* checking if there is a namespace ... OK
* checking for hidden files and directories ... OK
* checking for portable file names ... OK
* checking whether package 'INSPEcT' can be installed ... OK
* checking installed package size ... NOTE
installed size is 7.1Mb
sub-directories of 1Mb or more:
R 1.8Mb
data 2.8Mb
* checking package directory ... OK
* checking 'build' directory ... OK
* checking DESCRIPTION meta-information ... OK
* checking top-level files ... OK
* checking for left-over files ... OK
* checking index information ... OK
* checking package subdirectories ... OK
* checking R files for non-ASCII characters ... OK
* checking R files for syntax errors ... OK
* checking whether the package can be loaded ... OK
* checking whether the package can be loaded with stated dependencies ... OK
* checking whether the package can be unloaded cleanly ... OK
* checking whether the namespace can be loaded with stated dependencies ... OK
* checking whether the namespace can be unloaded cleanly ... OK
* checking dependencies in R code ... OK
* checking S3 generic/method consistency ... OK
* checking replacement functions ... OK
* checking foreign function calls ... OK
* checking R code for possible problems ... NOTE
output_pars: no visible global function definition for 'plot.new'
plotSingleRNADynamic: no visible global function definition for 'lines'
Undefined global functions or variables:
lines plot.new
Consider adding
importFrom("graphics", "lines", "plot.new")
to your NAMESPACE file.
* checking Rd files ... OK
* checking Rd metadata ... OK
* checking Rd cross-references ... OK
* checking for missing documentation entries ... OK
* checking for code/documentation mismatches ... OK
* checking Rd \usage sections ... OK
* checking Rd contents ... OK
* checking for unstated dependencies in examples ... OK
* checking contents of 'data' directory ... OK
* checking data for non-ASCII characters ... OK
* checking data for ASCII and uncompressed saves ... OK
* checking files in 'vignettes' ... OK
* checking examples ... OK
Examples with CPU (user + system) or elapsed time > 5s
user system elapsed
makeSimModel 24.96 0.38 25.33
quantifyExpressionsFromTrCounts 18.20 0.19 18.39
newINSPEcT 17.13 0.17 17.29
processingDelay 15.97 0.06 16.05
compareSteadyNoNascent 7.95 0.20 8.15
makeOscillatorySimModel 6.45 0.03 6.90
* checking for unstated dependencies in vignettes ... OK
* checking package vignettes in 'inst/doc' ... OK
* checking running R code from vignettes ... SKIPPED
* checking re-building of vignette outputs ... SKIPPED
* checking PDF version of manual ... OK
* DONE
Status: 2 NOTEs
See
'F:/biocbuild/bbs-3.15-bioc/meat/INSPEcT.Rcheck/00check.log'
for details.
INSPEcT.Rcheck/00install.out
############################################################################## ############################################################################## ### ### Running command: ### ### F:\biocbuild\bbs-3.15-bioc\R\bin\R.exe CMD INSTALL INSPEcT ### ############################################################################## ############################################################################## * installing to library 'F:/biocbuild/bbs-3.15-bioc/R/library' * installing *source* package 'INSPEcT' ... ** using staged installation ** R ** data ** inst ** byte-compile and prepare package for lazy loading ** help *** installing help indices ** building package indices ** installing vignettes ** testing if installed package can be loaded from temporary location ** testing if installed package can be loaded from final location ** testing if installed package keeps a record of temporary installation path * DONE (INSPEcT)
INSPEcT.Rcheck/INSPEcT-Ex.timings
| name | user | system | elapsed | |
| AIC-INSPEcT-method | 0.19 | 0.01 | 1.16 | |
| Extract | 1.20 | 0.00 | 1.21 | |
| INSPEcT_diffsteady-class | 0 | 0 | 0 | |
| calculateRatePvals | 0.17 | 0.00 | 0.17 | |
| chisqmodel | 0.15 | 0.00 | 0.16 | |
| chisqtest | 0.15 | 0.00 | 0.14 | |
| combine | 0.39 | 0.00 | 0.39 | |
| compareSteady | 0 | 0 | 0 | |
| compareSteadyNoNascent | 7.95 | 0.20 | 8.15 | |
| convergence | 0.14 | 0.00 | 0.14 | |
| geneClass | 0.17 | 0.00 | 0.17 | |
| inHeatmap | 0.27 | 0.00 | 0.27 | |
| inspectFromPCR | 0 | 0 | 0 | |
| labeledSF | 0.20 | 0.00 | 0.21 | |
| logLik | 0.2 | 0.0 | 0.2 | |
| makeModelRates | 0.31 | 0.00 | 0.32 | |
| makeOscillatorySimModel | 6.45 | 0.03 | 6.90 | |
| makeSimDataset | 0 | 0 | 0 | |
| makeSimModel | 24.96 | 0.38 | 25.33 | |
| modelRates | 0 | 0 | 0 | |
| modelRatesNF | 0 | 0 | 0 | |
| modelSelection | 0.23 | 0.00 | 0.24 | |
| modelingParams | 0.22 | 0.00 | 0.21 | |
| nGenes | 0.14 | 0.00 | 0.15 | |
| nTpts | 0.17 | 0.00 | 0.17 | |
| newINSPEcT | 17.13 | 0.17 | 17.29 | |
| plotGene | 0.30 | 0.02 | 0.32 | |
| plotMA | 0.01 | 0.00 | 0.01 | |
| processingDelay | 15.97 | 0.06 | 16.05 | |
| quantifyExpressionsFromBAMs | 0 | 0 | 0 | |
| quantifyExpressionsFromTrCounts | 18.20 | 0.19 | 18.39 | |
| ratePvals | 0.13 | 0.01 | 0.14 | |
| ratesFirstGuess | 0.17 | 0.00 | 0.17 | |
| ratesFirstGuessVar | 0.22 | 0.03 | 0.25 | |
| removeModel | 0.25 | 0.00 | 0.25 | |
| rocCurve | 0 | 0 | 0 | |
| rocThresholds | 0.00 | 0.02 | 0.02 | |
| split | 0.23 | 0.00 | 0.23 | |
| tpts | 0.14 | 0.00 | 0.14 | |
| viewConfidenceIntervals | 0.23 | 0.00 | 0.23 | |
| viewModelRates | 0.22 | 0.02 | 0.23 | |