| Back to Multiple platform build/check report for BioC 3.15 |
|
This page was generated on 2022-03-18 11:07:48 -0400 (Fri, 18 Mar 2022).
| Hostname | OS | Arch (*) | R version | Installed pkgs |
|---|---|---|---|---|
| nebbiolo1 | Linux (Ubuntu 20.04.4 LTS) | x86_64 | R Under development (unstable) (2022-02-17 r81757) -- "Unsuffered Consequences" | 4334 |
| riesling1 | Windows Server 2019 Standard | x64 | R Under development (unstable) (2021-11-21 r81221) -- "Unsuffered Consequences" | 4097 |
| palomino3 | Windows Server 2022 Datacenter | x64 | R Under development (unstable) (2022-02-17 r81757 ucrt) -- "Unsuffered Consequences" | 4083 |
| merida1 | macOS 10.14.6 Mojave | x86_64 | R Under development (unstable) (2022-03-02 r81842) -- "Unsuffered Consequences" | 4134 |
| Click on any hostname to see more info about the system (e.g. compilers) (*) as reported by 'uname -p', except on Windows and Mac OS X | ||||
|
To the developers/maintainers of the IMMAN package: - Please allow up to 24 hours (and sometimes 48 hours) for your latest push to git@git.bioconductor.org:packages/IMMAN.git to reflect on this report. See How and When does the builder pull? When will my changes propagate? here for more information. - Make sure to use the following settings in order to reproduce any error or warning you see on this page. |
| Package 927/2090 | Hostname | OS / Arch | INSTALL | BUILD | CHECK | BUILD BIN | ||||||||
| IMMAN 1.15.0 (landing page) Minoo Ashtiani
| nebbiolo1 | Linux (Ubuntu 20.04.4 LTS) / x86_64 | OK | OK | OK | |||||||||
| riesling1 | Windows Server 2019 Standard / x64 | OK | OK | OK | OK | |||||||||
| palomino3 | Windows Server 2022 Datacenter / x64 | OK | OK | OK | OK | |||||||||
| merida1 | macOS 10.14.6 Mojave / x86_64 | OK | OK | OK | OK | |||||||||
| Package: IMMAN |
| Version: 1.15.0 |
| Command: D:\biocbuild\bbs-3.15-bioc\R\bin\R.exe CMD check --no-multiarch --install=check:IMMAN.install-out.txt --library=D:\biocbuild\bbs-3.15-bioc\R\library --no-vignettes --timings IMMAN_1.15.0.tar.gz |
| StartedAt: 2022-03-17 19:22:07 -0400 (Thu, 17 Mar 2022) |
| EndedAt: 2022-03-17 19:27:00 -0400 (Thu, 17 Mar 2022) |
| EllapsedTime: 293.8 seconds |
| RetCode: 0 |
| Status: OK |
| CheckDir: IMMAN.Rcheck |
| Warnings: 0 |
##############################################################################
##############################################################################
###
### Running command:
###
### D:\biocbuild\bbs-3.15-bioc\R\bin\R.exe CMD check --no-multiarch --install=check:IMMAN.install-out.txt --library=D:\biocbuild\bbs-3.15-bioc\R\library --no-vignettes --timings IMMAN_1.15.0.tar.gz
###
##############################################################################
##############################################################################
* using log directory 'D:/biocbuild/bbs-3.15-bioc/meat/IMMAN.Rcheck'
* using R Under development (unstable) (2021-11-21 r81221)
* using platform: x86_64-w64-mingw32 (64-bit)
* using session charset: ISO8859-1
* using option '--no-vignettes'
* checking for file 'IMMAN/DESCRIPTION' ... OK
* this is package 'IMMAN' version '1.15.0'
* package encoding: UTF-8
* checking package namespace information ... OK
* checking package dependencies ... OK
* checking if this is a source package ... OK
* checking if there is a namespace ... OK
* checking for hidden files and directories ... OK
* checking for portable file names ... OK
* checking whether package 'IMMAN' can be installed ... OK
* checking installed package size ... OK
* checking package directory ... OK
* checking 'build' directory ... OK
* checking DESCRIPTION meta-information ... OK
* checking top-level files ... OK
* checking for left-over files ... OK
* checking index information ... OK
* checking package subdirectories ... OK
* checking R files for non-ASCII characters ... OK
* checking R files for syntax errors ... OK
* checking whether the package can be loaded ... OK
* checking whether the package can be loaded with stated dependencies ... OK
* checking whether the package can be unloaded cleanly ... OK
* checking whether the namespace can be loaded with stated dependencies ... OK
* checking whether the namespace can be unloaded cleanly ... OK
* checking dependencies in R code ... OK
* checking S3 generic/method consistency ... OK
* checking replacement functions ... OK
* checking foreign function calls ... OK
* checking R code for possible problems ... NOTE
IMMAN: no visible binding for global variable 'tem'
IMMAN : <anonymous>: no visible binding for global variable 'tem'
Undefined global functions or variables:
tem
* checking Rd files ... OK
* checking Rd metadata ... OK
* checking Rd cross-references ... OK
* checking for missing documentation entries ... OK
* checking for code/documentation mismatches ... OK
* checking Rd \usage sections ... OK
* checking Rd contents ... OK
* checking for unstated dependencies in examples ... OK
* checking contents of 'data' directory ... OK
* checking data for non-ASCII characters ... OK
* checking LazyData ... OK
* checking data for ASCII and uncompressed saves ... OK
* checking files in 'vignettes' ... OK
* checking examples ... OK
Examples with CPU (user + system) or elapsed time > 5s
user system elapsed
IMMAN 38.63 2.45 80.45
* checking for unstated dependencies in 'tests' ... OK
* checking tests ...
Running 'testthat.R'
OK
* checking for unstated dependencies in vignettes ... OK
* checking package vignettes in 'inst/doc' ... OK
* checking running R code from vignettes ... SKIPPED
* checking re-building of vignette outputs ... SKIPPED
* checking PDF version of manual ... OK
* DONE
Status: 1 NOTE
See
'D:/biocbuild/bbs-3.15-bioc/meat/IMMAN.Rcheck/00check.log'
for details.
IMMAN.Rcheck/00install.out
##############################################################################
##############################################################################
###
### Running command:
###
### D:\biocbuild\bbs-3.15-bioc\R\bin\R.exe CMD INSTALL IMMAN
###
##############################################################################
##############################################################################
* installing to library 'D:/biocbuild/bbs-3.15-bioc/R/library'
* installing *source* package 'IMMAN' ...
** using staged installation
** R
** data
*** moving datasets to lazyload DB
** byte-compile and prepare package for lazy loading
** help
*** installing help indices
converting help for package 'IMMAN'
finding HTML links ... done
Celegance html
FruitFly html
H.sapiens html
IMMAN html
R.norvegicus html
** building package indices
** installing vignettes
** testing if installed package can be loaded from temporary location
** testing if installed package can be loaded from final location
** testing if installed package keeps a record of temporary installation path
* DONE (IMMAN)
Making 'packages.html' ...Warning in packageDescription(i, lib.loc = lib, fields = "Title", encoding = "UTF-8") :
DESCRIPTION file of package 'Structstrings' is missing or broken
done
IMMAN.Rcheck/tests/testthat.Rout
R Under development (unstable) (2021-11-21 r81221) -- "Unsuffered Consequences"
Copyright (C) 2021 The R Foundation for Statistical Computing
Platform: x86_64-w64-mingw32/x64 (64-bit)
R is free software and comes with ABSOLUTELY NO WARRANTY.
You are welcome to redistribute it under certain conditions.
Type 'license()' or 'licence()' for distribution details.
R is a collaborative project with many contributors.
Type 'contributors()' for more information and
'citation()' on how to cite R or R packages in publications.
Type 'demo()' for some demos, 'help()' for on-line help, or
'help.start()' for an HTML browser interface to help.
Type 'q()' to quit R.
> library(testthat)
> library(IMMAN)
>
> test_check("IMMAN")
trying URL 'https://stringdb-static.org/download/protein.aliases.v11.0/6239.protein.aliases.v11.0.txt.gz'
length 2902021 bytes (2.8 MB)
==================================================
downloaded 2.8 MB
trying URL 'https://stringdb-static.org/download/protein.info.v11.0/6239.protein.info.v11.0.txt.gz'
Content length 675823 bytes (659 KB)
==================================================
downloaded 659 KB
trying URL 'https://stringdb-static.org/download/protein.aliases.v11.0/7227.protein.aliases.v11.0.txt.gz'
length 4188915 bytes (4.0 MB)
==================================================
downloaded 4.0 MB
trying URL 'https://stringdb-static.org/download/protein.info.v11.0/7227.protein.info.v11.0.txt.gz'
Content length 687988 bytes (671 KB)
==================================================
downloaded 671 KB
trying URL 'https://stringdb-static.org/download/protein.links.v11.0/6239.protein.links.v11.0.txt.gz'
length 48132415 bytes (45.9 MB)
==================================================
downloaded 45.9 MB
trying URL 'https://stringdb-static.org/download/protein.links.v11.0/7227.protein.links.v11.0.txt.gz'
length 22010066 bytes (21.0 MB)
==================================================
downloaded 21.0 MB
[ FAIL 0 | WARN 0 | SKIP 0 | PASS 2 ]
>
> proc.time()
user system elapsed
59.65 3.12 134.00
IMMAN.Rcheck/IMMAN-Ex.timings
| name | user | system | elapsed | |
| Celegance | 0.02 | 0.00 | 0.01 | |
| FruitFly | 0 | 0 | 0 | |
| H.sapiens | 0 | 0 | 0 | |
| IMMAN | 38.63 | 2.45 | 80.45 | |
| R.norvegicus | 0 | 0 | 0 | |