| Back to Multiple platform build/check report for BioC 3.15 |
|
This page was generated on 2022-03-18 11:07:43 -0400 (Fri, 18 Mar 2022).
| Hostname | OS | Arch (*) | R version | Installed pkgs |
|---|---|---|---|---|
| nebbiolo1 | Linux (Ubuntu 20.04.4 LTS) | x86_64 | R Under development (unstable) (2022-02-17 r81757) -- "Unsuffered Consequences" | 4334 |
| riesling1 | Windows Server 2019 Standard | x64 | R Under development (unstable) (2021-11-21 r81221) -- "Unsuffered Consequences" | 4097 |
| palomino3 | Windows Server 2022 Datacenter | x64 | R Under development (unstable) (2022-02-17 r81757 ucrt) -- "Unsuffered Consequences" | 4083 |
| merida1 | macOS 10.14.6 Mojave | x86_64 | R Under development (unstable) (2022-03-02 r81842) -- "Unsuffered Consequences" | 4134 |
| Click on any hostname to see more info about the system (e.g. compilers) (*) as reported by 'uname -p', except on Windows and Mac OS X | ||||
|
To the developers/maintainers of the Harshlight package: - Please allow up to 24 hours (and sometimes 48 hours) for your latest push to git@git.bioconductor.org:packages/Harshlight.git to reflect on this report. See How and When does the builder pull? When will my changes propagate? here for more information. - Make sure to use the following settings in order to reproduce any error or warning you see on this page. |
| Package 855/2090 | Hostname | OS / Arch | INSTALL | BUILD | CHECK | BUILD BIN | ||||||||
| Harshlight 1.67.0 (landing page) Maurizio Pellegrino
| nebbiolo1 | Linux (Ubuntu 20.04.4 LTS) / x86_64 | OK | OK | OK | |||||||||
| riesling1 | Windows Server 2019 Standard / x64 | OK | OK | OK | OK | |||||||||
| palomino3 | Windows Server 2022 Datacenter / x64 | OK | OK | OK | OK | |||||||||
| merida1 | macOS 10.14.6 Mojave / x86_64 | OK | OK | OK | OK | |||||||||
| Package: Harshlight |
| Version: 1.67.0 |
| Command: rm -rf Harshlight.buildbin-libdir && mkdir Harshlight.buildbin-libdir && D:\biocbuild\bbs-3.15-bioc\R\bin\R.exe CMD INSTALL --build --library=Harshlight.buildbin-libdir Harshlight_1.67.0.tar.gz |
| StartedAt: 2022-03-17 21:13:44 -0400 (Thu, 17 Mar 2022) |
| EndedAt: 2022-03-17 21:14:59 -0400 (Thu, 17 Mar 2022) |
| EllapsedTime: 75.4 seconds |
| RetCode: 0 |
| Status: OK |
| PackageFile: Harshlight_1.67.0.zip |
| PackageFileSize: 238.9 KiB |
##############################################################################
##############################################################################
###
### Running command:
###
### rm -rf Harshlight.buildbin-libdir && mkdir Harshlight.buildbin-libdir && D:\biocbuild\bbs-3.15-bioc\R\bin\R.exe CMD INSTALL --build --library=Harshlight.buildbin-libdir Harshlight_1.67.0.tar.gz
###
##############################################################################
##############################################################################
* installing *source* package 'Harshlight' ...
** using staged installation
** libs
"C:/rtools40/mingw64/bin/"gcc -I"D:/biocbuild/bbs-3.15-bioc/R/include" -DNDEBUG -I"C:/extsoft/include" -O2 -Wall -std=gnu99 -mfpmath=sse -msse2 -mstackrealign -fno-reorder-blocks-and-partition -c Harshlight.c -o Harshlight.o
Harshlight.c: In function 'extended_defects':
Harshlight.c:564:20: warning: variable 'p_num_points' set but not used [-Wunused-but-set-variable]
int num_points, *p_num_points; //number of points inside the median kernel
^~~~~~~~~~~~
Harshlight.c: In function 'image_dilation':
Harshlight.c:948:10: warning: variable 'cell_value' set but not used [-Wunused-but-set-variable]
double cell_value;
^~~~~~~~~~
Harshlight.c: In function 'norm':
Harshlight.c:1316:27: warning: unused variable 'sorted2' [-Wunused-variable]
double *sorted; double *sorted2;
^~~~~~~
Harshlight.c: In function 'report_overall_header':
Harshlight.c:1471:26: warning: unknown conversion type character ')' in format [-Wformat=]
PP "%d %d moveto (%.2f%) show\n", x_text_val, y_text - 215, *diff_br);
^
Harshlight.c:1471:26: warning: unknown conversion type character ')' in format [-Wformat=]
Harshlight.c:1474:26: warning: unknown conversion type character ')' in format [-Wformat=]
PP "%d %d moveto (%.2f%) show\n", x_text_val, y_text - 230, *diff_dr);
^
Harshlight.c:1474:26: warning: unknown conversion type character ')' in format [-Wformat=]
Harshlight.c: In function 'chip_summary':
Harshlight.c:1532:107: warning: unknown conversion type character ')' in format [-Wformat=]
PP "%d %d moveto (Extended defects: the variance of the Error Image explained by the background is %.2f%) show\n", x_text, y_text - 30, *var);
^
Harshlight.c:1532:107: warning: unknown conversion type character ')' in format [-Wformat=]
Harshlight.c:1542:26: warning: unknown conversion type character ')' in format [-Wformat=]
PP "%d %d moveto (%.2f%) show\n", x_val_1, y_text - 100, *perc_c);
^
Harshlight.c:1542:26: warning: unknown conversion type character ')' in format [-Wformat=]
Harshlight.c:1543:26: warning: unknown conversion type character ')' in format [-Wformat=]
PP "%d %d moveto (%.2f%) show\n", x_val_2, y_text - 100, *perc_d);
^
Harshlight.c:1543:26: warning: unknown conversion type character ')' in format [-Wformat=]
Harshlight.c: In function 'extended_stop':
Harshlight.c:1555:107: warning: unknown conversion type character ')' in format [-Wformat=]
PP "%d %d moveto (Extended defects: the variance of the Error Image explained by the background is %.2f%) show\n", x_text, y_text - 30, *var);
^
Harshlight.c:1555:107: warning: unknown conversion type character ')' in format [-Wformat=]
C:/rtools40/mingw64/bin/gcc -shared -s -static-libgcc -o Harshlight.dll tmp.def Harshlight.o -LC:/extsoft/lib/x64 -LC:/extsoft/lib -LD:/biocbuild/bbs-3.15-bioc/R/bin/x64 -lR
installing to D:/biocbuild/bbs-3.15-bioc/meat/Harshlight.buildbin-libdir/00LOCK-Harshlight/00new/Harshlight/libs/x64
** R
** data
** inst
** byte-compile and prepare package for lazy loading
** help
*** installing help indices
converting help for package 'Harshlight'
finding HTML links ... done
HarshComp html
HarshExt html
Harshlight html
sim html
** building package indices
** installing vignettes
** testing if installed package can be loaded from temporary location
** testing if installed package can be loaded from final location
** testing if installed package keeps a record of temporary installation path
* MD5 sums
packaged installation of 'Harshlight' as Harshlight_1.67.0.zip
* DONE (Harshlight)