| Back to Multiple platform build/check report for BioC 3.15 |
|
This page was generated on 2022-03-18 11:07:43 -0400 (Fri, 18 Mar 2022).
| Hostname | OS | Arch (*) | R version | Installed pkgs |
|---|---|---|---|---|
| nebbiolo1 | Linux (Ubuntu 20.04.4 LTS) | x86_64 | R Under development (unstable) (2022-02-17 r81757) -- "Unsuffered Consequences" | 4334 |
| riesling1 | Windows Server 2019 Standard | x64 | R Under development (unstable) (2021-11-21 r81221) -- "Unsuffered Consequences" | 4097 |
| palomino3 | Windows Server 2022 Datacenter | x64 | R Under development (unstable) (2022-02-17 r81757 ucrt) -- "Unsuffered Consequences" | 4083 |
| merida1 | macOS 10.14.6 Mojave | x86_64 | R Under development (unstable) (2022-03-02 r81842) -- "Unsuffered Consequences" | 4134 |
| Click on any hostname to see more info about the system (e.g. compilers) (*) as reported by 'uname -p', except on Windows and Mac OS X | ||||
|
To the developers/maintainers of the HEM package: - Please allow up to 24 hours (and sometimes 48 hours) for your latest push to git@git.bioconductor.org:packages/HEM.git to reflect on this report. See How and When does the builder pull? When will my changes propagate? here for more information. - Make sure to use the following settings in order to reproduce any error or warning you see on this page. |
| Package 863/2090 | Hostname | OS / Arch | INSTALL | BUILD | CHECK | BUILD BIN | ||||||||
| HEM 1.67.0 (landing page) HyungJun Cho
| nebbiolo1 | Linux (Ubuntu 20.04.4 LTS) / x86_64 | OK | OK | OK | |||||||||
| riesling1 | Windows Server 2019 Standard / x64 | OK | OK | OK | OK | |||||||||
| palomino3 | Windows Server 2022 Datacenter / x64 | OK | OK | OK | OK | |||||||||
| merida1 | macOS 10.14.6 Mojave / x86_64 | OK | OK | OK | OK | |||||||||
| Package: HEM |
| Version: 1.67.0 |
| Command: D:\biocbuild\bbs-3.15-bioc\R\bin\R.exe CMD INSTALL HEM |
| StartedAt: 2022-03-17 15:31:15 -0400 (Thu, 17 Mar 2022) |
| EndedAt: 2022-03-17 15:32:26 -0400 (Thu, 17 Mar 2022) |
| EllapsedTime: 71.1 seconds |
| RetCode: 0 |
| Status: OK |
##############################################################################
##############################################################################
###
### Running command:
###
### D:\biocbuild\bbs-3.15-bioc\R\bin\R.exe CMD INSTALL HEM
###
##############################################################################
##############################################################################
* installing to library 'D:/biocbuild/bbs-3.15-bioc/R/library'
* installing *source* package 'HEM' ...
** using staged installation
** libs
"C:/rtools40/mingw64/bin/"gcc -I"D:/biocbuild/bbs-3.15-bioc/R/include" -DNDEBUG -I"C:/extsoft/include" -O2 -Wall -std=gnu99 -mfpmath=sse -msse2 -mstackrealign -fno-reorder-blocks-and-partition -c hem.c -o hem.o
hem.c: In function 'onelayerhem':
hem.c:1390:12: warning: variable 'k' set but not used [-Wunused-but-set-variable]
int i, j, k, m, n;
^
hem.c: In function 'chk_prt':
hem.c:1593:16: warning: variable 'l' set but not used [-Wunused-but-set-variable]
int i, j, k, l;
^
C:/rtools40/mingw64/bin/gcc -shared -s -static-libgcc -o HEM.dll tmp.def hem.o -LC:/extsoft/lib/x64 -LC:/extsoft/lib -LD:/biocbuild/bbs-3.15-bioc/R/bin/x64 -lR
installing to D:/biocbuild/bbs-3.15-bioc/R/library/00LOCK-HEM/00new/HEM/libs/x64
** R
** data
** byte-compile and prepare package for lazy loading
** help
*** installing help indices
converting help for package 'HEM'
finding HTML links ... done
am.tran html
am.tran.half html
base.ASE.Olig html
base.PSE.Olig html
base.error.Olig html
base.error.Olig.quanOnly html
boot.base.ASE.Olig html
boot.base.PSE.Olig html
boot.base.error.Olig html
fixbound.predict.smooth.spline html
hem html
hem.eb.prior html
hem.fdr html
hem.null.no html
hem.null.one html
hem.null.two html
hem.preproc html
mubcp html
nonpar.error.Olig html
nonpar.no.error.Olig html
nonpar.rep.error.Olig html
par.error.Olig html
par.no.error.Olig html
par.rep.error.Olig html
pbrain html
permut html
quant.norm html
quant.normal html
quant.normal2 html
quant.normalize html
remove.sig.genes html
** building package indices
** installing vignettes
** testing if installed package can be loaded from temporary location
** testing if installed package can be loaded from final location
** testing if installed package keeps a record of temporary installation path
* DONE (HEM)
Making 'packages.html' ...Warning in packageDescription(i, lib.loc = lib, fields = "Title", encoding = "UTF-8") :
DESCRIPTION file of package 'RTCA' is missing or broken
done