| Back to Multiple platform build/check report for BioC 3.15 |
|
This page was generated on 2022-10-19 13:21:33 -0400 (Wed, 19 Oct 2022).
| Hostname | OS | Arch (*) | R version | Installed pkgs |
|---|---|---|---|---|
| nebbiolo1 | Linux (Ubuntu 20.04.5 LTS) | x86_64 | 4.2.1 (2022-06-23) -- "Funny-Looking Kid" | 4386 |
| palomino3 | Windows Server 2022 Datacenter | x64 | 4.2.1 (2022-06-23 ucrt) -- "Funny-Looking Kid" | 4138 |
| merida1 | macOS 10.14.6 Mojave | x86_64 | 4.2.1 (2022-06-23) -- "Funny-Looking Kid" | 4205 |
| Click on any hostname to see more info about the system (e.g. compilers) (*) as reported by 'uname -p', except on Windows and Mac OS X | ||||
|
To the developers/maintainers of the GenomicDataCommons package: - Please allow up to 24 hours (and sometimes 48 hours) for your latest push to git@git.bioconductor.org:packages/GenomicDataCommons.git to reflect on this report. See How and When does the builder pull? When will my changes propagate? for more information. - Make sure to use the following settings in order to reproduce any error or warning you see on this page. |
| Package 770/2140 | Hostname | OS / Arch | INSTALL | BUILD | CHECK | BUILD BIN | ||||||||
| GenomicDataCommons 1.20.3 (landing page) Sean Davis
| nebbiolo1 | Linux (Ubuntu 20.04.5 LTS) / x86_64 | OK | OK | OK | |||||||||
| palomino3 | Windows Server 2022 Datacenter / x64 | OK | OK | OK | OK | |||||||||
| merida1 | macOS 10.14.6 Mojave / x86_64 | OK | OK | OK | OK | |||||||||
| Package: GenomicDataCommons |
| Version: 1.20.3 |
| Command: F:\biocbuild\bbs-3.15-bioc\R\bin\R.exe CMD check --no-multiarch --install=check:GenomicDataCommons.install-out.txt --library=F:\biocbuild\bbs-3.15-bioc\R\library --no-vignettes --timings GenomicDataCommons_1.20.3.tar.gz |
| StartedAt: 2022-10-19 00:31:48 -0400 (Wed, 19 Oct 2022) |
| EndedAt: 2022-10-19 00:53:46 -0400 (Wed, 19 Oct 2022) |
| EllapsedTime: 1318.0 seconds |
| RetCode: 0 |
| Status: OK |
| CheckDir: GenomicDataCommons.Rcheck |
| Warnings: 0 |
##############################################################################
##############################################################################
###
### Running command:
###
### F:\biocbuild\bbs-3.15-bioc\R\bin\R.exe CMD check --no-multiarch --install=check:GenomicDataCommons.install-out.txt --library=F:\biocbuild\bbs-3.15-bioc\R\library --no-vignettes --timings GenomicDataCommons_1.20.3.tar.gz
###
##############################################################################
##############################################################################
* using log directory 'F:/biocbuild/bbs-3.15-bioc/meat/GenomicDataCommons.Rcheck'
* using R version 4.2.1 (2022-06-23 ucrt)
* using platform: x86_64-w64-mingw32 (64-bit)
* using session charset: UTF-8
* using option '--no-vignettes'
* checking for file 'GenomicDataCommons/DESCRIPTION' ... OK
* checking extension type ... Package
* this is package 'GenomicDataCommons' version '1.20.3'
* package encoding: UTF-8
* checking package namespace information ... OK
* checking package dependencies ... OK
* checking if this is a source package ... OK
* checking if there is a namespace ... OK
* checking for hidden files and directories ... OK
* checking for portable file names ... OK
* checking whether package 'GenomicDataCommons' can be installed ... OK
* checking installed package size ... OK
* checking package directory ... OK
* checking 'build' directory ... OK
* checking DESCRIPTION meta-information ... OK
* checking top-level files ... OK
* checking for left-over files ... OK
* checking index information ... OK
* checking package subdirectories ... OK
* checking R files for non-ASCII characters ... OK
* checking R files for syntax errors ... OK
* checking whether the package can be loaded ... OK
* checking whether the package can be loaded with stated dependencies ... OK
* checking whether the package can be unloaded cleanly ... OK
* checking whether the namespace can be loaded with stated dependencies ... OK
* checking whether the namespace can be unloaded cleanly ... OK
* checking dependencies in R code ... OK
* checking S3 generic/method consistency ... OK
* checking replacement functions ... OK
* checking foreign function calls ... OK
* checking R code for possible problems ... OK
* checking Rd files ... OK
* checking Rd metadata ... OK
* checking Rd cross-references ... OK
* checking for missing documentation entries ... OK
* checking for code/documentation mismatches ... OK
* checking Rd \usage sections ... OK
* checking Rd contents ... OK
* checking for unstated dependencies in examples ... OK
* checking R/sysdata.rda ... OK
* checking files in 'vignettes' ... OK
* checking examples ... OK
Examples with CPU (user + system) or elapsed time > 5s
user system elapsed
write_manifest 27.62 1.08 294.33
manifest 25.84 0.84 284.87
* checking for unstated dependencies in 'tests' ... OK
* checking tests ...
Running 'testthat.R'
OK
* checking for unstated dependencies in vignettes ... OK
* checking package vignettes in 'inst/doc' ... OK
* checking running R code from vignettes ... SKIPPED
* checking re-building of vignette outputs ... SKIPPED
* checking PDF version of manual ... OK
* DONE
Status: OK
GenomicDataCommons.Rcheck/00install.out
############################################################################## ############################################################################## ### ### Running command: ### ### F:\biocbuild\bbs-3.15-bioc\R\bin\R.exe CMD INSTALL GenomicDataCommons ### ############################################################################## ############################################################################## * installing to library 'F:/biocbuild/bbs-3.15-bioc/R/library' * installing *source* package 'GenomicDataCommons' ... ** using staged installation ** R ** inst ** byte-compile and prepare package for lazy loading ** help *** installing help indices ** building package indices ** installing vignettes ** testing if installed package can be loaded from temporary location ** testing if installed package can be loaded from final location ** testing if installed package keeps a record of temporary installation path * DONE (GenomicDataCommons)
GenomicDataCommons.Rcheck/tests/testthat.Rout
R version 4.2.1 (2022-06-23 ucrt) -- "Funny-Looking Kid"
Copyright (C) 2022 The R Foundation for Statistical Computing
Platform: x86_64-w64-mingw32/x64 (64-bit)
R is free software and comes with ABSOLUTELY NO WARRANTY.
You are welcome to redistribute it under certain conditions.
Type 'license()' or 'licence()' for distribution details.
R is a collaborative project with many contributors.
Type 'contributors()' for more information and
'citation()' on how to cite R or R packages in publications.
Type 'demo()' for some demos, 'help()' for on-line help, or
'help.start()' for an HTML browser interface to help.
Type 'q()' to quit R.
> library(testthat)
> library(GenomicDataCommons)
Loading required package: magrittr
Attaching package: 'magrittr'
The following objects are masked from 'package:testthat':
equals, is_less_than, not
Attaching package: 'GenomicDataCommons'
The following object is masked from 'package:stats':
filter
>
> test_check("GenomicDataCommons")
[ FAIL 0 | WARN 0 | SKIP 0 | PASS 48 ]
>
> proc.time()
user system elapsed
59.45 2.76 630.93
GenomicDataCommons.Rcheck/GenomicDataCommons-Ex.timings
| name | user | system | elapsed | |
| aggregations | 0.08 | 0.04 | 0.61 | |
| available_expand | 0.03 | 0.00 | 0.08 | |
| available_fields | 0.04 | 0.00 | 0.12 | |
| available_values | 0.06 | 0.00 | 0.52 | |
| constants | 0 | 0 | 0 | |
| count | 0.08 | 0.00 | 0.23 | |
| default_fields | 0.03 | 0.00 | 0.11 | |
| entity_name | 0.10 | 0.00 | 0.14 | |
| expand | 0.09 | 0.00 | 0.28 | |
| faceting | 0.06 | 0.00 | 0.19 | |
| field_description | 0.32 | 0.00 | 0.51 | |
| filtering | 0.79 | 0.02 | 1.71 | |
| gdc_cache | 0 | 0 | 0 | |
| gdc_client | 0.00 | 0.01 | 0.01 | |
| gdc_clinical | 0.78 | 0.02 | 1.22 | |
| gdc_token | 0 | 0 | 0 | |
| gdcdata | 0.57 | 0.05 | 1.25 | |
| grep_fields | 0.06 | 0.00 | 0.09 | |
| id_field | 0.06 | 0.00 | 0.11 | |
| ids | 0.31 | 0.00 | 0.82 | |
| legacy | 0.07 | 0.00 | 0.11 | |
| manifest | 25.84 | 0.84 | 284.87 | |
| mapping | 0.05 | 0.00 | 0.11 | |
| query | 0.13 | 0.00 | 0.18 | |
| readDNAcopy | 0.23 | 0.03 | 0.25 | |
| readHTSeqFile | 0.10 | 0.05 | 0.14 | |
| response | 0.07 | 0.00 | 0.16 | |
| results | 0.08 | 0.00 | 0.15 | |
| results_all | 0.06 | 0.01 | 0.25 | |
| select | 0.08 | 0.03 | 0.27 | |
| slicing | 0 | 0 | 0 | |
| status | 0.02 | 0.00 | 0.04 | |
| transfer | 0 | 0 | 0 | |
| write_manifest | 27.62 | 1.08 | 294.33 | |