| Back to Multiple platform build/check report for BioC 3.15 |
|
This page was generated on 2022-03-18 11:07:36 -0400 (Fri, 18 Mar 2022).
| Hostname | OS | Arch (*) | R version | Installed pkgs |
|---|---|---|---|---|
| nebbiolo1 | Linux (Ubuntu 20.04.4 LTS) | x86_64 | R Under development (unstable) (2022-02-17 r81757) -- "Unsuffered Consequences" | 4334 |
| riesling1 | Windows Server 2019 Standard | x64 | R Under development (unstable) (2021-11-21 r81221) -- "Unsuffered Consequences" | 4097 |
| palomino3 | Windows Server 2022 Datacenter | x64 | R Under development (unstable) (2022-02-17 r81757 ucrt) -- "Unsuffered Consequences" | 4083 |
| merida1 | macOS 10.14.6 Mojave | x86_64 | R Under development (unstable) (2022-03-02 r81842) -- "Unsuffered Consequences" | 4134 |
| Click on any hostname to see more info about the system (e.g. compilers) (*) as reported by 'uname -p', except on Windows and Mac OS X | ||||
|
To the developers/maintainers of the GenomeInfoDb package: - Please allow up to 24 hours (and sometimes 48 hours) for your latest push to git@git.bioconductor.org:packages/GenomeInfoDb.git to reflect on this report. See How and When does the builder pull? When will my changes propagate? here for more information. - Make sure to use the following settings in order to reproduce any error or warning you see on this page. |
| Package 747/2090 | Hostname | OS / Arch | INSTALL | BUILD | CHECK | BUILD BIN | ||||||||
| GenomeInfoDb 1.31.6 (landing page) Bioconductor Package Maintainer
| nebbiolo1 | Linux (Ubuntu 20.04.4 LTS) / x86_64 | OK | OK | OK | |||||||||
| riesling1 | Windows Server 2019 Standard / x64 | OK | OK | OK | OK | |||||||||
| palomino3 | Windows Server 2022 Datacenter / x64 | OK | OK | OK | OK | |||||||||
| merida1 | macOS 10.14.6 Mojave / x86_64 | OK | OK | OK | OK | |||||||||
| Package: GenomeInfoDb |
| Version: 1.31.6 |
| Command: D:\biocbuild\bbs-3.15-bioc\R\bin\R.exe CMD check --no-multiarch --install=check:GenomeInfoDb.install-out.txt --library=D:\biocbuild\bbs-3.15-bioc\R\library --no-vignettes --timings GenomeInfoDb_1.31.6.tar.gz |
| StartedAt: 2022-03-17 19:10:30 -0400 (Thu, 17 Mar 2022) |
| EndedAt: 2022-03-17 19:21:43 -0400 (Thu, 17 Mar 2022) |
| EllapsedTime: 673.7 seconds |
| RetCode: 0 |
| Status: OK |
| CheckDir: GenomeInfoDb.Rcheck |
| Warnings: 0 |
##############################################################################
##############################################################################
###
### Running command:
###
### D:\biocbuild\bbs-3.15-bioc\R\bin\R.exe CMD check --no-multiarch --install=check:GenomeInfoDb.install-out.txt --library=D:\biocbuild\bbs-3.15-bioc\R\library --no-vignettes --timings GenomeInfoDb_1.31.6.tar.gz
###
##############################################################################
##############################################################################
* using log directory 'D:/biocbuild/bbs-3.15-bioc/meat/GenomeInfoDb.Rcheck'
* using R Under development (unstable) (2021-11-21 r81221)
* using platform: x86_64-w64-mingw32 (64-bit)
* using session charset: ISO8859-1
* using option '--no-vignettes'
* checking for file 'GenomeInfoDb/DESCRIPTION' ... OK
* this is package 'GenomeInfoDb' version '1.31.6'
* package encoding: UTF-8
* checking package namespace information ... OK
* checking package dependencies ... OK
* checking if this is a source package ... OK
* checking if there is a namespace ... OK
* checking for hidden files and directories ... OK
* checking for portable file names ... OK
* checking whether package 'GenomeInfoDb' can be installed ... OK
* checking installed package size ... NOTE
installed size is 5.1Mb
sub-directories of 1Mb or more:
extdata 3.5Mb
* checking package directory ... OK
* checking 'build' directory ... OK
* checking DESCRIPTION meta-information ... OK
* checking top-level files ... OK
* checking for left-over files ... OK
* checking index information ... OK
* checking package subdirectories ... OK
* checking R files for non-ASCII characters ... OK
* checking R files for syntax errors ... OK
* checking whether the package can be loaded ... OK
* checking whether the package can be loaded with stated dependencies ... OK
* checking whether the package can be unloaded cleanly ... OK
* checking whether the namespace can be loaded with stated dependencies ... OK
* checking whether the namespace can be unloaded cleanly ... OK
* checking dependencies in R code ... NOTE
Unexported object imported by a ':::' call: 'utils:::.roman2numeric'
See the note in ?`:::` about the use of this operator.
* checking S3 generic/method consistency ... OK
* checking replacement functions ... OK
* checking foreign function calls ... OK
* checking R code for possible problems ... OK
* checking Rd files ... OK
* checking Rd metadata ... OK
* checking Rd cross-references ... OK
* checking for missing documentation entries ... OK
* checking for code/documentation mismatches ... OK
* checking Rd \usage sections ... OK
* checking Rd contents ... OK
* checking for unstated dependencies in examples ... OK
* checking files in 'vignettes' ... OK
* checking examples ... OK
Examples with CPU (user + system) or elapsed time > 5s
user system elapsed
loadTaxonomyDb 7.33 0.20 7.53
GenomeDescription-class 5.92 0.36 6.29
seqinfo 4.74 0.33 5.06
seqlevelsStyle 3.31 0.24 12.18
getChromInfoFromUCSC 1.92 1.06 6.53
getChromInfoFromNCBI 0.80 0.05 10.89
getChromInfoFromEnsembl 0.64 0.06 45.44
* checking for unstated dependencies in 'tests' ... OK
* checking tests ...
Running 'run_unitTests.R'
OK
* checking for unstated dependencies in vignettes ... OK
* checking package vignettes in 'inst/doc' ... OK
* checking running R code from vignettes ... SKIPPED
* checking re-building of vignette outputs ... SKIPPED
* checking PDF version of manual ... OK
* DONE
Status: 2 NOTEs
See
'D:/biocbuild/bbs-3.15-bioc/meat/GenomeInfoDb.Rcheck/00check.log'
for details.
GenomeInfoDb.Rcheck/00install.out
##############################################################################
##############################################################################
###
### Running command:
###
### D:\biocbuild\bbs-3.15-bioc\R\bin\R.exe CMD INSTALL GenomeInfoDb
###
##############################################################################
##############################################################################
* installing to library 'D:/biocbuild/bbs-3.15-bioc/R/library'
* installing *source* package 'GenomeInfoDb' ...
** using staged installation
** R
** inst
** byte-compile and prepare package for lazy loading
** help
*** installing help indices
converting help for package 'GenomeInfoDb'
finding HTML links ... done
GenomeDescription-class html
GenomeInfoDb-internals html
Seqinfo-class html
getChromInfoFromEnsembl html
getChromInfoFromNCBI html
getChromInfoFromUCSC html
loadTaxonomyDb html
mapGenomeBuilds html
rankSeqlevels html
seqinfo html
REDIRECT:topic Previous alias or file overwritten by alias: D:/biocbuild/bbs-3.15-bioc/R/library/00LOCK-GenomeInfoDb/00new/GenomeInfoDb/help/seqinfo.html
seqlevels-wrappers html
seqlevelsStyle html
** building package indices
** installing vignettes
** testing if installed package can be loaded from temporary location
** testing if installed package can be loaded from final location
** testing if installed package keeps a record of temporary installation path
* DONE (GenomeInfoDb)
Making 'packages.html' ... done
GenomeInfoDb.Rcheck/tests/run_unitTests.Rout
R Under development (unstable) (2021-11-21 r81221) -- "Unsuffered Consequences"
Copyright (C) 2021 The R Foundation for Statistical Computing
Platform: x86_64-w64-mingw32/x64 (64-bit)
R is free software and comes with ABSOLUTELY NO WARRANTY.
You are welcome to redistribute it under certain conditions.
Type 'license()' or 'licence()' for distribution details.
R is a collaborative project with many contributors.
Type 'contributors()' for more information and
'citation()' on how to cite R or R packages in publications.
Type 'demo()' for some demos, 'help()' for on-line help, or
'help.start()' for an HTML browser interface to help.
Type 'q()' to quit R.
> require("GenomeInfoDb") || stop("unable to load GenomeInfoDb package")
Loading required package: GenomeInfoDb
Loading required package: BiocGenerics
Attaching package: 'BiocGenerics'
The following objects are masked from 'package:stats':
IQR, mad, sd, var, xtabs
The following objects are masked from 'package:base':
Filter, Find, Map, Position, Reduce, anyDuplicated, append,
as.data.frame, basename, cbind, colnames, dirname, do.call,
duplicated, eval, evalq, get, grep, grepl, intersect, is.unsorted,
lapply, mapply, match, mget, order, paste, pmax, pmax.int, pmin,
pmin.int, rank, rbind, rownames, sapply, setdiff, sort, table,
tapply, union, unique, unsplit, which.max, which.min
Loading required package: S4Vectors
Loading required package: stats4
Attaching package: 'S4Vectors'
The following objects are masked from 'package:base':
I, expand.grid, unname
Loading required package: IRanges
Attaching package: 'IRanges'
The following object is masked from 'package:grDevices':
windows
[1] TRUE
> GenomeInfoDb:::.test()
RUNIT TEST PROTOCOL -- Thu Mar 17 19:21:33 2022
***********************************************
Number of test functions: 21
Number of errors: 0
Number of failures: 0
1 Test Suite :
GenomeInfoDb RUnit Tests - 21 test functions, 0 errors, 0 failures
Number of test functions: 21
Number of errors: 0
Number of failures: 0
There were 50 or more warnings (use warnings() to see the first 50)
>
> proc.time()
user system elapsed
304.45 23.32 508.75
GenomeInfoDb.Rcheck/GenomeInfoDb-Ex.timings
| name | user | system | elapsed | |
| GenomeDescription-class | 5.92 | 0.36 | 6.29 | |
| Seqinfo-class | 0.25 | 0.06 | 0.72 | |
| getChromInfoFromEnsembl | 0.64 | 0.06 | 45.44 | |
| getChromInfoFromNCBI | 0.80 | 0.05 | 10.89 | |
| getChromInfoFromUCSC | 1.92 | 1.06 | 6.53 | |
| loadTaxonomyDb | 7.33 | 0.20 | 7.53 | |
| mapGenomeBuilds | 0.03 | 0.02 | 0.05 | |
| rankSeqlevels | 0.06 | 0.03 | 0.09 | |
| seqinfo | 4.74 | 0.33 | 5.06 | |
| seqlevels-wrappers | 2.68 | 0.26 | 2.94 | |
| seqlevelsStyle | 3.31 | 0.24 | 12.18 | |