| Back to Multiple platform build/check report for BioC 3.15 |
|
This page was generated on 2022-03-18 11:07:35 -0400 (Fri, 18 Mar 2022).
| Hostname | OS | Arch (*) | R version | Installed pkgs |
|---|---|---|---|---|
| nebbiolo1 | Linux (Ubuntu 20.04.4 LTS) | x86_64 | R Under development (unstable) (2022-02-17 r81757) -- "Unsuffered Consequences" | 4334 |
| riesling1 | Windows Server 2019 Standard | x64 | R Under development (unstable) (2021-11-21 r81221) -- "Unsuffered Consequences" | 4097 |
| palomino3 | Windows Server 2022 Datacenter | x64 | R Under development (unstable) (2022-02-17 r81757 ucrt) -- "Unsuffered Consequences" | 4083 |
| merida1 | macOS 10.14.6 Mojave | x86_64 | R Under development (unstable) (2022-03-02 r81842) -- "Unsuffered Consequences" | 4134 |
| Click on any hostname to see more info about the system (e.g. compilers) (*) as reported by 'uname -p', except on Windows and Mac OS X | ||||
|
To the developers/maintainers of the GeneAccord package: - Please allow up to 24 hours (and sometimes 48 hours) for your latest push to git@git.bioconductor.org:packages/GeneAccord.git to reflect on this report. See How and When does the builder pull? When will my changes propagate? here for more information. - Make sure to use the following settings in order to reproduce any error or warning you see on this page. |
| Package 719/2090 | Hostname | OS / Arch | INSTALL | BUILD | CHECK | BUILD BIN | ||||||||
| GeneAccord 1.13.0 (landing page) Ariane L. Moore
| nebbiolo1 | Linux (Ubuntu 20.04.4 LTS) / x86_64 | OK | OK | OK | |||||||||
| riesling1 | Windows Server 2019 Standard / x64 | OK | OK | OK | OK | |||||||||
| palomino3 | Windows Server 2022 Datacenter / x64 | OK | OK | OK | OK | |||||||||
| merida1 | macOS 10.14.6 Mojave / x86_64 | OK | OK | OK | OK | |||||||||
| Package: GeneAccord |
| Version: 1.13.0 |
| Command: D:\biocbuild\bbs-3.15-bioc\R\bin\R.exe CMD check --no-multiarch --install=check:GeneAccord.install-out.txt --library=D:\biocbuild\bbs-3.15-bioc\R\library --no-vignettes --timings GeneAccord_1.13.0.tar.gz |
| StartedAt: 2022-03-17 19:09:17 -0400 (Thu, 17 Mar 2022) |
| EndedAt: 2022-03-17 19:11:41 -0400 (Thu, 17 Mar 2022) |
| EllapsedTime: 143.6 seconds |
| RetCode: 0 |
| Status: OK |
| CheckDir: GeneAccord.Rcheck |
| Warnings: 0 |
##############################################################################
##############################################################################
###
### Running command:
###
### D:\biocbuild\bbs-3.15-bioc\R\bin\R.exe CMD check --no-multiarch --install=check:GeneAccord.install-out.txt --library=D:\biocbuild\bbs-3.15-bioc\R\library --no-vignettes --timings GeneAccord_1.13.0.tar.gz
###
##############################################################################
##############################################################################
* using log directory 'D:/biocbuild/bbs-3.15-bioc/meat/GeneAccord.Rcheck'
* using R Under development (unstable) (2021-11-21 r81221)
* using platform: x86_64-w64-mingw32 (64-bit)
* using session charset: ISO8859-1
* using option '--no-vignettes'
* checking for file 'GeneAccord/DESCRIPTION' ... OK
* checking extension type ... Package
* this is package 'GeneAccord' version '1.13.0'
* package encoding: UTF-8
* checking package namespace information ... OK
* checking package dependencies ... OK
* checking if this is a source package ... OK
* checking if there is a namespace ... OK
* checking for hidden files and directories ... OK
* checking for portable file names ... OK
* checking whether package 'GeneAccord' can be installed ... OK
* checking installed package size ... NOTE
installed size is 5.7Mb
sub-directories of 1Mb or more:
data 3.0Mb
extdata 2.1Mb
* checking package directory ... OK
* checking 'build' directory ... OK
* checking DESCRIPTION meta-information ... OK
* checking top-level files ... OK
* checking for left-over files ... OK
* checking index information ... OK
* checking package subdirectories ... OK
* checking R files for non-ASCII characters ... OK
* checking R files for syntax errors ... OK
* checking whether the package can be loaded ... OK
* checking whether the package can be loaded with stated dependencies ... OK
* checking whether the package can be unloaded cleanly ... OK
* checking whether the namespace can be loaded with stated dependencies ... OK
* checking whether the namespace can be unloaded cleanly ... OK
* checking dependencies in R code ... OK
* checking S3 generic/method consistency ... OK
* checking replacement functions ... OK
* checking foreign function calls ... OK
* checking R code for possible problems ... OK
* checking Rd files ... OK
* checking Rd metadata ... OK
* checking Rd cross-references ... OK
* checking for missing documentation entries ... OK
* checking for code/documentation mismatches ... OK
* checking Rd \usage sections ... OK
* checking Rd contents ... OK
* checking for unstated dependencies in examples ... OK
* checking contents of 'data' directory ... OK
* checking data for non-ASCII characters ... OK
* checking LazyData ... OK
* checking data for ASCII and uncompressed saves ... OK
* checking files in 'vignettes' ... OK
* checking examples ... OK
* checking for unstated dependencies in 'tests' ... OK
* checking tests ...
Running 'testthat.R'
OK
* checking for unstated dependencies in vignettes ... OK
* checking package vignettes in 'inst/doc' ... OK
* checking running R code from vignettes ... SKIPPED
* checking re-building of vignette outputs ... SKIPPED
* checking PDF version of manual ... OK
* DONE
Status: 1 NOTE
See
'D:/biocbuild/bbs-3.15-bioc/meat/GeneAccord.Rcheck/00check.log'
for details.
GeneAccord.Rcheck/00install.out
##############################################################################
##############################################################################
###
### Running command:
###
### D:\biocbuild\bbs-3.15-bioc\R\bin\R.exe CMD INSTALL GeneAccord
###
##############################################################################
##############################################################################
* installing to library 'D:/biocbuild/bbs-3.15-bioc/R/library'
* installing *source* package 'GeneAccord' ...
** using staged installation
** R
** data
*** moving datasets to lazyload DB
** inst
** byte-compile and prepare package for lazy loading
** help
*** installing help indices
converting help for package 'GeneAccord'
finding HTML links ... done
GeneAccord html
all_genes_tbl html
avg_rates_m html
build_null_test_statistic html
clone_tbl_all_pats_all_trees html
compute_rates_clon_excl html
compute_test_stat_avg_rate html
convert_ensembl_to_reactome_pw_tbl html
create_ensembl_gene_tbl_hg html
create_tbl_ent_clones html
create_tbl_tree_collection html
ecdf_list html
ecdf_lr_test_clon_excl_avg_rate html
ensembl_to_hgnc html
ensembl_to_reactome html
ensg_reactome_path_map html
ensmusg_reactome_path_map html
extract_num_clones_tbl html
generate_ecdf_test_stat html
generate_test_stat_hist html
get_hist_clon_excl html
get_hist_clon_excl_this_pat_this_pair html
get_rate_diff_branch_ent_pair html
heatmap_clones_gene_pat html
hgnc_to_ensembl html
is_diff_branch_ent_pair html
list_of_clon_excl_all_pats html
list_of_num_trees_all_pats html
map_pairs_to_hgnc_symbols html
merge_clones_identical_ents html
pairs_in_patients_hist html
plot_ecdf_test_stat html
plot_rates_clon_excl html
take_pairs_and_get_patients html
vis_pval_distr_num_pat html
write_res_pairs_to_disk html
** building package indices
** installing vignettes
** testing if installed package can be loaded from temporary location
** testing if installed package can be loaded from final location
** testing if installed package keeps a record of temporary installation path
* DONE (GeneAccord)
Making 'packages.html' ... done
GeneAccord.Rcheck/tests/testthat.Rout
R Under development (unstable) (2021-11-21 r81221) -- "Unsuffered Consequences"
Copyright (C) 2021 The R Foundation for Statistical Computing
Platform: x86_64-w64-mingw32/x64 (64-bit)
R is free software and comes with ABSOLUTELY NO WARRANTY.
You are welcome to redistribute it under certain conditions.
Type 'license()' or 'licence()' for distribution details.
R is a collaborative project with many contributors.
Type 'contributors()' for more information and
'citation()' on how to cite R or R packages in publications.
Type 'demo()' for some demos, 'help()' for on-line help, or
'help.start()' for an HTML browser interface to help.
Type 'q()' to quit R.
> library("testthat")
> library("assertthat")
>
> library("GeneAccord")
> # "When R CMD check runs tests, it sets R_TESTS. When the tests
> # themeselves run R CMD xxxx, as is the case with the tests in
> # devtools, having R_TESTS set causes errors because it confuses
> # the R subprocesses. Unsetting it here avoids those problems.
> #"R_TESTS" = "" "
> Sys.setenv("R_TESTS" = "")
>
> test_check("GeneAccord")
[ FAIL 0 | WARN 1 | SKIP 15 | PASS 27 ]
== Skipped tests ===============================================================
* empty test (15)
[ FAIL 0 | WARN 1 | SKIP 15 | PASS 27 ]
>
>
> proc.time()
user system elapsed
17.25 0.57 17.89
GeneAccord.Rcheck/GeneAccord-Ex.timings
| name | user | system | elapsed | |
| GeneAccord | 4.40 | 0.16 | 4.56 | |
| build_null_test_statistic | 1.19 | 0.06 | 1.25 | |
| compute_rates_clon_excl | 0.48 | 0.00 | 0.48 | |
| compute_test_stat_avg_rate | 0.02 | 0.00 | 0.02 | |
| convert_ensembl_to_reactome_pw_tbl | 0.48 | 0.02 | 0.50 | |
| create_ensembl_gene_tbl_hg | 0 | 0 | 0 | |
| create_tbl_ent_clones | 0.03 | 0.00 | 0.03 | |
| create_tbl_tree_collection | 0.29 | 0.00 | 0.28 | |
| ecdf_lr_test_clon_excl_avg_rate | 1.03 | 0.00 | 1.17 | |
| ensembl_to_hgnc | 0 | 0 | 0 | |
| ensembl_to_reactome | 0.01 | 0.01 | 0.03 | |
| extract_num_clones_tbl | 0.03 | 0.00 | 0.04 | |
| generate_ecdf_test_stat | 0.69 | 0.00 | 0.68 | |
| generate_test_stat_hist | 0.88 | 0.00 | 0.88 | |
| get_hist_clon_excl | 1.14 | 0.00 | 1.14 | |
| get_hist_clon_excl_this_pat_this_pair | 0.03 | 0.00 | 0.03 | |
| get_rate_diff_branch_ent_pair | 0.62 | 0.00 | 0.62 | |
| heatmap_clones_gene_pat | 0.46 | 0.03 | 0.49 | |
| hgnc_to_ensembl | 0 | 0 | 0 | |
| is_diff_branch_ent_pair | 0.01 | 0.00 | 0.01 | |
| map_pairs_to_hgnc_symbols | 0 | 0 | 0 | |
| merge_clones_identical_ents | 0.06 | 0.00 | 0.07 | |
| pairs_in_patients_hist | 0.05 | 0.00 | 0.04 | |
| plot_ecdf_test_stat | 0.14 | 0.00 | 0.14 | |
| plot_rates_clon_excl | 0.16 | 0.00 | 0.16 | |
| take_pairs_and_get_patients | 0.32 | 0.00 | 0.31 | |
| vis_pval_distr_num_pat | 0.03 | 0.00 | 0.03 | |
| write_res_pairs_to_disk | 0 | 0 | 0 | |