| Back to Multiple platform build/check report for BioC 3.15 |
|
This page was generated on 2022-10-19 13:20:13 -0400 (Wed, 19 Oct 2022).
| Hostname | OS | Arch (*) | R version | Installed pkgs |
|---|---|---|---|---|
| nebbiolo1 | Linux (Ubuntu 20.04.5 LTS) | x86_64 | 4.2.1 (2022-06-23) -- "Funny-Looking Kid" | 4386 |
| palomino3 | Windows Server 2022 Datacenter | x64 | 4.2.1 (2022-06-23 ucrt) -- "Funny-Looking Kid" | 4138 |
| merida1 | macOS 10.14.6 Mojave | x86_64 | 4.2.1 (2022-06-23) -- "Funny-Looking Kid" | 4205 |
| Click on any hostname to see more info about the system (e.g. compilers) (*) as reported by 'uname -p', except on Windows and Mac OS X | ||||
|
To the developers/maintainers of the Dune package: - Please allow up to 24 hours (and sometimes 48 hours) for your latest push to git@git.bioconductor.org:packages/Dune.git to reflect on this report. See How and When does the builder pull? When will my changes propagate? for more information. - Make sure to use the following settings in order to reproduce any error or warning you see on this page. |
| Package 570/2140 | Hostname | OS / Arch | INSTALL | BUILD | CHECK | BUILD BIN | ||||||||
| Dune 1.8.0 (landing page) Hector Roux de Bezieux
| nebbiolo1 | Linux (Ubuntu 20.04.5 LTS) / x86_64 | OK | OK | OK | |||||||||
| palomino3 | Windows Server 2022 Datacenter / x64 | OK | OK | OK | OK | |||||||||
| merida1 | macOS 10.14.6 Mojave / x86_64 | OK | OK | OK | OK | |||||||||
| Package: Dune |
| Version: 1.8.0 |
| Command: /home/biocbuild/bbs-3.15-bioc/R/bin/R CMD check --install=check:Dune.install-out.txt --library=/home/biocbuild/bbs-3.15-bioc/R/library --no-vignettes --timings Dune_1.8.0.tar.gz |
| StartedAt: 2022-10-18 19:33:00 -0400 (Tue, 18 Oct 2022) |
| EndedAt: 2022-10-18 19:37:07 -0400 (Tue, 18 Oct 2022) |
| EllapsedTime: 246.7 seconds |
| RetCode: 0 |
| Status: OK |
| CheckDir: Dune.Rcheck |
| Warnings: 0 |
##############################################################################
##############################################################################
###
### Running command:
###
### /home/biocbuild/bbs-3.15-bioc/R/bin/R CMD check --install=check:Dune.install-out.txt --library=/home/biocbuild/bbs-3.15-bioc/R/library --no-vignettes --timings Dune_1.8.0.tar.gz
###
##############################################################################
##############################################################################
* using log directory ‘/home/biocbuild/bbs-3.15-bioc/meat/Dune.Rcheck’
* using R version 4.2.1 (2022-06-23)
* using platform: x86_64-pc-linux-gnu (64-bit)
* using session charset: UTF-8
* using option ‘--no-vignettes’
* checking for file ‘Dune/DESCRIPTION’ ... OK
* this is package ‘Dune’ version ‘1.8.0’
* package encoding: UTF-8
* checking package namespace information ... OK
* checking package dependencies ... OK
* checking if this is a source package ... OK
* checking if there is a namespace ... OK
* checking for hidden files and directories ... OK
* checking for portable file names ... OK
* checking for sufficient/correct file permissions ... OK
* checking whether package ‘Dune’ can be installed ... OK
* checking installed package size ... OK
* checking package directory ... OK
* checking ‘build’ directory ... OK
* checking DESCRIPTION meta-information ... OK
* checking top-level files ... OK
* checking for left-over files ... OK
* checking index information ... OK
* checking package subdirectories ... OK
* checking R files for non-ASCII characters ... OK
* checking R files for syntax errors ... OK
* checking whether the package can be loaded ... OK
* checking whether the package can be loaded with stated dependencies ... OK
* checking whether the package can be unloaded cleanly ... OK
* checking whether the namespace can be loaded with stated dependencies ... OK
* checking whether the namespace can be unloaded cleanly ... OK
* checking dependencies in R code ... NOTE
package 'methods' is used but not declared
* checking S3 generic/method consistency ... OK
* checking replacement functions ... OK
* checking foreign function calls ... OK
* checking R code for possible problems ... NOTE
.metricTrend: no visible binding for global variable ‘.’
.metricTrend: no visible binding for global variable ‘step’
.metricTrend: no visible binding for global variable ‘change’
.metricTrend: no visible binding for global variable ‘value’
.plotMetric: no visible binding for global variable ‘label2’
.plotMetric: no visible binding for global variable ‘metric’
.plotMetric: no visible binding for global variable ‘label1’
ARIImp : f: no visible binding for global variable ‘cells’
ConfusionEvolution : <anonymous>: no visible binding for global
variable ‘Freq’
ConfusionEvolution : <anonymous>: no visible binding for global
variable ‘total_x’
ConfusionEvolution : <anonymous>: no visible binding for global
variable ‘total_y’
ConfusionEvolution: no visible binding for global variable ‘overlap’
ConfusionEvolution: no visible binding for global variable ‘Freq’
ConfusionEvolution: no visible binding for global variable ‘step’
ConfusionPlot: no visible binding for global variable ‘Freq’
ConfusionPlot: no visible binding for global variable ‘total_x’
ConfusionPlot: no visible binding for global variable ‘total_y’
ConfusionPlot: no visible binding for global variable ‘overlap’
NMIImp : f: no visible binding for global variable ‘cells’
intermediateMat: no visible binding for global variable ‘cells’
plotPrePost: no visible binding for global variable ‘Nb’
Undefined global functions or variables:
. Freq Nb cells change label1 label2 metric overlap step total_x
total_y value
Consider adding
importFrom("stats", "step")
to your NAMESPACE file.
* checking Rd files ... OK
* checking Rd metadata ... OK
* checking Rd cross-references ... OK
* checking for missing documentation entries ... OK
* checking for code/documentation mismatches ... OK
* checking Rd \usage sections ... OK
* checking Rd contents ... OK
* checking for unstated dependencies in examples ... OK
* checking contents of ‘data’ directory ... OK
* checking data for non-ASCII characters ... OK
* checking LazyData ... OK
* checking data for ASCII and uncompressed saves ... OK
* checking files in ‘vignettes’ ... OK
* checking examples ... OK
Examples with CPU (user + system) or elapsed time > 5s
user system elapsed
Dune 5.614 0.067 5.681
* checking for unstated dependencies in ‘tests’ ... OK
* checking tests ...
Running ‘testthat.R’
OK
* checking for unstated dependencies in vignettes ... OK
* checking package vignettes in ‘inst/doc’ ... OK
* checking running R code from vignettes ... SKIPPED
* checking re-building of vignette outputs ... SKIPPED
* checking PDF version of manual ... OK
* DONE
Status: 2 NOTEs
See
‘/home/biocbuild/bbs-3.15-bioc/meat/Dune.Rcheck/00check.log’
for details.
Dune.Rcheck/00install.out
############################################################################## ############################################################################## ### ### Running command: ### ### /home/biocbuild/bbs-3.15-bioc/R/bin/R CMD INSTALL Dune ### ############################################################################## ############################################################################## * installing to library ‘/home/biocbuild/bbs-3.15-bioc/R/library’ * installing *source* package ‘Dune’ ... ** using staged installation ** R ** data *** moving datasets to lazyload DB ** inst ** byte-compile and prepare package for lazy loading ** help *** installing help indices ** building package indices ** installing vignettes ** testing if installed package can be loaded from temporary location ** testing if installed package can be loaded from final location ** testing if installed package keeps a record of temporary installation path * DONE (Dune)
Dune.Rcheck/tests/testthat.Rout
R version 4.2.1 (2022-06-23) -- "Funny-Looking Kid"
Copyright (C) 2022 The R Foundation for Statistical Computing
Platform: x86_64-pc-linux-gnu (64-bit)
R is free software and comes with ABSOLUTELY NO WARRANTY.
You are welcome to redistribute it under certain conditions.
Type 'license()' or 'licence()' for distribution details.
R is a collaborative project with many contributors.
Type 'contributors()' for more information and
'citation()' on how to cite R or R packages in publications.
Type 'demo()' for some demos, 'help()' for on-line help, or
'help.start()' for an HTML browser interface to help.
Type 'q()' to quit R.
> library(testthat)
> library(Dune)
Dune now uses the Normalized Mutual Informationinstead of the adjusted Rand Index. You can restore the old option bysetting metric'ARI' in the Dune function.
>
> test_check("Dune")
[ FAIL 0 | WARN 6 | SKIP 0 | PASS 452 ]
[ FAIL 0 | WARN 6 | SKIP 0 | PASS 452 ]
>
> proc.time()
user system elapsed
65.453 0.982 66.422
Dune.Rcheck/Dune-Ex.timings
| name | user | system | elapsed | |
| ARIImp | 3.307 | 0.132 | 3.439 | |
| ARIs | 0.001 | 0.004 | 0.005 | |
| ARItrend | 3.695 | 0.032 | 3.728 | |
| ConfusionEvolution | 0.001 | 0.000 | 0.000 | |
| ConfusionPlot | 0.319 | 0.000 | 0.320 | |
| Dune | 5.614 | 0.067 | 5.681 | |
| NMIImp | 3.111 | 0.024 | 3.135 | |
| NMIs | 0.006 | 0.000 | 0.006 | |
| NMItrend | 3.360 | 0.028 | 3.388 | |
| clusterConversion | 3.019 | 0.004 | 3.024 | |
| functionTracking | 3.320 | 0.012 | 3.332 | |
| intermediateMat | 3.045 | 0.016 | 3.060 | |
| plotARIs | 3.255 | 0.040 | 3.295 | |
| plotNMIs | 3.269 | 0.024 | 3.293 | |
| plotPrePost | 3.551 | 0.056 | 3.608 | |
| whenToStop | 2.754 | 0.024 | 2.778 | |