| Back to Multiple platform build/check report for BioC 3.15 |
|
This page was generated on 2022-03-18 11:07:23 -0400 (Fri, 18 Mar 2022).
| Hostname | OS | Arch (*) | R version | Installed pkgs |
|---|---|---|---|---|
| nebbiolo1 | Linux (Ubuntu 20.04.4 LTS) | x86_64 | R Under development (unstable) (2022-02-17 r81757) -- "Unsuffered Consequences" | 4334 |
| riesling1 | Windows Server 2019 Standard | x64 | R Under development (unstable) (2021-11-21 r81221) -- "Unsuffered Consequences" | 4097 |
| palomino3 | Windows Server 2022 Datacenter | x64 | R Under development (unstable) (2022-02-17 r81757 ucrt) -- "Unsuffered Consequences" | 4083 |
| merida1 | macOS 10.14.6 Mojave | x86_64 | R Under development (unstable) (2022-03-02 r81842) -- "Unsuffered Consequences" | 4134 |
| Click on any hostname to see more info about the system (e.g. compilers) (*) as reported by 'uname -p', except on Windows and Mac OS X | ||||
|
To the developers/maintainers of the Dino package: - Please allow up to 24 hours (and sometimes 48 hours) for your latest push to git@git.bioconductor.org:packages/Dino.git to reflect on this report. See How and When does the builder pull? When will my changes propagate? here for more information. - Make sure to use the following settings in order to reproduce any error or warning you see on this page. |
| Package 519/2090 | Hostname | OS / Arch | INSTALL | BUILD | CHECK | BUILD BIN | ||||||||
| Dino 1.1.0 (landing page) Jared Brown
| nebbiolo1 | Linux (Ubuntu 20.04.4 LTS) / x86_64 | OK | OK | OK | |||||||||
| riesling1 | Windows Server 2019 Standard / x64 | OK | OK | OK | OK | |||||||||
| palomino3 | Windows Server 2022 Datacenter / x64 | OK | OK | OK | OK | |||||||||
| merida1 | macOS 10.14.6 Mojave / x86_64 | OK | OK | OK | OK | |||||||||
| Package: Dino |
| Version: 1.1.0 |
| Command: D:\biocbuild\bbs-3.15-bioc\R\bin\R.exe CMD check --no-multiarch --install=check:Dino.install-out.txt --library=D:\biocbuild\bbs-3.15-bioc\R\library --no-vignettes --timings Dino_1.1.0.tar.gz |
| StartedAt: 2022-03-17 18:56:54 -0400 (Thu, 17 Mar 2022) |
| EndedAt: 2022-03-17 19:04:10 -0400 (Thu, 17 Mar 2022) |
| EllapsedTime: 435.7 seconds |
| RetCode: 0 |
| Status: OK |
| CheckDir: Dino.Rcheck |
| Warnings: 0 |
##############################################################################
##############################################################################
###
### Running command:
###
### D:\biocbuild\bbs-3.15-bioc\R\bin\R.exe CMD check --no-multiarch --install=check:Dino.install-out.txt --library=D:\biocbuild\bbs-3.15-bioc\R\library --no-vignettes --timings Dino_1.1.0.tar.gz
###
##############################################################################
##############################################################################
* using log directory 'D:/biocbuild/bbs-3.15-bioc/meat/Dino.Rcheck'
* using R Under development (unstable) (2021-11-21 r81221)
* using platform: x86_64-w64-mingw32 (64-bit)
* using session charset: ISO8859-1
* using option '--no-vignettes'
* checking for file 'Dino/DESCRIPTION' ... OK
* checking extension type ... Package
* this is package 'Dino' version '1.1.0'
* package encoding: UTF-8
* checking package namespace information ... OK
* checking package dependencies ... OK
* checking if this is a source package ... OK
* checking if there is a namespace ... OK
* checking for hidden files and directories ... OK
* checking for portable file names ... OK
* checking whether package 'Dino' can be installed ... OK
* checking installed package size ... OK
* checking package directory ... OK
* checking 'build' directory ... OK
* checking DESCRIPTION meta-information ... OK
* checking top-level files ... OK
* checking for left-over files ... OK
* checking index information ... OK
* checking package subdirectories ... OK
* checking R files for non-ASCII characters ... OK
* checking R files for syntax errors ... OK
* checking whether the package can be loaded ... OK
* checking whether the package can be loaded with stated dependencies ... OK
* checking whether the package can be unloaded cleanly ... OK
* checking whether the namespace can be loaded with stated dependencies ... OK
* checking whether the namespace can be unloaded cleanly ... OK
* checking dependencies in R code ... OK
* checking S3 generic/method consistency ... OK
* checking replacement functions ... OK
* checking foreign function calls ... OK
* checking R code for possible problems ... OK
* checking Rd files ... OK
* checking Rd metadata ... OK
* checking Rd cross-references ... OK
* checking for missing documentation entries ... OK
* checking for code/documentation mismatches ... OK
* checking Rd \usage sections ... OK
* checking Rd contents ... OK
* checking for unstated dependencies in examples ... OK
* checking contents of 'data' directory ... OK
* checking data for non-ASCII characters ... OK
* checking data for ASCII and uncompressed saves ... OK
* checking files in 'vignettes' ... OK
* checking examples ... OK
Examples with CPU (user + system) or elapsed time > 5s
user system elapsed
Dino 2.34 0.03 40.67
Dino_SCE 2.22 0.08 42.17
SeuratFromDino 1.65 0.03 43.94
* checking for unstated dependencies in 'tests' ... OK
* checking tests ...
Running 'testthat.R'
OK
* checking for unstated dependencies in vignettes ... OK
* checking package vignettes in 'inst/doc' ... OK
* checking running R code from vignettes ... SKIPPED
* checking re-building of vignette outputs ... SKIPPED
* checking PDF version of manual ... OK
* DONE
Status: OK
Dino.Rcheck/00install.out
##############################################################################
##############################################################################
###
### Running command:
###
### D:\biocbuild\bbs-3.15-bioc\R\bin\R.exe CMD INSTALL Dino
###
##############################################################################
##############################################################################
* installing to library 'D:/biocbuild/bbs-3.15-bioc/R/library'
* installing *source* package 'Dino' ...
** using staged installation
** R
** data
** inst
** byte-compile and prepare package for lazy loading
** help
*** installing help indices
converting help for package 'Dino'
finding HTML links ... done
Dino html
Dino_SCE html
SeuratFromDino html
multimodalDat html
pbmcSmall html
unimodalDat html
** building package indices
** installing vignettes
** testing if installed package can be loaded from temporary location
** testing if installed package can be loaded from final location
** testing if installed package keeps a record of temporary installation path
* DONE (Dino)
Making 'packages.html' ... done
Dino.Rcheck/tests/testthat.Rout
R Under development (unstable) (2021-11-21 r81221) -- "Unsuffered Consequences"
Copyright (C) 2021 The R Foundation for Statistical Computing
Platform: x86_64-w64-mingw32/x64 (64-bit)
R is free software and comes with ABSOLUTELY NO WARRANTY.
You are welcome to redistribute it under certain conditions.
Type 'license()' or 'licence()' for distribution details.
R is a collaborative project with many contributors.
Type 'contributors()' for more information and
'citation()' on how to cite R or R packages in publications.
Type 'demo()' for some demos, 'help()' for on-line help, or
'help.start()' for an HTML browser interface to help.
Type 'q()' to quit R.
> library(testthat)
> library(Dino)
>
> test_check("Dino")
|
| | 0%
|
|=========== | 16%
|
|====================== | 32%
|
|================================== | 48%
|
|============================================= | 64%
|
|======================================================== | 80%
|
|=========================================================== | 84%
|
|======================================================================| 100%
|
| | 0%
|
|=========== | 16%
|
|====================== | 32%
|
|================================== | 48%
|
|============================================= | 64%
|
|======================================================== | 80%
|
|=========================================================== | 84%
|
|======================================================================| 100%
|
| | 0%
|
|=========== | 16%
|
|====================== | 32%
|
|================================== | 48%
|
|============================================= | 64%
|
|======================================================== | 80%
|
|=========================================================== | 84%
|
|======================================================================| 100%
|
| | 0%
|
|=========== | 16%
|
|====================== | 32%
|
|================================== | 48%
|
|============================================= | 64%
|
|======================================================== | 80%
|
|=========================================================== | 84%
|
|======================================================================| 100%
[ FAIL 0 | WARN 1 | SKIP 0 | PASS 9 ]
[ FAIL 0 | WARN 1 | SKIP 0 | PASS 9 ]
>
> proc.time()
user system elapsed
15.00 1.00 99.84
Dino.Rcheck/Dino-Ex.timings
| name | user | system | elapsed | |
| Dino | 2.34 | 0.03 | 40.67 | |
| Dino_SCE | 2.22 | 0.08 | 42.17 | |
| SeuratFromDino | 1.65 | 0.03 | 43.94 | |
| multimodalDat | 0.05 | 0.00 | 0.04 | |
| pbmcSmall | 0.05 | 0.02 | 0.07 | |
| unimodalDat | 0.02 | 0.00 | 0.02 | |