| Back to Multiple platform build/check report for BioC 3.15 |
|
This page was generated on 2022-10-19 13:22:51 -0400 (Wed, 19 Oct 2022).
| Hostname | OS | Arch (*) | R version | Installed pkgs |
|---|---|---|---|---|
| nebbiolo1 | Linux (Ubuntu 20.04.5 LTS) | x86_64 | 4.2.1 (2022-06-23) -- "Funny-Looking Kid" | 4386 |
| palomino3 | Windows Server 2022 Datacenter | x64 | 4.2.1 (2022-06-23 ucrt) -- "Funny-Looking Kid" | 4138 |
| merida1 | macOS 10.14.6 Mojave | x86_64 | 4.2.1 (2022-06-23) -- "Funny-Looking Kid" | 4205 |
| Click on any hostname to see more info about the system (e.g. compilers) (*) as reported by 'uname -p', except on Windows and Mac OS X | ||||
|
To the developers/maintainers of the DMRcate package: - Please allow up to 24 hours (and sometimes 48 hours) for your latest push to git@git.bioconductor.org:packages/DMRcate.git to reflect on this report. See How and When does the builder pull? When will my changes propagate? for more information. - Make sure to use the following settings in order to reproduce any error or warning you see on this page. |
| Package 547/2140 | Hostname | OS / Arch | INSTALL | BUILD | CHECK | BUILD BIN | ||||||||
| DMRcate 2.10.0 (landing page) Tim Peters
| nebbiolo1 | Linux (Ubuntu 20.04.5 LTS) / x86_64 | OK | OK | OK | |||||||||
| palomino3 | Windows Server 2022 Datacenter / x64 | OK | OK | OK | OK | |||||||||
| merida1 | macOS 10.14.6 Mojave / x86_64 | OK | OK | OK | OK | |||||||||
| Package: DMRcate |
| Version: 2.10.0 |
| Command: /Library/Frameworks/R.framework/Resources/bin/R CMD check --install=check:DMRcate.install-out.txt --library=/Library/Frameworks/R.framework/Resources/library --no-vignettes --timings DMRcate_2.10.0.tar.gz |
| StartedAt: 2022-10-19 01:47:21 -0400 (Wed, 19 Oct 2022) |
| EndedAt: 2022-10-19 02:25:08 -0400 (Wed, 19 Oct 2022) |
| EllapsedTime: 2266.6 seconds |
| RetCode: 0 |
| Status: OK |
| CheckDir: DMRcate.Rcheck |
| Warnings: 0 |
##############################################################################
##############################################################################
###
### Running command:
###
### /Library/Frameworks/R.framework/Resources/bin/R CMD check --install=check:DMRcate.install-out.txt --library=/Library/Frameworks/R.framework/Resources/library --no-vignettes --timings DMRcate_2.10.0.tar.gz
###
##############################################################################
##############################################################################
* using log directory ‘/Users/biocbuild/bbs-3.15-bioc/meat/DMRcate.Rcheck’
* using R version 4.2.1 (2022-06-23)
* using platform: x86_64-apple-darwin17.0 (64-bit)
* using session charset: UTF-8
* using option ‘--no-vignettes’
* checking for file ‘DMRcate/DESCRIPTION’ ... OK
* this is package ‘DMRcate’ version ‘2.10.0’
* checking package namespace information ... OK
* checking package dependencies ... OK
* checking if this is a source package ... OK
* checking if there is a namespace ... OK
* checking for hidden files and directories ... OK
* checking for portable file names ... OK
* checking for sufficient/correct file permissions ... OK
* checking whether package ‘DMRcate’ can be installed ... OK
* checking installed package size ... OK
* checking package directory ... OK
* checking ‘build’ directory ... OK
* checking DESCRIPTION meta-information ... OK
* checking top-level files ... OK
* checking for left-over files ... OK
* checking index information ... OK
* checking package subdirectories ... OK
* checking R files for non-ASCII characters ... OK
* checking R files for syntax errors ... OK
* checking whether the package can be loaded ... OK
* checking whether the package can be loaded with stated dependencies ... OK
* checking whether the package can be unloaded cleanly ... OK
* checking whether the namespace can be loaded with stated dependencies ... OK
* checking whether the namespace can be unloaded cleanly ... OK
* checking dependencies in R code ... OK
* checking S3 generic/method consistency ... OK
* checking replacement functions ... OK
* checking foreign function calls ... OK
* checking R code for possible problems ... OK
* checking Rd files ... OK
* checking Rd metadata ... OK
* checking Rd cross-references ... OK
* checking for missing documentation entries ... OK
* checking for code/documentation mismatches ... OK
* checking Rd \usage sections ... OK
* checking Rd contents ... OK
* checking for unstated dependencies in examples ... OK
* checking sizes of PDF files under ‘inst/doc’ ... OK
* checking files in ‘vignettes’ ... OK
* checking examples ... OK
Examples with CPU (user + system) or elapsed time > 5s
user system elapsed
DMR.plot 292.533 13.494 312.288
DMRcate-package 241.867 9.116 252.938
extractRanges 199.974 9.234 210.797
cpg.annotate 196.966 12.198 210.386
rmSNPandCH 197.403 10.408 209.197
dmrcate 193.703 9.992 204.969
sequencing.annotate 97.219 8.780 107.011
changeFDR 96.267 8.118 105.549
* checking for unstated dependencies in vignettes ... OK
* checking package vignettes in ‘inst/doc’ ... OK
* checking running R code from vignettes ... SKIPPED
* checking re-building of vignette outputs ... SKIPPED
* checking PDF version of manual ... OK
* DONE
Status: OK
DMRcate.Rcheck/00install.out
############################################################################## ############################################################################## ### ### Running command: ### ### /Library/Frameworks/R.framework/Resources/bin/R CMD INSTALL DMRcate ### ############################################################################## ############################################################################## * installing to library ‘/Library/Frameworks/R.framework/Versions/4.2/Resources/library’ * installing *source* package ‘DMRcate’ ... ** using staged installation ** R ** inst ** byte-compile and prepare package for lazy loading Warning: replacing previous import 'matrixStats::rowMedians' by 'Biobase::rowMedians' when loading 'DSS' Warning: replacing previous import 'matrixStats::anyMissing' by 'Biobase::anyMissing' when loading 'DSS' ** help *** installing help indices ** building package indices ** installing vignettes ** testing if installed package can be loaded from temporary location Warning: replacing previous import 'matrixStats::rowMedians' by 'Biobase::rowMedians' when loading 'DSS' Warning: replacing previous import 'matrixStats::anyMissing' by 'Biobase::anyMissing' when loading 'DSS' ** testing if installed package can be loaded from final location Warning: replacing previous import 'matrixStats::rowMedians' by 'Biobase::rowMedians' when loading 'DSS' Warning: replacing previous import 'matrixStats::anyMissing' by 'Biobase::anyMissing' when loading 'DSS' ** testing if installed package keeps a record of temporary installation path * DONE (DMRcate)
DMRcate.Rcheck/DMRcate-Ex.timings
| name | user | system | elapsed | |
| DMR.plot | 292.533 | 13.494 | 312.288 | |
| DMRcate-package | 241.867 | 9.116 | 252.938 | |
| changeFDR | 96.267 | 8.118 | 105.549 | |
| cpg.annotate | 196.966 | 12.198 | 210.386 | |
| dmrcate | 193.703 | 9.992 | 204.969 | |
| extractRanges | 199.974 | 9.234 | 210.797 | |
| rmSNPandCH | 197.403 | 10.408 | 209.197 | |
| sequencing.annotate | 97.219 | 8.780 | 107.011 | |